{"text_format":"1","workbook":"xlsx","n_sheets":11,"sheets":["Start_alt","Om ROS","Risikoanalyse","Matrise","Verdivurdering","Konsekvenskriterier","Sannsynlighetskriterier","ytterligere kriterier","Ark1","datakilder","datakilder2"],"not_rendered":{"charts":0,"images":0,"macros":1,"external_links":0,"defined_names":9,"comments":0,"pivot_tables":0},"unopened":[],"bounds":{"document_bytes":16777216,"sheet_cells":100000,"rows_first":2000,"rows_last":500,"rows_between":2000,"halvings":0,"cell_chars":16384,"cell_head_chars":4096},"cells_cut":0,"cells_raw":0,"read":"whole","date_system":"1900"}

{"sheet":"Start_alt","index":0,"n_rows":7,"n_cols":10,"rows_kept":7,"cut":false,"hidden":true,"merged":[]}
[]
[null,"Konsekvenskategorier",null,null,null,null,null,null,"Sannsynlighetsnivåer"]
[null,null,"Økonomi","Liv og helse","Omdømme","Etterlevelse av lover og regler","Måloppnåelse"]
[null,"Svært høy","Økonomisk tap > 3.000.000 pr. år eller > 800.000 som engangssum","De fysiske skadene er omfattende og har et dødelig utfall. Ettervirkninger medfører stor fare for selvmord","Omfattende negativ omtale i nasjonale og utenlandske tradisjonelle medier, samt i sosiale medier, i mer enn et halvt år. Politisk innblanding","Alvorlig brudd på lover og regelverk som medfører strafferettslig forfølgelse - fengsel og store bøter","Alvorlig betydning for Sopra Sterias målioppnåelse",null,"Svært høy","Trussel- og sårbarhetsnivå er svært høyt - det er åpenbare mangler i etablerte tiltak som en eller flere trusselaktører kan utnytte relativt enkelt. Hendelsen har historisk sett inntruffet flere ganger årlig, og det er å forvente at hendelsen inntreffer i løpet av de nærmeste 30 dagene"]
[null,"Høy","Økonomisk tap > 500.000 < 3.000.000 pr. år eller > 150.000 < 800.000 som engangssum","Betydelige fysiske eller psykiske skader for egne ansatte, publikum, personell hos kunde eller hos leverandører, som kan resultere i død","Negativ omtale i tradisjonelle og sosiale medier, i inntil et halvt år","Brudd på lover og regelverk som medfører strafferettslig forfølgelse - bøter","Vesentlig betydning for Sopra Sterias måloppnåelse",null,"Høy","Det er åpenbare sårbarheter som trusselaktør kan utnytte. Trussel- og sårbarhetsnivå er vurdert til høyt og/eller tilsvarende hendelser har inntruffet årlig - og man kan forvente at hendelsen kan inntreffe i løpet av de neste 12 måneder"]
[null,"Moderat","Økonomisk tap > 100.000 < 500.000 pr. år eller > 30.000 < 150.000 som engangssum","Moderate fysiske eller psykiske skader som kan medføre sykehusinnleggelse for egne ansatte, publikum, personell hos kunde eller hos leverandører. Varige mén knyttet til skaden(e) kan være et resultat","Negativ omtale i tradisjonelle og sosiale medier, men ikke mer enn en måned","Mindre brudd på lover og regelverk som normalt medfører forelegg","Noe betydning for Sopra Sterias måloppnåelse",null,"Moderat","Trussel- og sårbarhetsnivå er vurdert til moderat, og/eller hendelsen har historisk sett inntruffet i gjennsnitt hvert 5. år - og det er å forvente at hendelsen vil kunne inntreffe i løpet av de neste 5 årene"]
[null,"Lav","Økonomisk tap < 100.000 pr. år eller < 30.000 som engangssum","Kun mindre fysiske eller psykiske følger hos noen få ansatte, publikum, kunder eller leverandører","Lite negativ omtale i noen medier","Ingen eller ubetydelig brudd på lover og regelverk","Minimal betydning for måloppnåelsen",null,"Lav","Trussel- og sårbarhetsnivå anses lavt, og det er ellers ingen historikk hverken i Norge eller andre steder som tilsier at hendelsen inntreffer oftere enn 1 gang hvert 50. år"]

{"sheet":"Om ROS","index":1,"n_rows":19,"n_cols":5,"rows_kept":19,"cut":false,"hidden":false,"merged":[[6,1,13,4]]}
[]
[null,"Arkivfaglig ROS"]
[null,"Mal versjon 0.7"]
[]
[]
[null,"Om ROS"]
[]
[]
[]
[]
[]
[]
[]
[]
[]
[]
[null,"Endringslogg"]
[]
[null,"Versjon","Dato","Utført av","Endringsbeskrivelse"]

{"sheet":"Risikoanalyse","index":2,"n_rows":993,"n_cols":11,"rows_kept":993,"cut":false,"hidden":false,"merged":[[922,1,931,1],[932,1,941,1],[942,1,951,1],[952,1,961,1],[962,1,971,1],[972,1,981,1],[982,1,991,1],[992,1,1001,1],[832,1,841,1],[842,1,851,1],[852,1,861,1],[862,1,871,1],[872,1,881,1],[882,1,891,1],[892,1,901,1],[902,1,911,1],[912,1,921,1],[742,1,751,1],[752,1,761,1],[762,1,771,1],[772,1,781,1],[782,1,791,1],[792,1,801,1],[802,1,811,1],[812,1,821,1],[822,1,831,1],[652,1,661,1],[662,1,671,1],[672,1,681,1],[682,1,691,1],[692,1,701,1],[702,1,711,1],[712,1,721,1],[722,1,731,1],[732,1,741,1],[562,1,571,1],[572,1,581,1],[582,1,591,1],[592,1,601,1],[602,1,611,1],[612,1,621,1],[622,1,631,1],[632,1,641,1],[642,1,651,1],[472,1,481,1],[482,1,491,1],[492,1,501,1],[502,1,511,1],[512,1,521,1],[522,1,531,1],[532,1,541,1],[542,1,551,1],[552,1,561,1],[382,1,391,1],[392,1,401,1],[402,1,411,1],[412,1,421,1],[422,1,431,1],[432,1,441,1],[442,1,451,1],[452,1,461,1],[462,1,471,1],[292,1,301,1],[302,1,311,1],[312,1,321,1],[322,1,331,1],[332,1,341,1],[342,1,351,1],[352,1,361,1],[362,1,371,1],[372,1,381,1],[202,1,211,1],[212,1,221,1],[222,1,231,1],[232,1,241,1],[242,1,251,1],[252,1,261,1],[262,1,271,1],[272,1,281,1],[282,1,291,1],[112,1,121,1],[122,1,131,1],[132,1,141,1],[142,1,151,1],[152,1,161,1],[162,1,171,1],[172,1,181,1],[182,1,191,1],[192,1,201,1],[802,0,811,0],[792,0,801,0],[782,0,791,0],[772,0,781,0],[992,0,1001,0],[982,0,991,0],[972,0,981,0],[962,0,971,0],[952,0,961,0],[942,0,951,0],[932,0,941,0],[922,0,931,0],[912,0,921,0],[902,0,911,0],[892,0,901,0],[882,0,891,0],[872,0,881,0],[862,0,871,0],[852,0,861,0],[842,0,851,0],[832,0,841,0],[822,0,831,0],[812,0,821,0],[282,0,291,0],[762,0,771,0],[752,0,761,0],[742,0,751,0],[732,0,741,0],[722,0,731,0],[712,0,721,0],[702,0,711,0],[692,0,701,0],[682,0,691,0],[672,0,681,0],[662,0,671,0],[652,0,661,0],[642,0,651,0],[632,0,641,0],[622,0,631,0],[612,0,621,0],[602,0,611,0],[592,0,601,0],[582,0,591,0],[572,0,581,0],[562,0,571,0],[372,0,381,0],[362,0,371,0],[352,0,361,0],[342,0,351,0],[332,0,341,0],[322,0,331,0],[312,0,321,0],[302,0,311,0],[292,0,301,0],[462,0,471,0],[452,0,461,0],[442,0,451,0],[432,0,441,0],[422,0,431,0],[412,0,421,0],[402,0,411,0],[392,0,401,0],[382,0,391,0],[552,0,561,0],[542,0,551,0],[532,0,541,0],[522,0,531,0],[512,0,521,0],[502,0,511,0],[492,0,501,0],[482,0,491,0],[472,0,481,0],[162,0,171,0],[152,0,161,0],[142,0,151,0],[132,0,141,0],[272,0,281,0],[262,0,271,0],[252,0,261,0],[242,0,251,0],[232,0,241,0],[222,0,231,0],[212,0,221,0],[202,0,211,0],[192,0,201,0],[182,0,191,0],[172,0,181,0],[0,9,1,9],[12,2,21,2],[2,5,11,5],[2,2,11,2],[62,8,71,8],[2,0,11,0],[12,0,21,0],[0,4,1,4],[12,7,21,7],[12,5,21,5],[52,2,61,2],[0,6,1,6],[0,7,1,7],[0,5,1,5],[0,8,1,8],[22,5,31,5],[32,7,41,7],[62,5,71,5],[62,7,71,7],[0,1,1,1],[2,1,11,1],[12,1,21,1],[22,1,31,1],[32,1,41,1],[122,0,131,0],[112,0,121,0],[102,0,111,0],[92,0,101,0],[82,0,91,0],[0,0,1,0],[0,2,1,2],[92,2,101,2],[102,2,111,2],[72,0,81,0],[62,0,71,0],[52,0,61,0],[42,0,51,0],[32,0,41,0],[22,0,31,0],[32,2,41,2],[62,2,71,2],[42,1,51,1],[52,1,61,1],[62,1,71,1],[72,1,81,1],[82,1,91,1],[92,1,101,1],[102,1,111,1],[42,2,51,2],[42,8,51,8],[42,7,51,7],[42,5,51,5],[12,8,21,8],[2,7,11,7],[2,8,11,8],[22,8,31,8],[22,7,31,7],[0,10,1,10],[0,3,1,3],[52,8,61,8],[52,7,61,7],[52,5,61,5],[22,2,31,2],[72,7,81,7],[72,8,81,8],[72,5,81,5],[32,5,41,5],[32,8,41,8],[72,2,81,2],[132,2,141,2],[132,8,141,8],[132,7,141,7],[132,5,141,5],[82,2,91,2],[82,5,91,5],[82,7,91,7],[82,8,91,8],[92,8,101,8],[92,7,101,7],[92,5,101,5],[112,8,121,8],[112,7,121,7],[112,5,121,5],[152,8,161,8],[102,8,111,8],[122,2,131,2],[122,8,131,8],[122,7,131,7],[122,5,131,5],[112,2,121,2],[102,7,111,7],[102,5,111,5],[142,5,151,5],[142,2,151,2],[172,8,181,8],[172,7,181,7],[172,5,181,5],[152,2,161,2],[142,7,151,7],[142,8,151,8],[162,8,171,8],[162,7,171,7],[162,5,171,5],[152,7,161,7],[152,5,161,5],[172,2,181,2],[162,2,171,2],[202,2,211,2],[192,2,201,2],[202,7,211,7],[192,8,201,8],[192,7,201,7],[192,5,201,5],[182,2,191,2],[202,5,211,5],[202,8,211,8],[182,8,191,8],[182,7,191,7],[182,5,191,5],[232,2,241,2],[232,5,241,5],[222,5,231,5],[222,7,231,7],[222,8,231,8],[222,2,231,2],[212,8,221,8],[212,7,221,7],[212,5,221,5],[212,2,221,2],[242,8,251,8],[242,2,251,2],[242,5,251,5],[242,7,251,7],[232,7,241,7],[232,8,241,8],[272,2,281,2],[272,5,281,5],[272,7,281,7],[262,7,271,7],[262,8,271,8],[262,2,271,2],[262,5,271,5],[252,5,261,5],[252,7,261,7],[252,8,261,8],[252,2,261,2],[292,2,301,2],[292,5,301,5],[282,5,291,5],[282,7,291,7],[282,8,291,8],[282,2,291,2],[272,8,281,8],[302,8,311,8],[302,2,311,2],[302,5,311,5],[302,7,311,7],[292,7,301,7],[292,8,301,8],[322,2,331,2],[322,5,331,5],[312,5,321,5],[312,7,321,7],[312,8,321,8],[312,2,321,2],[332,8,341,8],[332,2,341,2],[332,5,341,5],[332,7,341,7],[322,7,331,7],[322,8,331,8],[352,2,361,2],[352,5,361,5],[342,5,351,5],[342,7,351,7],[342,8,351,8],[342,2,351,2],[362,8,371,8],[362,2,371,2],[362,5,371,5],[362,7,371,7],[352,7,361,7],[352,8,361,8],[382,2,391,2],[382,5,391,5],[372,5,381,5],[372,7,381,7],[372,8,381,8],[372,2,381,2],[392,8,401,8],[392,2,401,2],[392,5,401,5],[392,7,401,7],[382,7,391,7],[382,8,391,8],[412,2,421,2],[412,5,421,5],[402,5,411,5],[402,7,411,7],[402,8,411,8],[402,2,411,2],[422,8,431,8],[422,2,431,2],[422,5,431,5],[422,7,431,7],[412,7,421,7],[412,8,421,8],[442,2,451,2],[442,5,451,5],[432,5,441,5],[432,7,441,7],[432,8,441,8],[432,2,441,2],[452,8,461,8],[452,2,461,2],[452,5,461,5],[452,7,461,7],[442,7,451,7],[442,8,451,8],[472,2,481,2],[472,5,481,5],[462,5,471,5],[462,7,471,7],[462,8,471,8],[462,2,471,2],[482,8,491,8],[482,2,491,2],[482,5,491,5],[482,7,491,7],[472,7,481,7],[472,8,481,8],[502,2,511,2],[502,5,511,5],[492,5,501,5],[492,7,501,7],[492,8,501,8],[492,2,501,2],[512,8,521,8],[512,2,521,2],[512,5,521,5],[512,7,521,7],[502,7,511,7],[502,8,511,8],[532,2,541,2],[532,5,541,5],[522,5,531,5],[522,7,531,7],[522,8,531,8],[522,2,531,2],[542,8,551,8],[542,2,551,2],[542,5,551,5],[542,7,551,7],[532,7,541,7],[532,8,541,8],[562,2,571,2],[562,5,571,5],[552,5,561,5],[552,7,561,7],[552,8,561,8],[552,2,561,2],[572,8,581,8],[572,2,581,2],[572,5,581,5],[572,7,581,7],[562,7,571,7],[562,8,571,8],[592,2,601,2],[592,5,601,5],[582,5,591,5],[582,7,591,7],[582,8,591,8],[582,2,591,2],[602,8,611,8],[602,2,611,2],[602,5,611,5],[602,7,611,7],[592,7,601,7],[592,8,601,8],[622,2,631,2],[622,5,631,5],[612,5,621,5],[612,7,621,7],[612,8,621,8],[612,2,621,2],[632,8,641,8],[632,2,641,2],[632,5,641,5],[632,7,641,7],[622,7,631,7],[622,8,631,8],[652,2,661,2],[652,5,661,5],[642,5,651,5],[642,7,651,7],[642,8,651,8],[642,2,651,2],[662,8,671,8],[662,2,671,2],[662,5,671,5],[662,7,671,7],[652,7,661,7],[652,8,661,8],[682,2,691,2],[682,5,691,5],[672,5,681,5],[672,7,681,7],[672,8,681,8],[672,2,681,2],[692,8,701,8],[692,2,701,2],[692,5,701,5],[692,7,701,7],[682,7,691,7],[682,8,691,8],[712,2,721,2],[712,5,721,5],[702,5,711,5],[702,7,711,7],[702,8,711,8],[702,2,711,2],[722,8,731,8],[722,2,731,2],[722,5,731,5],[722,7,731,7],[712,7,721,7],[712,8,721,8],[742,2,751,2],[742,5,751,5],[732,5,741,5],[732,7,741,7],[732,8,741,8],[732,2,741,2],[742,7,751,7],[742,8,751,8],[772,7,781,7],[772,8,781,8],[752,2,761,2],[752,5,761,5],[752,7,761,7],[772,2,781,2],[772,5,781,5],[762,5,771,5],[762,7,771,7],[762,8,771,8],[762,2,771,2],[752,8,761,8],[792,5,801,5],[792,7,801,7],[792,8,801,8],[792,2,801,2],[782,8,791,8],[782,2,791,2],[782,5,791,5],[782,7,791,7],[812,2,821,2],[812,5,821,5],[812,7,821,7],[802,7,811,7],[802,8,811,8],[802,2,811,2],[802,5,811,5],[832,2,841,2],[832,5,841,5],[822,5,831,5],[822,7,831,7],[822,8,831,8],[822,2,831,2],[812,8,821,8],[842,8,851,8],[842,2,851,2],[842,5,851,5],[842,7,851,7],[832,7,841,7],[832,8,841,8],[862,7,871,7],[862,8,871,8],[862,2,871,2],[862,5,871,5],[852,5,861,5],[852,7,861,7],[852,8,861,8],[852,2,861,2],[882,5,891,5],[882,7,891,7],[882,8,891,8],[882,2,891,2],[872,8,881,8],[872,2,881,2],[872,5,881,5],[872,7,881,7],[902,8,911,8],[902,2,911,2],[902,5,911,5],[902,7,911,7],[892,7,901,7],[892,8,901,8],[892,2,901,2],[892,5,901,5],[922,7,931,7],[922,8,931,8],[922,2,931,2],[922,5,931,5],[912,5,921,5],[912,7,921,7],[912,8,921,8],[912,2,921,2],[942,5,951,5],[942,7,951,7],[942,8,951,8],[942,2,951,2],[932,8,941,8],[932,2,941,2],[932,5,941,5],[932,7,941,7],[952,7,961,7],[952,8,961,8],[952,2,961,2],[952,5,961,5],[972,5,981,5],[972,7,981,7],[972,8,981,8],[972,2,981,2],[962,8,971,8],[962,2,971,2],[962,5,971,5],[962,7,971,7],[992,2,1001,2],[992,5,1001,5],[992,7,1001,7],[982,7,991,7],[982,8,991,8],[992,8,1001,8],[982,2,991,2],[982,5,991,5]]}
["Risk ID","Dato og deltakere","Systemnavn","Innhold med BK-vurdering","Konsekvenskriterier","Samlet konsekvens","Sannsynlighetskriterier","Samlet sannsynlighet","Risiko","Ikke-arkivfaglige prioritetskriterier","Prioritet"]
[]
[1,null,null,null,null,0,null,0]
[]
[]
[]
[]
[]
[]
[]
[]
[]
[2,null,null,null,null,0,null,0]
[]
[]
[]
[]
[]
[]
[]
[]
[]
[3,null,null,null,null,0,null,0]
[]
[]
[]
[]
[]
[]
[]
[]
[]
[4,null,null,null,null,0,null,0]
[]
[]
[]
[]
[]
[]
[]
[]
[]
[5,null,null,null,null,0,null,0]
[]
[]
[]
[]
[]
[]
[]
[]
[]
[6,null,null,null,null,0,null,0]
[]
[]
[]
[]
[]
[]
[]
[]
[]
[7,null,null,null,null,0,null,0]
[]
[]
[]
[]
[]
[]
[]
[]
[]
[8,null,null,null,null,0,null,0]
[]
[]
[]
[]
[]
[]
[]
[]
[]
[9,null,null,null,null,0,null,0]
[]
[]
[]
[]
[]
[]
[]
[]
[]
[10,null,null,null,null,0,null,0]
[]
[]
[]
[]
[]
[]
[]
[]
[]
[11,null,null,null,null,0,null,0]
[]
[]
[]
[]
[]
[]
[]
[]
[]
[12,null,null,null,null,0,null,0]
[]
[]
[]
[]
[]
[]
[]
[]
[]
[13]
[]
[]
[]
[]
[]
[]
[]
[]
[]
[14]
[]
[]
[]
[]
[]
[]
[]
[]
[]
[15]
[]
[]
[]
[]
[]
[]
[]
[]
[]
[16,null,null,null,null,0,null,0]
[]
[]
[]
[]
[]
[]
[]
[]
[]
[17,null,null,null,null,0,null,0]
[]
[]
[]
[]
[]
[]
[]
[]
[]
[18]
[]
[]
[]
[]
[]
[]
[]
[]
[]
[19]
[]
[]
[]
[]
[]
[]
[]
[]
[]
[20]
[]
[]
[]
[]
[]
[]
[]
[]
[]
[21]
[]
[]
[]
[]
[]
[]
[]
[]
[]
[22]
[]
[]
[]
[]
[]
[]
[]
[]
[]
[23]
[]
[]
[]
[]
[]
[]
[]
[]
[]
[24]
[]
[]
[]
[]
[]
[]
[]
[]
[]
[25]
[]
[]
[]
[]
[]
[]
[]
[]
[]
[26]
[]
[]
[]
[]
[]
[]
[]
[]
[]
[27]
[]
[]
[]
[]
[]
[]
[]
[]
[]
[28]
[]
[]
[]
[]
[]
[]
[]
[]
[]
[29]
[]
[]
[]
[]
[]
[]
[]
[]
[]
[30]
[]
[]
[]
[]
[]
[]
[]
[]
[]
[31]
[]
[]
[]
[]
[]
[]
[]
[]
[]
[32]
[]
[]
[]
[]
[]
[]
[]
[]
[]
[33]
[]
[]
[]
[]
[]
[]
[]
[]
[]
[34]
[]
[]
[]
[]
[]
[]
[]
[]
[]
[35]
[]
[]
[]
[]
[]
[]
[]
[]
[]
[36]
[]
[]
[]
[]
[]
[]
[]
[]
[]
[37]
[]
[]
[]
[]
[]
[]
[]
[]
[]
[38]
[]
[]
[]
[]
[]
[]
[]
[]
[]
[39]
[]
[]
[]
[]
[]
[]
[]
[]
[]
[40]
[]
[]
[]
[]
[]
[]
[]
[]
[]
[41]
[]
[]
[]
[]
[]
[]
[]
[]
[]
[42]
[]
[]
[]
[]
[]
[]
[]
[]
[]
[43]
[]
[]
[]
[]
[]
[]
[]
[]
[]
[44]
[]
[]
[]
[]
[]
[]
[]
[]
[]
[45]
[]
[]
[]
[]
[]
[]
[]
[]
[]
[46]
[]
[]
[]
[]
[]
[]
[]
[]
[]
[47]
[]
[]
[]
[]
[]
[]
[]
[]
[]
[48]
[]
[]
[]
[]
[]
[]
[]
[]
[]
[49]
[]
[]
[]
[]
[]
[]
[]
[]
[]
[50]
[]
[]
[]
[]
[]
[]
[]
[]
[]
[51]
[]
[]
[]
[]
[]
[]
[]
[]
[]
[52]
[]
[]
[]
[]
[]
[]
[]
[]
[]
[53]
[]
[]
[]
[]
[]
[]
[]
[]
[]
[54]
[]
[]
[]
[]
[]
[]
[]
[]
[]
[55]
[]
[]
[]
[]
[]
[]
[]
[]
[]
[56]
[]
[]
[]
[]
[]
[]
[]
[]
[]
[57]
[]
[]
[]
[]
[]
[]
[]
[]
[]
[58]
[]
[]
[]
[]
[]
[]
[]
[]
[]
[59]
[]
[]
[]
[]
[]
[]
[]
[]
[]
[60]
[]
[]
[]
[]
[]
[]
[]
[]
[]
[61]
[]
[]
[]
[]
[]
[]
[]
[]
[]
[62]
[]
[]
[]
[]
[]
[]
[]
[]
[]
[63]
[]
[]
[]
[]
[]
[]
[]
[]
[]
[64]
[]
[]
[]
[]
[]
[]
[]
[]
[]
[65]
[]
[]
[]
[]
[]
[]
[]
[]
[]
[66]
[]
[]
[]
[]
[]
[]
[]
[]
[]
[67]
[]
[]
[]
[]
[]
[]
[]
[]
[]
[68]
[]
[]
[]
[]
[]
[]
[]
[]
[]
[69]
[]
[]
[]
[]
[]
[]
[]
[]
[]
[70]
[]
[]
[]
[]
[]
[]
[]
[]
[]
[71]
[]
[]
[]
[]
[]
[]
[]
[]
[]
[72]
[]
[]
[]
[]
[]
[]
[]
[]
[]
[73]
[]
[]
[]
[]
[]
[]
[]
[]
[]
[74]
[]
[]
[]
[]
[]
[]
[]
[]
[]
[75]
[]
[]
[]
[]
[]
[]
[]
[]
[]
[76]
[]
[]
[]
[]
[]
[]
[]
[]
[]
[77]
[]
[]
[]
[]
[]
[]
[]
[]
[]
[78]
[]
[]
[]
[]
[]
[]
[]
[]
[]
[79]
[]
[]
[]
[]
[]
[]
[]
[]
[]
[80]
[]
[]
[]
[]
[]
[]
[]
[]
[]
[81]
[]
[]
[]
[]
[]
[]
[]
[]
[]
[82]
[]
[]
[]
[]
[]
[]
[]
[]
[]
[83]
[]
[]
[]
[]
[]
[]
[]
[]
[]
[84]
[]
[]
[]
[]
[]
[]
[]
[]
[]
[85]
[]
[]
[]
[]
[]
[]
[]
[]
[]
[86]
[]
[]
[]
[]
[]
[]
[]
[]
[]
[87]
[]
[]
[]
[]
[]
[]
[]
[]
[]
[88]
[]
[]
[]
[]
[]
[]
[]
[]
[]
[89]
[]
[]
[]
[]
[]
[]
[]
[]
[]
[90]
[]
[]
[]
[]
[]
[]
[]
[]
[]
[91]
[]
[]
[]
[]
[]
[]
[]
[]
[]
[92]
[]
[]
[]
[]
[]
[]
[]
[]
[]
[93]
[]
[]
[]
[]
[]
[]
[]
[]
[]
[94]
[]
[]
[]
[]
[]
[]
[]
[]
[]
[95]
[]
[]
[]
[]
[]
[]
[]
[]
[]
[96]
[]
[]
[]
[]
[]
[]
[]
[]
[]
[97]
[]
[]
[]
[]
[]
[]
[]
[]
[]
[98]
[]
[]
[]
[]
[]
[]
[]
[]
[]
[99]
[]
[]
[]
[]
[]
[]
[]
[]
[]
[100]

{"sheet":"Matrise","index":3,"n_rows":8,"n_cols":7,"rows_kept":8,"cut":false,"hidden":false,"merged":[]}
[]
[null,null,"Risiko før tiltak"]
[null,"Svært stor"]
[null,"Stor"]
[null,"Moderat"]
[null,"Liten"]
[null,"Meget liten"]
[null,null,"Ubetydelig","Lav","Moderat","Alvorlig","Svært alvorlig"]

{"sheet":"Verdivurdering","index":4,"n_rows":1000,"n_cols":9,"rows_kept":1000,"cut":false,"hidden":false,"merged":[]}
["#","Verdi","Beskrivelse","B/K-vurdering",null,null,null,"Beregnet verdi","Justert verdi"]
[1,null,null,null,{"$f":"VLOOKUP(#REF!,datakilder2!$G$14:$H$18,2,FALSE)","v":{"$error":"#REF!"}},{"$f":"VLOOKUP(#REF!,datakilder2!$G$14:$H$18,2,FALSE)","v":{"$error":"#REF!"}},{"$f":"VLOOKUP(D2,datakilder2!$G$14:$H$18,2,FALSE)","v":{"$error":"#N/A"}},{"$f":"IF(MAX(E2:G2)>0,MAX(E2:G2),\"\")","v":{"$error":"#REF!"}},{"$f":"IF(#REF!=datakilder2!$G$18,4,IF(#REF!=datakilder2!$G$17,3,IF(#REF!=datakilder2!$G$16,2,IF(#REF!=datakilder2!$G$15,1,1))))","v":{"$error":"#REF!"}}]
[2,null,null,null,{"$f":"VLOOKUP(#REF!,datakilder2!$G$14:$H$18,2,FALSE)","v":{"$error":"#REF!"}},{"$f":"VLOOKUP(#REF!,datakilder2!$G$14:$H$18,2,FALSE)","v":{"$error":"#REF!"}},{"$f":"VLOOKUP(D3,datakilder2!$G$14:$H$18,2,FALSE)","v":{"$error":"#N/A"}},{"$f":"IF(MAX(E3:G3)>0,MAX(E3:G3),\"\")","v":{"$error":"#REF!"}},{"$f":"IF(#REF!=datakilder2!$G$18,4,IF(#REF!=datakilder2!$G$17,3,IF(#REF!=datakilder2!$G$16,2,IF(#REF!=datakilder2!$G$15,1,1))))","v":{"$error":"#REF!"}}]
[3,null,null,null,{"$f":"VLOOKUP(#REF!,datakilder2!$G$14:$H$18,2,FALSE)","v":{"$error":"#REF!"}},{"$f":"VLOOKUP(#REF!,datakilder2!$G$14:$H$18,2,FALSE)","v":{"$error":"#REF!"}},{"$f":"VLOOKUP(D4,datakilder2!$G$14:$H$18,2,FALSE)","v":{"$error":"#N/A"}},{"$error":"#REF!"},{"$f":"IF(#REF!=datakilder2!$G$18,4,IF(#REF!=datakilder2!$G$17,3,IF(#REF!=datakilder2!$G$16,2,IF(#REF!=datakilder2!$G$15,1,1))))","v":{"$error":"#REF!"}}]
[4,null,null,null,{"$f":"VLOOKUP(#REF!,datakilder2!$G$14:$H$18,2,FALSE)","v":{"$error":"#REF!"}},{"$f":"VLOOKUP(#REF!,datakilder2!$G$14:$H$18,2,FALSE)","v":{"$error":"#REF!"}},{"$f":"VLOOKUP(D5,datakilder2!$G$14:$H$18,2,FALSE)","v":{"$error":"#N/A"}},{"$error":"#REF!"},{"$f":"IF(#REF!=datakilder2!$G$18,4,IF(#REF!=datakilder2!$G$17,3,IF(#REF!=datakilder2!$G$16,2,IF(#REF!=datakilder2!$G$15,1,1))))","v":{"$error":"#REF!"}}]
[5,null,null,null,{"$f":"VLOOKUP(#REF!,datakilder2!$G$14:$H$18,2,FALSE)","v":{"$error":"#REF!"}},{"$f":"VLOOKUP(#REF!,datakilder2!$G$14:$H$18,2,FALSE)","v":{"$error":"#REF!"}},{"$f":"VLOOKUP(D6,datakilder2!$G$14:$H$18,2,FALSE)","v":{"$error":"#N/A"}},{"$error":"#REF!"},{"$f":"IF(#REF!=datakilder2!$G$18,4,IF(#REF!=datakilder2!$G$17,3,IF(#REF!=datakilder2!$G$16,2,IF(#REF!=datakilder2!$G$15,1,1))))","v":{"$error":"#REF!"}}]
[6,null,null,null,{"$f":"VLOOKUP(#REF!,datakilder2!$G$14:$H$18,2,FALSE)","v":{"$error":"#REF!"}},{"$f":"VLOOKUP(#REF!,datakilder2!$G$14:$H$18,2,FALSE)","v":{"$error":"#REF!"}},{"$f":"VLOOKUP(D7,datakilder2!$G$14:$H$18,2,FALSE)","v":{"$error":"#N/A"}},{"$error":"#REF!"},{"$f":"IF(#REF!=datakilder2!$G$18,4,IF(#REF!=datakilder2!$G$17,3,IF(#REF!=datakilder2!$G$16,2,IF(#REF!=datakilder2!$G$15,1,1))))","v":{"$error":"#REF!"}}]
[7,null,null,null,{"$f":"VLOOKUP(#REF!,datakilder2!$G$14:$H$18,2,FALSE)","v":{"$error":"#REF!"}},{"$f":"VLOOKUP(#REF!,datakilder2!$G$14:$H$18,2,FALSE)","v":{"$error":"#REF!"}},{"$f":"VLOOKUP(D8,datakilder2!$G$14:$H$18,2,FALSE)","v":{"$error":"#N/A"}},{"$error":"#REF!"},{"$f":"IF(#REF!=datakilder2!$G$18,4,IF(#REF!=datakilder2!$G$17,3,IF(#REF!=datakilder2!$G$16,2,IF(#REF!=datakilder2!$G$15,1,1))))","v":{"$error":"#REF!"}}]
[8,null,null,null,{"$f":"VLOOKUP(#REF!,datakilder2!$G$14:$H$18,2,FALSE)","v":{"$error":"#REF!"}},{"$f":"VLOOKUP(#REF!,datakilder2!$G$14:$H$18,2,FALSE)","v":{"$error":"#REF!"}},{"$f":"VLOOKUP(D9,datakilder2!$G$14:$H$18,2,FALSE)","v":{"$error":"#N/A"}},{"$error":"#REF!"},{"$f":"IF(#REF!=datakilder2!$G$18,4,IF(#REF!=datakilder2!$G$17,3,IF(#REF!=datakilder2!$G$16,2,IF(#REF!=datakilder2!$G$15,1,1))))","v":{"$error":"#REF!"}}]
[9,null,null,null,{"$f":"VLOOKUP(#REF!,datakilder2!$G$14:$H$18,2,FALSE)","v":{"$error":"#REF!"}},{"$f":"VLOOKUP(#REF!,datakilder2!$G$14:$H$18,2,FALSE)","v":{"$error":"#REF!"}},{"$f":"VLOOKUP(D10,datakilder2!$G$14:$H$18,2,FALSE)","v":{"$error":"#N/A"}},{"$error":"#REF!"},{"$f":"IF(#REF!=datakilder2!$G$18,4,IF(#REF!=datakilder2!$G$17,3,IF(#REF!=datakilder2!$G$16,2,IF(#REF!=datakilder2!$G$15,1,1))))","v":{"$error":"#REF!"}}]
[10,null,null,null,{"$f":"VLOOKUP(#REF!,datakilder2!$G$14:$H$18,2,FALSE)","v":{"$error":"#REF!"}},{"$f":"VLOOKUP(#REF!,datakilder2!$G$14:$H$18,2,FALSE)","v":{"$error":"#REF!"}},{"$f":"VLOOKUP(D11,datakilder2!$G$14:$H$18,2,FALSE)","v":{"$error":"#N/A"}},{"$error":"#REF!"},{"$f":"IF(#REF!=datakilder2!$G$18,4,IF(#REF!=datakilder2!$G$17,3,IF(#REF!=datakilder2!$G$16,2,IF(#REF!=datakilder2!$G$15,1,1))))","v":{"$error":"#REF!"}}]
[11,null,null,null,{"$f":"VLOOKUP(#REF!,datakilder2!$G$14:$H$18,2,FALSE)","v":{"$error":"#REF!"}},{"$f":"VLOOKUP(#REF!,datakilder2!$G$14:$H$18,2,FALSE)","v":{"$error":"#REF!"}},{"$f":"VLOOKUP(D12,datakilder2!$G$14:$H$18,2,FALSE)","v":{"$error":"#N/A"}},{"$error":"#REF!"},{"$f":"IF(#REF!=datakilder2!$G$18,4,IF(#REF!=datakilder2!$G$17,3,IF(#REF!=datakilder2!$G$16,2,IF(#REF!=datakilder2!$G$15,1,1))))","v":{"$error":"#REF!"}}]
[12,null,null,null,{"$f":"VLOOKUP(#REF!,datakilder2!$G$14:$H$18,2,FALSE)","v":{"$error":"#REF!"}},{"$f":"VLOOKUP(#REF!,datakilder2!$G$14:$H$18,2,FALSE)","v":{"$error":"#REF!"}},{"$f":"VLOOKUP(D13,datakilder2!$G$14:$H$18,2,FALSE)","v":{"$error":"#N/A"}},{"$error":"#REF!"},{"$f":"IF(#REF!=datakilder2!$G$18,4,IF(#REF!=datakilder2!$G$17,3,IF(#REF!=datakilder2!$G$16,2,IF(#REF!=datakilder2!$G$15,1,1))))","v":{"$error":"#REF!"}}]
[13,null,null,null,{"$f":"VLOOKUP(#REF!,datakilder2!$G$14:$H$18,2,FALSE)","v":{"$error":"#REF!"}},{"$f":"VLOOKUP(#REF!,datakilder2!$G$14:$H$18,2,FALSE)","v":{"$error":"#REF!"}},{"$f":"VLOOKUP(D14,datakilder2!$G$14:$H$18,2,FALSE)","v":{"$error":"#N/A"}},{"$error":"#REF!"},{"$f":"IF(#REF!=datakilder2!$G$18,4,IF(#REF!=datakilder2!$G$17,3,IF(#REF!=datakilder2!$G$16,2,IF(#REF!=datakilder2!$G$15,1,1))))","v":{"$error":"#REF!"}}]
[14,null,null,null,{"$f":"VLOOKUP(#REF!,datakilder2!$G$14:$H$18,2,FALSE)","v":{"$error":"#REF!"}},{"$f":"VLOOKUP(#REF!,datakilder2!$G$14:$H$18,2,FALSE)","v":{"$error":"#REF!"}},{"$f":"VLOOKUP(D15,datakilder2!$G$14:$H$18,2,FALSE)","v":{"$error":"#N/A"}},{"$error":"#REF!"},{"$f":"IF(#REF!=datakilder2!$G$18,4,IF(#REF!=datakilder2!$G$17,3,IF(#REF!=datakilder2!$G$16,2,IF(#REF!=datakilder2!$G$15,1,1))))","v":{"$error":"#REF!"}}]
[15,null,null,null,{"$f":"VLOOKUP(#REF!,datakilder2!$G$14:$H$18,2,FALSE)","v":{"$error":"#REF!"}},{"$f":"VLOOKUP(#REF!,datakilder2!$G$14:$H$18,2,FALSE)","v":{"$error":"#REF!"}},{"$f":"VLOOKUP(D16,datakilder2!$G$14:$H$18,2,FALSE)","v":{"$error":"#N/A"}},{"$error":"#REF!"},{"$f":"IF(#REF!=datakilder2!$G$18,4,IF(#REF!=datakilder2!$G$17,3,IF(#REF!=datakilder2!$G$16,2,IF(#REF!=datakilder2!$G$15,1,1))))","v":{"$error":"#REF!"}}]
[16,null,null,null,{"$f":"VLOOKUP(#REF!,datakilder2!$G$14:$H$18,2,FALSE)","v":{"$error":"#REF!"}},{"$f":"VLOOKUP(#REF!,datakilder2!$G$14:$H$18,2,FALSE)","v":{"$error":"#REF!"}},{"$f":"VLOOKUP(D17,datakilder2!$G$14:$H$18,2,FALSE)","v":{"$error":"#N/A"}},{"$error":"#REF!"},{"$f":"IF(#REF!=datakilder2!$G$18,4,IF(#REF!=datakilder2!$G$17,3,IF(#REF!=datakilder2!$G$16,2,IF(#REF!=datakilder2!$G$15,1,1))))","v":{"$error":"#REF!"}}]
[17,null,null,null,{"$f":"VLOOKUP(#REF!,datakilder2!$G$14:$H$18,2,FALSE)","v":{"$error":"#REF!"}},{"$f":"VLOOKUP(#REF!,datakilder2!$G$14:$H$18,2,FALSE)","v":{"$error":"#REF!"}},{"$f":"VLOOKUP(D18,datakilder2!$G$14:$H$18,2,FALSE)","v":{"$error":"#N/A"}},{"$error":"#REF!"},{"$f":"IF(#REF!=datakilder2!$G$18,4,IF(#REF!=datakilder2!$G$17,3,IF(#REF!=datakilder2!$G$16,2,IF(#REF!=datakilder2!$G$15,1,1))))","v":{"$error":"#REF!"}}]
[18,null,null,null,{"$f":"VLOOKUP(#REF!,datakilder2!$G$14:$H$18,2,FALSE)","v":{"$error":"#REF!"}},{"$f":"VLOOKUP(#REF!,datakilder2!$G$14:$H$18,2,FALSE)","v":{"$error":"#REF!"}},{"$f":"VLOOKUP(D19,datakilder2!$G$14:$H$18,2,FALSE)","v":{"$error":"#N/A"}},{"$error":"#REF!"},{"$f":"IF(#REF!=datakilder2!$G$18,4,IF(#REF!=datakilder2!$G$17,3,IF(#REF!=datakilder2!$G$16,2,IF(#REF!=datakilder2!$G$15,1,1))))","v":{"$error":"#REF!"}}]
[19,null,null,null,{"$f":"VLOOKUP(#REF!,datakilder2!$G$14:$H$18,2,FALSE)","v":{"$error":"#REF!"}},{"$f":"VLOOKUP(#REF!,datakilder2!$G$14:$H$18,2,FALSE)","v":{"$error":"#REF!"}},{"$f":"VLOOKUP(D20,datakilder2!$G$14:$H$18,2,FALSE)","v":{"$error":"#N/A"}},{"$error":"#REF!"},{"$f":"IF(#REF!=datakilder2!$G$18,4,IF(#REF!=datakilder2!$G$17,3,IF(#REF!=datakilder2!$G$16,2,IF(#REF!=datakilder2!$G$15,1,1))))","v":{"$error":"#REF!"}}]
[20,null,null,null,{"$f":"VLOOKUP(#REF!,datakilder2!$G$14:$H$18,2,FALSE)","v":{"$error":"#REF!"}},{"$f":"VLOOKUP(#REF!,datakilder2!$G$14:$H$18,2,FALSE)","v":{"$error":"#REF!"}},{"$f":"VLOOKUP(D21,datakilder2!$G$14:$H$18,2,FALSE)","v":{"$error":"#N/A"}},{"$error":"#REF!"},{"$f":"IF(#REF!=datakilder2!$G$18,4,IF(#REF!=datakilder2!$G$17,3,IF(#REF!=datakilder2!$G$16,2,IF(#REF!=datakilder2!$G$15,1,1))))","v":{"$error":"#REF!"}}]
[21,null,null,null,{"$f":"VLOOKUP(#REF!,datakilder2!$G$14:$H$18,2,FALSE)","v":{"$error":"#REF!"}},{"$f":"VLOOKUP(#REF!,datakilder2!$G$14:$H$18,2,FALSE)","v":{"$error":"#REF!"}},{"$f":"VLOOKUP(D22,datakilder2!$G$14:$H$18,2,FALSE)","v":{"$error":"#N/A"}},{"$error":"#REF!"},{"$f":"IF(#REF!=datakilder2!$G$18,4,IF(#REF!=datakilder2!$G$17,3,IF(#REF!=datakilder2!$G$16,2,IF(#REF!=datakilder2!$G$15,1,1))))","v":{"$error":"#REF!"}}]
[22,null,null,null,{"$f":"VLOOKUP(#REF!,datakilder2!$G$14:$H$18,2,FALSE)","v":{"$error":"#REF!"}},{"$f":"VLOOKUP(#REF!,datakilder2!$G$14:$H$18,2,FALSE)","v":{"$error":"#REF!"}},{"$f":"VLOOKUP(D23,datakilder2!$G$14:$H$18,2,FALSE)","v":{"$error":"#N/A"}},{"$error":"#REF!"},{"$f":"IF(#REF!=datakilder2!$G$18,4,IF(#REF!=datakilder2!$G$17,3,IF(#REF!=datakilder2!$G$16,2,IF(#REF!=datakilder2!$G$15,1,1))))","v":{"$error":"#REF!"}}]
[23,null,null,null,{"$f":"VLOOKUP(#REF!,datakilder2!$G$14:$H$18,2,FALSE)","v":{"$error":"#REF!"}},{"$f":"VLOOKUP(#REF!,datakilder2!$G$14:$H$18,2,FALSE)","v":{"$error":"#REF!"}},{"$f":"VLOOKUP(D24,datakilder2!$G$14:$H$18,2,FALSE)","v":{"$error":"#N/A"}},{"$error":"#REF!"},{"$f":"IF(#REF!=datakilder2!$G$18,4,IF(#REF!=datakilder2!$G$17,3,IF(#REF!=datakilder2!$G$16,2,IF(#REF!=datakilder2!$G$15,1,1))))","v":{"$error":"#REF!"}}]
[24,null,null,null,{"$f":"VLOOKUP(#REF!,datakilder2!$G$14:$H$18,2,FALSE)","v":{"$error":"#REF!"}},{"$f":"VLOOKUP(#REF!,datakilder2!$G$14:$H$18,2,FALSE)","v":{"$error":"#REF!"}},{"$f":"VLOOKUP(D25,datakilder2!$G$14:$H$18,2,FALSE)","v":{"$error":"#N/A"}},{"$error":"#REF!"},{"$f":"IF(#REF!=datakilder2!$G$18,4,IF(#REF!=datakilder2!$G$17,3,IF(#REF!=datakilder2!$G$16,2,IF(#REF!=datakilder2!$G$15,1,1))))","v":{"$error":"#REF!"}}]
[25,null,null,null,{"$f":"VLOOKUP(#REF!,datakilder2!$G$14:$H$18,2,FALSE)","v":{"$error":"#REF!"}},{"$f":"VLOOKUP(#REF!,datakilder2!$G$14:$H$18,2,FALSE)","v":{"$error":"#REF!"}},{"$f":"VLOOKUP(D26,datakilder2!$G$14:$H$18,2,FALSE)","v":{"$error":"#N/A"}},{"$error":"#REF!"},{"$f":"IF(#REF!=datakilder2!$G$18,4,IF(#REF!=datakilder2!$G$17,3,IF(#REF!=datakilder2!$G$16,2,IF(#REF!=datakilder2!$G$15,1,1))))","v":{"$error":"#REF!"}}]
[26,null,null,null,{"$f":"VLOOKUP(#REF!,datakilder2!$G$14:$H$18,2,FALSE)","v":{"$error":"#REF!"}},{"$f":"VLOOKUP(#REF!,datakilder2!$G$14:$H$18,2,FALSE)","v":{"$error":"#REF!"}},{"$f":"VLOOKUP(D27,datakilder2!$G$14:$H$18,2,FALSE)","v":{"$error":"#N/A"}},{"$error":"#REF!"},{"$f":"IF(#REF!=datakilder2!$G$18,4,IF(#REF!=datakilder2!$G$17,3,IF(#REF!=datakilder2!$G$16,2,IF(#REF!=datakilder2!$G$15,1,1))))","v":{"$error":"#REF!"}}]
[27,null,null,null,{"$f":"VLOOKUP(#REF!,datakilder2!$G$14:$H$18,2,FALSE)","v":{"$error":"#REF!"}},{"$f":"VLOOKUP(#REF!,datakilder2!$G$14:$H$18,2,FALSE)","v":{"$error":"#REF!"}},{"$f":"VLOOKUP(D28,datakilder2!$G$14:$H$18,2,FALSE)","v":{"$error":"#N/A"}},{"$error":"#REF!"},{"$f":"IF(#REF!=datakilder2!$G$18,4,IF(#REF!=datakilder2!$G$17,3,IF(#REF!=datakilder2!$G$16,2,IF(#REF!=datakilder2!$G$15,1,1))))","v":{"$error":"#REF!"}}]
[28,null,null,null,{"$f":"VLOOKUP(#REF!,datakilder2!$G$14:$H$18,2,FALSE)","v":{"$error":"#REF!"}},{"$f":"VLOOKUP(#REF!,datakilder2!$G$14:$H$18,2,FALSE)","v":{"$error":"#REF!"}},{"$f":"VLOOKUP(D29,datakilder2!$G$14:$H$18,2,FALSE)","v":{"$error":"#N/A"}},{"$error":"#REF!"},{"$f":"IF(#REF!=datakilder2!$G$18,4,IF(#REF!=datakilder2!$G$17,3,IF(#REF!=datakilder2!$G$16,2,IF(#REF!=datakilder2!$G$15,1,1))))","v":{"$error":"#REF!"}}]
[29,null,null,null,{"$f":"VLOOKUP(#REF!,datakilder2!$G$14:$H$18,2,FALSE)","v":{"$error":"#REF!"}},{"$f":"VLOOKUP(#REF!,datakilder2!$G$14:$H$18,2,FALSE)","v":{"$error":"#REF!"}},{"$f":"VLOOKUP(D30,datakilder2!$G$14:$H$18,2,FALSE)","v":{"$error":"#N/A"}},{"$error":"#REF!"},{"$f":"IF(#REF!=datakilder2!$G$18,4,IF(#REF!=datakilder2!$G$17,3,IF(#REF!=datakilder2!$G$16,2,IF(#REF!=datakilder2!$G$15,1,1))))","v":{"$error":"#REF!"}}]
[30,null,null,null,{"$f":"VLOOKUP(#REF!,datakilder2!$G$14:$H$18,2,FALSE)","v":{"$error":"#REF!"}},{"$f":"VLOOKUP(#REF!,datakilder2!$G$14:$H$18,2,FALSE)","v":{"$error":"#REF!"}},{"$f":"VLOOKUP(D31,datakilder2!$G$14:$H$18,2,FALSE)","v":{"$error":"#N/A"}},{"$error":"#REF!"},{"$f":"IF(#REF!=datakilder2!$G$18,4,IF(#REF!=datakilder2!$G$17,3,IF(#REF!=datakilder2!$G$16,2,IF(#REF!=datakilder2!$G$15,1,1))))","v":{"$error":"#REF!"}}]
[31,null,null,null,{"$f":"VLOOKUP(#REF!,datakilder2!$G$14:$H$18,2,FALSE)","v":{"$error":"#REF!"}},{"$f":"VLOOKUP(#REF!,datakilder2!$G$14:$H$18,2,FALSE)","v":{"$error":"#REF!"}},{"$f":"VLOOKUP(D32,datakilder2!$G$14:$H$18,2,FALSE)","v":{"$error":"#N/A"}},{"$error":"#REF!"},{"$f":"IF(#REF!=datakilder2!$G$18,4,IF(#REF!=datakilder2!$G$17,3,IF(#REF!=datakilder2!$G$16,2,IF(#REF!=datakilder2!$G$15,1,1))))","v":{"$error":"#REF!"}}]
[32,null,null,null,{"$f":"VLOOKUP(#REF!,datakilder2!$G$14:$H$18,2,FALSE)","v":{"$error":"#REF!"}},{"$f":"VLOOKUP(#REF!,datakilder2!$G$14:$H$18,2,FALSE)","v":{"$error":"#REF!"}},{"$f":"VLOOKUP(D33,datakilder2!$G$14:$H$18,2,FALSE)","v":{"$error":"#N/A"}},{"$error":"#REF!"},{"$f":"IF(#REF!=datakilder2!$G$18,4,IF(#REF!=datakilder2!$G$17,3,IF(#REF!=datakilder2!$G$16,2,IF(#REF!=datakilder2!$G$15,1,1))))","v":{"$error":"#REF!"}}]
[33,null,null,null,{"$f":"VLOOKUP(#REF!,datakilder2!$G$14:$H$18,2,FALSE)","v":{"$error":"#REF!"}},{"$f":"VLOOKUP(#REF!,datakilder2!$G$14:$H$18,2,FALSE)","v":{"$error":"#REF!"}},{"$f":"VLOOKUP(D34,datakilder2!$G$14:$H$18,2,FALSE)","v":{"$error":"#N/A"}},{"$error":"#REF!"},{"$f":"IF(#REF!=datakilder2!$G$18,4,IF(#REF!=datakilder2!$G$17,3,IF(#REF!=datakilder2!$G$16,2,IF(#REF!=datakilder2!$G$15,1,1))))","v":{"$error":"#REF!"}}]
[34,null,null,null,{"$f":"VLOOKUP(#REF!,datakilder2!$G$14:$H$18,2,FALSE)","v":{"$error":"#REF!"}},{"$f":"VLOOKUP(#REF!,datakilder2!$G$14:$H$18,2,FALSE)","v":{"$error":"#REF!"}},{"$f":"VLOOKUP(D35,datakilder2!$G$14:$H$18,2,FALSE)","v":{"$error":"#N/A"}},{"$error":"#REF!"},{"$f":"IF(#REF!=datakilder2!$G$18,4,IF(#REF!=datakilder2!$G$17,3,IF(#REF!=datakilder2!$G$16,2,IF(#REF!=datakilder2!$G$15,1,1))))","v":{"$error":"#REF!"}}]
[35,null,null,null,{"$f":"VLOOKUP(#REF!,datakilder2!$G$14:$H$18,2,FALSE)","v":{"$error":"#REF!"}},{"$f":"VLOOKUP(#REF!,datakilder2!$G$14:$H$18,2,FALSE)","v":{"$error":"#REF!"}},{"$f":"VLOOKUP(D36,datakilder2!$G$14:$H$18,2,FALSE)","v":{"$error":"#N/A"}},{"$error":"#REF!"},{"$f":"IF(#REF!=datakilder2!$G$18,4,IF(#REF!=datakilder2!$G$17,3,IF(#REF!=datakilder2!$G$16,2,IF(#REF!=datakilder2!$G$15,1,1))))","v":{"$error":"#REF!"}}]
[36,null,null,null,{"$f":"VLOOKUP(#REF!,datakilder2!$G$14:$H$18,2,FALSE)","v":{"$error":"#REF!"}},{"$f":"VLOOKUP(#REF!,datakilder2!$G$14:$H$18,2,FALSE)","v":{"$error":"#REF!"}},{"$f":"VLOOKUP(D37,datakilder2!$G$14:$H$18,2,FALSE)","v":{"$error":"#N/A"}},{"$error":"#REF!"},{"$f":"IF(#REF!=datakilder2!$G$18,4,IF(#REF!=datakilder2!$G$17,3,IF(#REF!=datakilder2!$G$16,2,IF(#REF!=datakilder2!$G$15,1,1))))","v":{"$error":"#REF!"}}]
[37,null,null,null,{"$f":"VLOOKUP(#REF!,datakilder2!$G$14:$H$18,2,FALSE)","v":{"$error":"#REF!"}},{"$f":"VLOOKUP(#REF!,datakilder2!$G$14:$H$18,2,FALSE)","v":{"$error":"#REF!"}},{"$f":"VLOOKUP(D38,datakilder2!$G$14:$H$18,2,FALSE)","v":{"$error":"#N/A"}},{"$error":"#REF!"},{"$f":"IF(#REF!=datakilder2!$G$18,4,IF(#REF!=datakilder2!$G$17,3,IF(#REF!=datakilder2!$G$16,2,IF(#REF!=datakilder2!$G$15,1,1))))","v":{"$error":"#REF!"}}]
[38,null,null,null,{"$f":"VLOOKUP(#REF!,datakilder2!$G$14:$H$18,2,FALSE)","v":{"$error":"#REF!"}},{"$f":"VLOOKUP(#REF!,datakilder2!$G$14:$H$18,2,FALSE)","v":{"$error":"#REF!"}},{"$f":"VLOOKUP(D39,datakilder2!$G$14:$H$18,2,FALSE)","v":{"$error":"#N/A"}},{"$error":"#REF!"},{"$f":"IF(#REF!=datakilder2!$G$18,4,IF(#REF!=datakilder2!$G$17,3,IF(#REF!=datakilder2!$G$16,2,IF(#REF!=datakilder2!$G$15,1,1))))","v":{"$error":"#REF!"}}]
[39,null,null,null,{"$f":"VLOOKUP(#REF!,datakilder2!$G$14:$H$18,2,FALSE)","v":{"$error":"#REF!"}},{"$f":"VLOOKUP(#REF!,datakilder2!$G$14:$H$18,2,FALSE)","v":{"$error":"#REF!"}},{"$f":"VLOOKUP(D40,datakilder2!$G$14:$H$18,2,FALSE)","v":{"$error":"#N/A"}},{"$error":"#REF!"},{"$f":"IF(#REF!=datakilder2!$G$18,4,IF(#REF!=datakilder2!$G$17,3,IF(#REF!=datakilder2!$G$16,2,IF(#REF!=datakilder2!$G$15,1,1))))","v":{"$error":"#REF!"}}]
[40,null,null,null,{"$f":"VLOOKUP(#REF!,datakilder2!$G$14:$H$18,2,FALSE)","v":{"$error":"#REF!"}},{"$f":"VLOOKUP(#REF!,datakilder2!$G$14:$H$18,2,FALSE)","v":{"$error":"#REF!"}},{"$f":"VLOOKUP(D41,datakilder2!$G$14:$H$18,2,FALSE)","v":{"$error":"#N/A"}},{"$error":"#REF!"},{"$f":"IF(#REF!=datakilder2!$G$18,4,IF(#REF!=datakilder2!$G$17,3,IF(#REF!=datakilder2!$G$16,2,IF(#REF!=datakilder2!$G$15,1,1))))","v":{"$error":"#REF!"}}]
[41,null,null,null,{"$f":"VLOOKUP(#REF!,datakilder2!$G$14:$H$18,2,FALSE)","v":{"$error":"#REF!"}},{"$f":"VLOOKUP(#REF!,datakilder2!$G$14:$H$18,2,FALSE)","v":{"$error":"#REF!"}},{"$f":"VLOOKUP(D42,datakilder2!$G$14:$H$18,2,FALSE)","v":{"$error":"#N/A"}},{"$error":"#REF!"},{"$f":"IF(#REF!=datakilder2!$G$18,4,IF(#REF!=datakilder2!$G$17,3,IF(#REF!=datakilder2!$G$16,2,IF(#REF!=datakilder2!$G$15,1,1))))","v":{"$error":"#REF!"}}]
[42,null,null,null,{"$f":"VLOOKUP(#REF!,datakilder2!$G$14:$H$18,2,FALSE)","v":{"$error":"#REF!"}},{"$f":"VLOOKUP(#REF!,datakilder2!$G$14:$H$18,2,FALSE)","v":{"$error":"#REF!"}},{"$f":"VLOOKUP(D43,datakilder2!$G$14:$H$18,2,FALSE)","v":{"$error":"#N/A"}},{"$error":"#REF!"},{"$f":"IF(#REF!=datakilder2!$G$18,4,IF(#REF!=datakilder2!$G$17,3,IF(#REF!=datakilder2!$G$16,2,IF(#REF!=datakilder2!$G$15,1,1))))","v":{"$error":"#REF!"}}]
[43,null,null,null,{"$f":"VLOOKUP(#REF!,datakilder2!$G$14:$H$18,2,FALSE)","v":{"$error":"#REF!"}},{"$f":"VLOOKUP(#REF!,datakilder2!$G$14:$H$18,2,FALSE)","v":{"$error":"#REF!"}},{"$f":"VLOOKUP(D44,datakilder2!$G$14:$H$18,2,FALSE)","v":{"$error":"#N/A"}},{"$error":"#REF!"},{"$f":"IF(#REF!=datakilder2!$G$18,4,IF(#REF!=datakilder2!$G$17,3,IF(#REF!=datakilder2!$G$16,2,IF(#REF!=datakilder2!$G$15,1,1))))","v":{"$error":"#REF!"}}]
[44,null,null,null,{"$f":"VLOOKUP(#REF!,datakilder2!$G$14:$H$18,2,FALSE)","v":{"$error":"#REF!"}},{"$f":"VLOOKUP(#REF!,datakilder2!$G$14:$H$18,2,FALSE)","v":{"$error":"#REF!"}},{"$f":"VLOOKUP(D45,datakilder2!$G$14:$H$18,2,FALSE)","v":{"$error":"#N/A"}},{"$error":"#REF!"},{"$f":"IF(#REF!=datakilder2!$G$18,4,IF(#REF!=datakilder2!$G$17,3,IF(#REF!=datakilder2!$G$16,2,IF(#REF!=datakilder2!$G$15,1,1))))","v":{"$error":"#REF!"}}]
[45,null,null,null,{"$f":"VLOOKUP(#REF!,datakilder2!$G$14:$H$18,2,FALSE)","v":{"$error":"#REF!"}},{"$f":"VLOOKUP(#REF!,datakilder2!$G$14:$H$18,2,FALSE)","v":{"$error":"#REF!"}},{"$f":"VLOOKUP(D46,datakilder2!$G$14:$H$18,2,FALSE)","v":{"$error":"#N/A"}},{"$error":"#REF!"},{"$f":"IF(#REF!=datakilder2!$G$18,4,IF(#REF!=datakilder2!$G$17,3,IF(#REF!=datakilder2!$G$16,2,IF(#REF!=datakilder2!$G$15,1,1))))","v":{"$error":"#REF!"}}]
[46,null,null,null,{"$f":"VLOOKUP(#REF!,datakilder2!$G$14:$H$18,2,FALSE)","v":{"$error":"#REF!"}},{"$f":"VLOOKUP(#REF!,datakilder2!$G$14:$H$18,2,FALSE)","v":{"$error":"#REF!"}},{"$f":"VLOOKUP(D47,datakilder2!$G$14:$H$18,2,FALSE)","v":{"$error":"#N/A"}},{"$error":"#REF!"},{"$f":"IF(#REF!=datakilder2!$G$18,4,IF(#REF!=datakilder2!$G$17,3,IF(#REF!=datakilder2!$G$16,2,IF(#REF!=datakilder2!$G$15,1,1))))","v":{"$error":"#REF!"}}]
[47,null,null,null,{"$f":"VLOOKUP(#REF!,datakilder2!$G$14:$H$18,2,FALSE)","v":{"$error":"#REF!"}},{"$f":"VLOOKUP(#REF!,datakilder2!$G$14:$H$18,2,FALSE)","v":{"$error":"#REF!"}},{"$f":"VLOOKUP(D48,datakilder2!$G$14:$H$18,2,FALSE)","v":{"$error":"#N/A"}},{"$error":"#REF!"},{"$f":"IF(#REF!=datakilder2!$G$18,4,IF(#REF!=datakilder2!$G$17,3,IF(#REF!=datakilder2!$G$16,2,IF(#REF!=datakilder2!$G$15,1,1))))","v":{"$error":"#REF!"}}]
[48,null,null,null,{"$f":"VLOOKUP(#REF!,datakilder2!$G$14:$H$18,2,FALSE)","v":{"$error":"#REF!"}},{"$f":"VLOOKUP(#REF!,datakilder2!$G$14:$H$18,2,FALSE)","v":{"$error":"#REF!"}},{"$f":"VLOOKUP(D49,datakilder2!$G$14:$H$18,2,FALSE)","v":{"$error":"#N/A"}},{"$error":"#REF!"},{"$f":"IF(#REF!=datakilder2!$G$18,4,IF(#REF!=datakilder2!$G$17,3,IF(#REF!=datakilder2!$G$16,2,IF(#REF!=datakilder2!$G$15,1,1))))","v":{"$error":"#REF!"}}]
[49,null,null,null,{"$f":"VLOOKUP(#REF!,datakilder2!$G$14:$H$18,2,FALSE)","v":{"$error":"#REF!"}},{"$f":"VLOOKUP(#REF!,datakilder2!$G$14:$H$18,2,FALSE)","v":{"$error":"#REF!"}},{"$f":"VLOOKUP(D50,datakilder2!$G$14:$H$18,2,FALSE)","v":{"$error":"#N/A"}},{"$error":"#REF!"},{"$f":"IF(#REF!=datakilder2!$G$18,4,IF(#REF!=datakilder2!$G$17,3,IF(#REF!=datakilder2!$G$16,2,IF(#REF!=datakilder2!$G$15,1,1))))","v":{"$error":"#REF!"}}]
[50,null,null,null,{"$f":"VLOOKUP(#REF!,datakilder2!$G$14:$H$18,2,FALSE)","v":{"$error":"#REF!"}},{"$f":"VLOOKUP(#REF!,datakilder2!$G$14:$H$18,2,FALSE)","v":{"$error":"#REF!"}},{"$f":"VLOOKUP(D51,datakilder2!$G$14:$H$18,2,FALSE)","v":{"$error":"#N/A"}},{"$error":"#REF!"},{"$f":"IF(#REF!=datakilder2!$G$18,4,IF(#REF!=datakilder2!$G$17,3,IF(#REF!=datakilder2!$G$16,2,IF(#REF!=datakilder2!$G$15,1,1))))","v":{"$error":"#REF!"}}]
[51,null,null,null,{"$f":"VLOOKUP(#REF!,datakilder2!$G$14:$H$18,2,FALSE)","v":{"$error":"#REF!"}},{"$f":"VLOOKUP(#REF!,datakilder2!$G$14:$H$18,2,FALSE)","v":{"$error":"#REF!"}},{"$f":"VLOOKUP(D52,datakilder2!$G$14:$H$18,2,FALSE)","v":{"$error":"#N/A"}},{"$error":"#REF!"},{"$f":"IF(#REF!=datakilder2!$G$18,4,IF(#REF!=datakilder2!$G$17,3,IF(#REF!=datakilder2!$G$16,2,IF(#REF!=datakilder2!$G$15,1,1))))","v":{"$error":"#REF!"}}]
[52,null,null,null,{"$f":"VLOOKUP(#REF!,datakilder2!$G$14:$H$18,2,FALSE)","v":{"$error":"#REF!"}},{"$f":"VLOOKUP(#REF!,datakilder2!$G$14:$H$18,2,FALSE)","v":{"$error":"#REF!"}},{"$f":"VLOOKUP(D53,datakilder2!$G$14:$H$18,2,FALSE)","v":{"$error":"#N/A"}},{"$error":"#REF!"},{"$f":"IF(#REF!=datakilder2!$G$18,4,IF(#REF!=datakilder2!$G$17,3,IF(#REF!=datakilder2!$G$16,2,IF(#REF!=datakilder2!$G$15,1,1))))","v":{"$error":"#REF!"}}]
[53,null,null,null,{"$f":"VLOOKUP(#REF!,datakilder2!$G$14:$H$18,2,FALSE)","v":{"$error":"#REF!"}},{"$f":"VLOOKUP(#REF!,datakilder2!$G$14:$H$18,2,FALSE)","v":{"$error":"#REF!"}},{"$f":"VLOOKUP(D54,datakilder2!$G$14:$H$18,2,FALSE)","v":{"$error":"#N/A"}},{"$error":"#REF!"},{"$f":"IF(#REF!=datakilder2!$G$18,4,IF(#REF!=datakilder2!$G$17,3,IF(#REF!=datakilder2!$G$16,2,IF(#REF!=datakilder2!$G$15,1,1))))","v":{"$error":"#REF!"}}]
[54,null,null,null,{"$f":"VLOOKUP(#REF!,datakilder2!$G$14:$H$18,2,FALSE)","v":{"$error":"#REF!"}},{"$f":"VLOOKUP(#REF!,datakilder2!$G$14:$H$18,2,FALSE)","v":{"$error":"#REF!"}},{"$f":"VLOOKUP(D55,datakilder2!$G$14:$H$18,2,FALSE)","v":{"$error":"#N/A"}},{"$error":"#REF!"},{"$f":"IF(#REF!=datakilder2!$G$18,4,IF(#REF!=datakilder2!$G$17,3,IF(#REF!=datakilder2!$G$16,2,IF(#REF!=datakilder2!$G$15,1,1))))","v":{"$error":"#REF!"}}]
[55,null,null,null,{"$f":"VLOOKUP(#REF!,datakilder2!$G$14:$H$18,2,FALSE)","v":{"$error":"#REF!"}},{"$f":"VLOOKUP(#REF!,datakilder2!$G$14:$H$18,2,FALSE)","v":{"$error":"#REF!"}},{"$f":"VLOOKUP(D56,datakilder2!$G$14:$H$18,2,FALSE)","v":{"$error":"#N/A"}},{"$error":"#REF!"},{"$f":"IF(#REF!=datakilder2!$G$18,4,IF(#REF!=datakilder2!$G$17,3,IF(#REF!=datakilder2!$G$16,2,IF(#REF!=datakilder2!$G$15,1,1))))","v":{"$error":"#REF!"}}]
[56,null,null,null,{"$f":"VLOOKUP(#REF!,datakilder2!$G$14:$H$18,2,FALSE)","v":{"$error":"#REF!"}},{"$f":"VLOOKUP(#REF!,datakilder2!$G$14:$H$18,2,FALSE)","v":{"$error":"#REF!"}},{"$f":"VLOOKUP(D57,datakilder2!$G$14:$H$18,2,FALSE)","v":{"$error":"#N/A"}},{"$error":"#REF!"},{"$f":"IF(#REF!=datakilder2!$G$18,4,IF(#REF!=datakilder2!$G$17,3,IF(#REF!=datakilder2!$G$16,2,IF(#REF!=datakilder2!$G$15,1,1))))","v":{"$error":"#REF!"}}]
[57,null,null,null,{"$f":"VLOOKUP(#REF!,datakilder2!$G$14:$H$18,2,FALSE)","v":{"$error":"#REF!"}},{"$f":"VLOOKUP(#REF!,datakilder2!$G$14:$H$18,2,FALSE)","v":{"$error":"#REF!"}},{"$f":"VLOOKUP(D58,datakilder2!$G$14:$H$18,2,FALSE)","v":{"$error":"#N/A"}},{"$error":"#REF!"},{"$f":"IF(#REF!=datakilder2!$G$18,4,IF(#REF!=datakilder2!$G$17,3,IF(#REF!=datakilder2!$G$16,2,IF(#REF!=datakilder2!$G$15,1,1))))","v":{"$error":"#REF!"}}]
[58,null,null,null,{"$f":"VLOOKUP(#REF!,datakilder2!$G$14:$H$18,2,FALSE)","v":{"$error":"#REF!"}},{"$f":"VLOOKUP(#REF!,datakilder2!$G$14:$H$18,2,FALSE)","v":{"$error":"#REF!"}},{"$f":"VLOOKUP(D59,datakilder2!$G$14:$H$18,2,FALSE)","v":{"$error":"#N/A"}},{"$error":"#REF!"},{"$f":"IF(#REF!=datakilder2!$G$18,4,IF(#REF!=datakilder2!$G$17,3,IF(#REF!=datakilder2!$G$16,2,IF(#REF!=datakilder2!$G$15,1,1))))","v":{"$error":"#REF!"}}]
[59,null,null,null,{"$f":"VLOOKUP(#REF!,datakilder2!$G$14:$H$18,2,FALSE)","v":{"$error":"#REF!"}},{"$f":"VLOOKUP(#REF!,datakilder2!$G$14:$H$18,2,FALSE)","v":{"$error":"#REF!"}},{"$f":"VLOOKUP(D60,datakilder2!$G$14:$H$18,2,FALSE)","v":{"$error":"#N/A"}},{"$error":"#REF!"},{"$f":"IF(#REF!=datakilder2!$G$18,4,IF(#REF!=datakilder2!$G$17,3,IF(#REF!=datakilder2!$G$16,2,IF(#REF!=datakilder2!$G$15,1,1))))","v":{"$error":"#REF!"}}]
[60,null,null,null,{"$f":"VLOOKUP(#REF!,datakilder2!$G$14:$H$18,2,FALSE)","v":{"$error":"#REF!"}},{"$f":"VLOOKUP(#REF!,datakilder2!$G$14:$H$18,2,FALSE)","v":{"$error":"#REF!"}},{"$f":"VLOOKUP(D61,datakilder2!$G$14:$H$18,2,FALSE)","v":{"$error":"#N/A"}},{"$error":"#REF!"},{"$f":"IF(#REF!=datakilder2!$G$18,4,IF(#REF!=datakilder2!$G$17,3,IF(#REF!=datakilder2!$G$16,2,IF(#REF!=datakilder2!$G$15,1,1))))","v":{"$error":"#REF!"}}]
[61,null,null,null,{"$f":"VLOOKUP(#REF!,datakilder2!$G$14:$H$18,2,FALSE)","v":{"$error":"#REF!"}},{"$f":"VLOOKUP(#REF!,datakilder2!$G$14:$H$18,2,FALSE)","v":{"$error":"#REF!"}},{"$f":"VLOOKUP(D62,datakilder2!$G$14:$H$18,2,FALSE)","v":{"$error":"#N/A"}},{"$error":"#REF!"},{"$f":"IF(#REF!=datakilder2!$G$18,4,IF(#REF!=datakilder2!$G$17,3,IF(#REF!=datakilder2!$G$16,2,IF(#REF!=datakilder2!$G$15,1,1))))","v":{"$error":"#REF!"}}]
[62,null,null,null,{"$f":"VLOOKUP(#REF!,datakilder2!$G$14:$H$18,2,FALSE)","v":{"$error":"#REF!"}},{"$f":"VLOOKUP(#REF!,datakilder2!$G$14:$H$18,2,FALSE)","v":{"$error":"#REF!"}},{"$f":"VLOOKUP(D63,datakilder2!$G$14:$H$18,2,FALSE)","v":{"$error":"#N/A"}},{"$error":"#REF!"},{"$f":"IF(#REF!=datakilder2!$G$18,4,IF(#REF!=datakilder2!$G$17,3,IF(#REF!=datakilder2!$G$16,2,IF(#REF!=datakilder2!$G$15,1,1))))","v":{"$error":"#REF!"}}]
[63,null,null,null,{"$f":"VLOOKUP(#REF!,datakilder2!$G$14:$H$18,2,FALSE)","v":{"$error":"#REF!"}},{"$f":"VLOOKUP(#REF!,datakilder2!$G$14:$H$18,2,FALSE)","v":{"$error":"#REF!"}},{"$f":"VLOOKUP(D64,datakilder2!$G$14:$H$18,2,FALSE)","v":{"$error":"#N/A"}},{"$error":"#REF!"},{"$f":"IF(#REF!=datakilder2!$G$18,4,IF(#REF!=datakilder2!$G$17,3,IF(#REF!=datakilder2!$G$16,2,IF(#REF!=datakilder2!$G$15,1,1))))","v":{"$error":"#REF!"}}]
[64,null,null,null,{"$f":"VLOOKUP(#REF!,datakilder2!$G$14:$H$18,2,FALSE)","v":{"$error":"#REF!"}},{"$f":"VLOOKUP(#REF!,datakilder2!$G$14:$H$18,2,FALSE)","v":{"$error":"#REF!"}},{"$f":"VLOOKUP(D65,datakilder2!$G$14:$H$18,2,FALSE)","v":{"$error":"#N/A"}},{"$error":"#REF!"},{"$f":"IF(#REF!=datakilder2!$G$18,4,IF(#REF!=datakilder2!$G$17,3,IF(#REF!=datakilder2!$G$16,2,IF(#REF!=datakilder2!$G$15,1,1))))","v":{"$error":"#REF!"}}]
[65,null,null,null,{"$f":"VLOOKUP(#REF!,datakilder2!$G$14:$H$18,2,FALSE)","v":{"$error":"#REF!"}},{"$f":"VLOOKUP(#REF!,datakilder2!$G$14:$H$18,2,FALSE)","v":{"$error":"#REF!"}},{"$f":"VLOOKUP(D66,datakilder2!$G$14:$H$18,2,FALSE)","v":{"$error":"#N/A"}},{"$error":"#REF!"},{"$f":"IF(#REF!=datakilder2!$G$18,4,IF(#REF!=datakilder2!$G$17,3,IF(#REF!=datakilder2!$G$16,2,IF(#REF!=datakilder2!$G$15,1,1))))","v":{"$error":"#REF!"}}]
[66,null,null,null,{"$f":"VLOOKUP(#REF!,datakilder2!$G$14:$H$18,2,FALSE)","v":{"$error":"#REF!"}},{"$f":"VLOOKUP(#REF!,datakilder2!$G$14:$H$18,2,FALSE)","v":{"$error":"#REF!"}},{"$f":"VLOOKUP(D67,datakilder2!$G$14:$H$18,2,FALSE)","v":{"$error":"#N/A"}},{"$f":"IF(MAX(E67:G67)>0,MAX(E67:G67),\"\")","v":{"$error":"#REF!"}},{"$f":"IF(#REF!=datakilder2!$G$18,4,IF(#REF!=datakilder2!$G$17,3,IF(#REF!=datakilder2!$G$16,2,IF(#REF!=datakilder2!$G$15,1,1))))","v":{"$error":"#REF!"}}]
[67,null,null,null,{"$f":"VLOOKUP(#REF!,datakilder2!$G$14:$H$18,2,FALSE)","v":{"$error":"#REF!"}},{"$f":"VLOOKUP(#REF!,datakilder2!$G$14:$H$18,2,FALSE)","v":{"$error":"#REF!"}},{"$f":"VLOOKUP(D68,datakilder2!$G$14:$H$18,2,FALSE)","v":{"$error":"#N/A"}},{"$error":"#REF!"},{"$f":"IF(#REF!=datakilder2!$G$18,4,IF(#REF!=datakilder2!$G$17,3,IF(#REF!=datakilder2!$G$16,2,IF(#REF!=datakilder2!$G$15,1,1))))","v":{"$error":"#REF!"}}]
[68,null,null,null,{"$f":"VLOOKUP(#REF!,datakilder2!$G$14:$H$18,2,FALSE)","v":{"$error":"#REF!"}},{"$f":"VLOOKUP(#REF!,datakilder2!$G$14:$H$18,2,FALSE)","v":{"$error":"#REF!"}},{"$f":"VLOOKUP(D69,datakilder2!$G$14:$H$18,2,FALSE)","v":{"$error":"#N/A"}},{"$error":"#REF!"},{"$f":"IF(#REF!=datakilder2!$G$18,4,IF(#REF!=datakilder2!$G$17,3,IF(#REF!=datakilder2!$G$16,2,IF(#REF!=datakilder2!$G$15,1,1))))","v":{"$error":"#REF!"}}]
[69,null,null,null,{"$f":"VLOOKUP(#REF!,datakilder2!$G$14:$H$18,2,FALSE)","v":{"$error":"#REF!"}},{"$f":"VLOOKUP(#REF!,datakilder2!$G$14:$H$18,2,FALSE)","v":{"$error":"#REF!"}},{"$f":"VLOOKUP(D70,datakilder2!$G$14:$H$18,2,FALSE)","v":{"$error":"#N/A"}},{"$error":"#REF!"},{"$f":"IF(#REF!=datakilder2!$G$18,4,IF(#REF!=datakilder2!$G$17,3,IF(#REF!=datakilder2!$G$16,2,IF(#REF!=datakilder2!$G$15,1,1))))","v":{"$error":"#REF!"}}]
[70,null,null,null,{"$f":"VLOOKUP(#REF!,datakilder2!$G$14:$H$18,2,FALSE)","v":{"$error":"#REF!"}},{"$f":"VLOOKUP(#REF!,datakilder2!$G$14:$H$18,2,FALSE)","v":{"$error":"#REF!"}},{"$f":"VLOOKUP(D71,datakilder2!$G$14:$H$18,2,FALSE)","v":{"$error":"#N/A"}},{"$error":"#REF!"},{"$f":"IF(#REF!=datakilder2!$G$18,4,IF(#REF!=datakilder2!$G$17,3,IF(#REF!=datakilder2!$G$16,2,IF(#REF!=datakilder2!$G$15,1,1))))","v":{"$error":"#REF!"}}]
[71,null,null,null,{"$f":"VLOOKUP(#REF!,datakilder2!$G$14:$H$18,2,FALSE)","v":{"$error":"#REF!"}},{"$f":"VLOOKUP(#REF!,datakilder2!$G$14:$H$18,2,FALSE)","v":{"$error":"#REF!"}},{"$f":"VLOOKUP(D72,datakilder2!$G$14:$H$18,2,FALSE)","v":{"$error":"#N/A"}},{"$error":"#REF!"},{"$f":"IF(#REF!=datakilder2!$G$18,4,IF(#REF!=datakilder2!$G$17,3,IF(#REF!=datakilder2!$G$16,2,IF(#REF!=datakilder2!$G$15,1,1))))","v":{"$error":"#REF!"}}]
[72,null,null,null,{"$f":"VLOOKUP(#REF!,datakilder2!$G$14:$H$18,2,FALSE)","v":{"$error":"#REF!"}},{"$f":"VLOOKUP(#REF!,datakilder2!$G$14:$H$18,2,FALSE)","v":{"$error":"#REF!"}},{"$f":"VLOOKUP(D73,datakilder2!$G$14:$H$18,2,FALSE)","v":{"$error":"#N/A"}},{"$error":"#REF!"},{"$f":"IF(#REF!=datakilder2!$G$18,4,IF(#REF!=datakilder2!$G$17,3,IF(#REF!=datakilder2!$G$16,2,IF(#REF!=datakilder2!$G$15,1,1))))","v":{"$error":"#REF!"}}]
[73,null,null,null,{"$f":"VLOOKUP(#REF!,datakilder2!$G$14:$H$18,2,FALSE)","v":{"$error":"#REF!"}},{"$f":"VLOOKUP(#REF!,datakilder2!$G$14:$H$18,2,FALSE)","v":{"$error":"#REF!"}},{"$f":"VLOOKUP(D74,datakilder2!$G$14:$H$18,2,FALSE)","v":{"$error":"#N/A"}},{"$error":"#REF!"},{"$f":"IF(#REF!=datakilder2!$G$18,4,IF(#REF!=datakilder2!$G$17,3,IF(#REF!=datakilder2!$G$16,2,IF(#REF!=datakilder2!$G$15,1,1))))","v":{"$error":"#REF!"}}]
[74,null,null,null,{"$f":"VLOOKUP(#REF!,datakilder2!$G$14:$H$18,2,FALSE)","v":{"$error":"#REF!"}},{"$f":"VLOOKUP(#REF!,datakilder2!$G$14:$H$18,2,FALSE)","v":{"$error":"#REF!"}},{"$f":"VLOOKUP(D75,datakilder2!$G$14:$H$18,2,FALSE)","v":{"$error":"#N/A"}},{"$error":"#REF!"},{"$f":"IF(#REF!=datakilder2!$G$18,4,IF(#REF!=datakilder2!$G$17,3,IF(#REF!=datakilder2!$G$16,2,IF(#REF!=datakilder2!$G$15,1,1))))","v":{"$error":"#REF!"}}]
[75,null,null,null,{"$f":"VLOOKUP(#REF!,datakilder2!$G$14:$H$18,2,FALSE)","v":{"$error":"#REF!"}},{"$f":"VLOOKUP(#REF!,datakilder2!$G$14:$H$18,2,FALSE)","v":{"$error":"#REF!"}},{"$f":"VLOOKUP(D76,datakilder2!$G$14:$H$18,2,FALSE)","v":{"$error":"#N/A"}},{"$error":"#REF!"},{"$f":"IF(#REF!=datakilder2!$G$18,4,IF(#REF!=datakilder2!$G$17,3,IF(#REF!=datakilder2!$G$16,2,IF(#REF!=datakilder2!$G$15,1,1))))","v":{"$error":"#REF!"}}]
[76,null,null,null,{"$f":"VLOOKUP(#REF!,datakilder2!$G$14:$H$18,2,FALSE)","v":{"$error":"#REF!"}},{"$f":"VLOOKUP(#REF!,datakilder2!$G$14:$H$18,2,FALSE)","v":{"$error":"#REF!"}},{"$f":"VLOOKUP(D77,datakilder2!$G$14:$H$18,2,FALSE)","v":{"$error":"#N/A"}},{"$error":"#REF!"},{"$f":"IF(#REF!=datakilder2!$G$18,4,IF(#REF!=datakilder2!$G$17,3,IF(#REF!=datakilder2!$G$16,2,IF(#REF!=datakilder2!$G$15,1,1))))","v":{"$error":"#REF!"}}]
[77,null,null,null,{"$f":"VLOOKUP(#REF!,datakilder2!$G$14:$H$18,2,FALSE)","v":{"$error":"#REF!"}},{"$f":"VLOOKUP(#REF!,datakilder2!$G$14:$H$18,2,FALSE)","v":{"$error":"#REF!"}},{"$f":"VLOOKUP(D78,datakilder2!$G$14:$H$18,2,FALSE)","v":{"$error":"#N/A"}},{"$error":"#REF!"},{"$f":"IF(#REF!=datakilder2!$G$18,4,IF(#REF!=datakilder2!$G$17,3,IF(#REF!=datakilder2!$G$16,2,IF(#REF!=datakilder2!$G$15,1,1))))","v":{"$error":"#REF!"}}]
[78,null,null,null,null,null,null,{"$f":"IF(MAX(D79:D79)>0,MAX(D79:D79),\"\")","v":""}]
[79,null,null,null,null,null,null,""]
[80,null,null,null,null,null,null,""]
[81,null,null,null,null,null,null,""]
[82,null,null,null,null,null,null,""]
[83,null,null,null,null,null,null,""]
[84,null,null,null,null,null,null,""]
[85,null,null,null,null,null,null,""]
[86,null,null,null,null,null,null,""]
[87,null,null,null,null,null,null,""]
[88,null,null,null,null,null,null,""]
[89,null,null,null,null,null,null,""]
[90,null,null,null,null,null,null,""]
[91,null,null,null,null,null,null,""]
[92,null,null,null,null,null,null,""]
[93,null,null,null,null,null,null,""]
[94,null,null,null,null,null,null,""]
[95,null,null,null,null,null,null,""]
[96,null,null,null,null,null,null,""]
[97,null,null,null,null,null,null,""]
[98,null,null,null,null,null,null,""]
[99,null,null,null,null,null,null,""]
[100,null,null,null,null,null,null,""]
[101,null,null,null,null,null,null,""]
[102,null,null,null,null,null,null,""]
[103,null,null,null,null,null,null,""]
[104,null,null,null,null,null,null,""]
[105,null,null,null,null,null,null,""]
[106,null,null,null,null,null,null,""]
[107,null,null,null,null,null,null,""]
[108,null,null,null,null,null,null,""]
[109,null,null,null,null,null,null,""]
[110,null,null,null,null,null,null,{"$f":"IF(MAX(D111:D111)>0,MAX(D111:D111),\"\")","v":""}]
[111,null,null,null,null,null,null,""]
[112,null,null,null,null,null,null,""]
[113,null,null,null,null,null,null,""]
[114,null,null,null,null,null,null,""]
[115,null,null,null,null,null,null,""]
[116,null,null,null,null,null,null,""]
[117,null,null,null,null,null,null,""]
[118,null,null,null,null,null,null,""]
[119,null,null,null,null,null,null,""]
[120,null,null,null,null,null,null,""]
[121,null,null,null,null,null,null,""]
[122,null,null,null,null,null,null,""]
[123,null,null,null,null,null,null,""]
[124,null,null,null,null,null,null,""]
[125,null,null,null,null,null,null,""]
[126,null,null,null,null,null,null,""]
[127,null,null,null,null,null,null,""]
[128,null,null,null,null,null,null,""]
[129,null,null,null,null,null,null,""]
[130,null,null,null,null,null,null,""]
[131,null,null,null,null,null,null,""]
[132,null,null,null,null,null,null,""]
[133,null,null,null,null,null,null,""]
[134,null,null,null,null,null,null,""]
[135,null,null,null,null,null,null,""]
[136,null,null,null,null,null,null,""]
[137,null,null,null,null,null,null,""]
[138,null,null,null,null,null,null,""]
[139,null,null,null,null,null,null,""]
[140,null,null,null,null,null,null,""]
[141,null,null,null,null,null,null,""]
[142,null,null,null,null,null,null,{"$f":"IF(MAX(D143:D143)>0,MAX(D143:D143),\"\")","v":""}]
[143,null,null,null,null,null,null,""]
[144,null,null,null,null,null,null,""]
[145,null,null,null,null,null,null,""]
[146,null,null,null,null,null,null,""]
[147,null,null,null,null,null,null,""]
[148,null,null,null,null,null,null,""]
[149,null,null,null,null,null,null,""]
[150]
[151]
[152]
[153]
[154]
[155]
[156]
[157]
[158]
[159]
[160]
[161]
[162]
[163]
[164]
[165]
[166]
[167]
[168]
[169]
[170]
[171]
[172]
[173]
[174]
[175]
[176]
[177]
[178]
[179]
[180]
[181]
[182]
[183]
[184]
[185]
[186]
[187]
[188]
[189]
[190]
[191]
[192]
[193]
[194]
[195]
[196]
[197]
[198]
[199]
[200]
[201]
[202]
[203]
[204]
[205]
[206]
[207]
[208]
[209]
[210]
[211]
[212]
[213]
[214]
[215]
[216]
[217]
[218]
[219]
[220]
[221]
[222]
[223]
[224]
[225]
[226]
[227]
[228]
[229]
[230]
[231]
[232]
[233]
[234]
[235]
[236]
[237]
[238]
[239]
[240]
[241]
[242]
[243]
[244]
[245]
[246]
[247]
[248]
[249]
[250]
[251]
[252]
[253]
[254]
[255]
[256]
[257]
[258]
[259]
[260]
[261]
[262]
[263]
[264]
[265]
[266]
[267]
[268]
[269]
[270]
[271]
[272]
[273]
[274]
[275]
[276]
[277]
[278]
[279]
[280]
[281]
[282]
[283]
[284]
[285]
[286]
[287]
[288]
[289]
[290]
[291]
[292]
[293]
[294]
[295]
[296]
[297]
[298]
[299]
[300]
[301]
[302]
[303]
[304]
[305]
[306]
[307]
[308]
[309]
[310]
[311]
[312]
[313]
[314]
[315]
[316]
[317]
[318]
[319]
[320]
[321]
[322]
[323]
[324]
[325]
[326]
[327]
[328]
[329]
[330]
[331]
[332]
[333]
[334]
[335]
[336]
[337]
[338]
[339]
[340]
[341]
[342]
[343]
[344]
[345]
[346]
[347]
[348]
[349]
[350]
[351]
[352]
[353]
[354]
[355]
[356]
[357]
[358]
[359]
[360]
[361]
[362]
[363]
[364]
[365]
[366]
[367]
[368]
[369]
[370]
[371]
[372]
[373]
[374]
[375]
[376]
[377]
[378]
[379]
[380]
[381]
[382]
[383]
[384]
[385]
[386]
[387]
[388]
[389]
[390]
[391]
[392]
[393]
[394]
[395]
[396]
[397]
[398]
[399]
[400]
[401]
[402]
[403]
[404]
[405]
[406]
[407]
[408]
[409]
[410]
[411]
[412]
[413]
[414]
[415]
[416]
[417]
[418]
[419]
[420]
[421]
[422]
[423]
[424]
[425]
[426]
[427]
[428]
[429]
[430]
[431]
[432]
[433]
[434]
[435]
[436]
[437]
[438]
[439]
[440]
[441]
[442]
[443]
[444]
[445]
[446]
[447]
[448]
[449]
[450]
[451]
[452]
[453]
[454]
[455]
[456]
[457]
[458]
[459]
[460]
[461]
[462]
[463]
[464]
[465]
[466]
[467]
[468]
[469]
[470]
[471]
[472]
[473]
[474]
[475]
[476]
[477]
[478]
[479]
[480]
[481]
[482]
[483]
[484]
[485]
[486]
[487]
[488]
[489]
[490]
[491]
[492]
[493]
[494]
[495]
[496]
[497]
[498]
[499]
[500]
[501]
[502]
[503]
[504]
[505]
[506]
[507]
[508]
[509]
[510]
[511]
[512]
[513]
[514]
[515]
[516]
[517]
[518]
[519]
[520]
[521]
[522]
[523]
[524]
[525]
[526]
[527]
[528]
[529]
[530]
[531]
[532]
[533]
[534]
[535]
[536]
[537]
[538]
[539]
[540]
[541]
[542]
[543]
[544]
[545]
[546]
[547]
[548]
[549]
[550]
[551]
[552]
[553]
[554]
[555]
[556]
[557]
[558]
[559]
[560]
[561]
[562]
[563]
[564]
[565]
[566]
[567]
[568]
[569]
[570]
[571]
[572]
[573]
[574]
[575]
[576]
[577]
[578]
[579]
[580]
[581]
[582]
[583]
[584]
[585]
[586]
[587]
[588]
[589]
[590]
[591]
[592]
[593]
[594]
[595]
[596]
[597]
[598]
[599]
[600]
[601]
[602]
[603]
[604]
[605]
[606]
[607]
[608]
[609]
[610]
[611]
[612]
[613]
[614]
[615]
[616]
[617]
[618]
[619]
[620]
[621]
[622]
[623]
[624]
[625]
[626]
[627]
[628]
[629]
[630]
[631]
[632]
[633]
[634]
[635]
[636]
[637]
[638]
[639]
[640]
[641]
[642]
[643]
[644]
[645]
[646]
[647]
[648]
[649]
[650]
[651]
[652]
[653]
[654]
[655]
[656]
[657]
[658]
[659]
[660]
[661]
[662]
[663]
[664]
[665]
[666]
[667]
[668]
[669]
[670]
[671]
[672]
[673]
[674]
[675]
[676]
[677]
[678]
[679]
[680]
[681]
[682]
[683]
[684]
[685]
[686]
[687]
[688]
[689]
[690]
[691]
[692]
[693]
[694]
[695]
[696]
[697]
[698]
[699]
[700]
[701]
[702]
[703]
[704]
[705]
[706]
[707]
[708]
[709]
[710]
[711]
[712]
[713]
[714]
[715]
[716]
[717]
[718]
[719]
[720]
[721]
[722]
[723]
[724]
[725]
[726]
[727]
[728]
[729]
[730]
[731]
[732]
[733]
[734]
[735]
[736]
[737]
[738]
[739]
[740]
[741]
[742]
[743]
[744]
[745]
[746]
[747]
[748]
[749]
[750]
[751]
[752]
[753]
[754]
[755]
[756]
[757]
[758]
[759]
[760]
[761]
[762]
[763]
[764]
[765]
[766]
[767]
[768]
[769]
[770]
[771]
[772]
[773]
[774]
[775]
[776]
[777]
[778]
[779]
[780]
[781]
[782]
[783]
[784]
[785]
[786]
[787]
[788]
[789]
[790]
[791]
[792]
[793]
[794]
[795]
[796]
[797]
[798]
[799]
[800]
[801]
[802]
[803]
[804]
[805]
[806]
[807]
[808]
[809]
[810]
[811]
[812]
[813]
[814]
[815]
[816]
[817]
[818]
[819]
[820]
[821]
[822]
[823]
[824]
[825]
[826]
[827]
[828]
[829]
[830]
[831]
[832]
[833]
[834]
[835]
[836]
[837]
[838]
[839]
[840]
[841]
[842]
[843]
[844]
[845]
[846]
[847]
[848]
[849]
[850]
[851]
[852]
[853]
[854]
[855]
[856]
[857]
[858]
[859]
[860]
[861]
[862]
[863]
[864]
[865]
[866]
[867]
[868]
[869]
[870]
[871]
[872]
[873]
[874]
[875]
[876]
[877]
[878]
[879]
[880]
[881]
[882]
[883]
[884]
[885]
[886]
[887]
[888]
[889]
[890]
[891]
[892]
[893]
[894]
[895]
[896]
[897]
[898]
[899]
[900]
[901]
[902]
[903]
[904]
[905]
[906]
[907]
[908]
[909]
[910]
[911]
[912]
[913]
[914]
[915]
[916]
[917]
[918]
[919]
[920]
[921]
[922]
[923]
[924]
[925]
[926]
[927]
[928]
[929]
[930]
[931]
[932]
[933]
[934]
[935]
[936]
[937]
[938]
[939]
[940]
[941]
[942]
[943]
[944]
[945]
[946]
[947]
[948]
[949]
[950]
[951]
[952]
[953]
[954]
[955]
[956]
[957]
[958]
[959]
[960]
[961]
[962]
[963]
[964]
[965]
[966]
[967]
[968]
[969]
[970]
[971]
[972]
[973]
[974]
[975]
[976]
[977]
[978]
[979]
[980]
[981]
[982]
[983]
[984]
[985]
[986]
[987]
[988]
[989]
[990]
[991]
[992]
[993]
[994]
[995]
[996]
[997]
[998]
[999]

{"sheet":"Konsekvenskriterier","index":5,"n_rows":1000,"n_cols":8,"rows_kept":1000,"cut":false,"hidden":false,"merged":[]}
["#","Beskrivelse av hendelse","Konsekvens",null,null,null,"Beregnet verdi","Justert verdi"]
[1,"Informasjon finnes ikke - farlig, dyrt og skader omdømme","Alvorlig",{"$f":"VLOOKUP(#REF!,datakilder2!$G$14:$H$18,2,FALSE)","v":{"$error":"#REF!"}},{"$f":"VLOOKUP(#REF!,datakilder2!$G$14:$H$18,2,FALSE)","v":{"$error":"#REF!"}},{"$f":"VLOOKUP(C2,datakilder2!$G$14:$H$18,2,FALSE)","v":4},{"$f":"IF(MAX(D2:F2)>0,MAX(D2:F2),\"\")","v":{"$error":"#REF!"}},{"$f":"IF(#REF!=datakilder2!$G$18,4,IF(#REF!=datakilder2!$G$17,3,IF(#REF!=datakilder2!$G$16,2,IF(#REF!=datakilder2!$G$15,1,1))))","v":{"$error":"#REF!"}}]
[2,"Informasjon finnes ikke - ille, men vi tåler det","Moderat",{"$f":"VLOOKUP(#REF!,datakilder2!$G$14:$H$18,2,FALSE)","v":{"$error":"#REF!"}},{"$f":"VLOOKUP(#REF!,datakilder2!$G$14:$H$18,2,FALSE)","v":{"$error":"#REF!"}},{"$f":"VLOOKUP(C3,datakilder2!$G$14:$H$18,2,FALSE)","v":3},{"$f":"IF(MAX(D3:F3)>0,MAX(D3:F3),\"\")","v":{"$error":"#REF!"}},{"$f":"IF(#REF!=datakilder2!$G$18,4,IF(#REF!=datakilder2!$G$17,3,IF(#REF!=datakilder2!$G$16,2,IF(#REF!=datakilder2!$G$15,1,1))))","v":{"$error":"#REF!"}}]
[3,"Informasjon finnes ikke - spiller ingen rolle","Lav ",{"$f":"VLOOKUP(#REF!,datakilder2!$G$14:$H$18,2,FALSE)","v":{"$error":"#REF!"}},{"$f":"VLOOKUP(#REF!,datakilder2!$G$14:$H$18,2,FALSE)","v":{"$error":"#REF!"}},{"$f":"VLOOKUP(C4,datakilder2!$G$14:$H$18,2,FALSE)","v":2},{"$error":"#REF!"},{"$f":"IF(#REF!=datakilder2!$G$18,4,IF(#REF!=datakilder2!$G$17,3,IF(#REF!=datakilder2!$G$16,2,IF(#REF!=datakilder2!$G$15,1,1))))","v":{"$error":"#REF!"}}]
[4,"Informasjon er missvisende eller for dårlig kvalitet - farlig, dyrt og skader omdømme ","Alvorlig",{"$f":"VLOOKUP(#REF!,datakilder2!$G$14:$H$18,2,FALSE)","v":{"$error":"#REF!"}},{"$f":"VLOOKUP(#REF!,datakilder2!$G$14:$H$18,2,FALSE)","v":{"$error":"#REF!"}},{"$f":"VLOOKUP(C5,datakilder2!$G$14:$H$18,2,FALSE)","v":4},{"$error":"#REF!"},{"$f":"IF(#REF!=datakilder2!$G$18,4,IF(#REF!=datakilder2!$G$17,3,IF(#REF!=datakilder2!$G$16,2,IF(#REF!=datakilder2!$G$15,1,1))))","v":{"$error":"#REF!"}}]
[5,"Informasjon er missvisende eller for dårlig kvalitet - ille men vi tåler det","Moderat",{"$f":"VLOOKUP(#REF!,datakilder2!$G$14:$H$18,2,FALSE)","v":{"$error":"#REF!"}},{"$f":"VLOOKUP(#REF!,datakilder2!$G$14:$H$18,2,FALSE)","v":{"$error":"#REF!"}},{"$f":"VLOOKUP(C6,datakilder2!$G$14:$H$18,2,FALSE)","v":3},{"$error":"#REF!"},{"$f":"IF(#REF!=datakilder2!$G$18,4,IF(#REF!=datakilder2!$G$17,3,IF(#REF!=datakilder2!$G$16,2,IF(#REF!=datakilder2!$G$15,1,1))))","v":{"$error":"#REF!"}}]
[6,"Informasjon er missvisende eller for dårlig kvalitet - spiller ingen rolle","Lav ",{"$f":"VLOOKUP(#REF!,datakilder2!$G$14:$H$18,2,FALSE)","v":{"$error":"#REF!"}},{"$f":"VLOOKUP(#REF!,datakilder2!$G$14:$H$18,2,FALSE)","v":{"$error":"#REF!"}},{"$f":"VLOOKUP(C7,datakilder2!$G$14:$H$18,2,FALSE)","v":2},{"$error":"#REF!"},{"$f":"IF(#REF!=datakilder2!$G$18,4,IF(#REF!=datakilder2!$G$17,3,IF(#REF!=datakilder2!$G$16,2,IF(#REF!=datakilder2!$G$15,1,1))))","v":{"$error":"#REF!"}}]
[7,"Henvendelser blir ikke besvart  - farlig, dyrt og skader omdømme","Alvorlig",{"$f":"VLOOKUP(#REF!,datakilder2!$G$14:$H$18,2,FALSE)","v":{"$error":"#REF!"}},{"$f":"VLOOKUP(#REF!,datakilder2!$G$14:$H$18,2,FALSE)","v":{"$error":"#REF!"}},{"$f":"VLOOKUP(C8,datakilder2!$G$14:$H$18,2,FALSE)","v":4},{"$error":"#REF!"},{"$f":"IF(#REF!=datakilder2!$G$18,4,IF(#REF!=datakilder2!$G$17,3,IF(#REF!=datakilder2!$G$16,2,IF(#REF!=datakilder2!$G$15,1,1))))","v":{"$error":"#REF!"}}]
[8,"Henvendelser blir ikke besvart - ille men vi tåler det","Moderat",{"$f":"VLOOKUP(#REF!,datakilder2!$G$14:$H$18,2,FALSE)","v":{"$error":"#REF!"}},{"$f":"VLOOKUP(#REF!,datakilder2!$G$14:$H$18,2,FALSE)","v":{"$error":"#REF!"}},{"$f":"VLOOKUP(C9,datakilder2!$G$14:$H$18,2,FALSE)","v":3},{"$error":"#REF!"},{"$f":"IF(#REF!=datakilder2!$G$18,4,IF(#REF!=datakilder2!$G$17,3,IF(#REF!=datakilder2!$G$16,2,IF(#REF!=datakilder2!$G$15,1,1))))","v":{"$error":"#REF!"}}]
[9,"Henvendelser blir ikke besvart  - spiller ingen rolle","Lav ",{"$f":"VLOOKUP(#REF!,datakilder2!$G$14:$H$18,2,FALSE)","v":{"$error":"#REF!"}},{"$f":"VLOOKUP(#REF!,datakilder2!$G$14:$H$18,2,FALSE)","v":{"$error":"#REF!"}},{"$f":"VLOOKUP(C10,datakilder2!$G$14:$H$18,2,FALSE)","v":2},{"$error":"#REF!"},{"$f":"IF(#REF!=datakilder2!$G$18,4,IF(#REF!=datakilder2!$G$17,3,IF(#REF!=datakilder2!$G$16,2,IF(#REF!=datakilder2!$G$15,1,1))))","v":{"$error":"#REF!"}}]
[10,"Innsyn kan ikke behandles - farlig, dyrt, skader omdømme","Alvorlig",{"$f":"VLOOKUP(#REF!,datakilder2!$G$14:$H$18,2,FALSE)","v":{"$error":"#REF!"}},{"$f":"VLOOKUP(#REF!,datakilder2!$G$14:$H$18,2,FALSE)","v":{"$error":"#REF!"}},{"$f":"VLOOKUP(C11,datakilder2!$G$14:$H$18,2,FALSE)","v":4},{"$error":"#REF!"},{"$f":"IF(#REF!=datakilder2!$G$18,4,IF(#REF!=datakilder2!$G$17,3,IF(#REF!=datakilder2!$G$16,2,IF(#REF!=datakilder2!$G$15,1,1))))","v":{"$error":"#REF!"}}]
[11,"Innsyn kan ikke behandles - ille men vi tåler det","Moderat",{"$f":"VLOOKUP(#REF!,datakilder2!$G$14:$H$18,2,FALSE)","v":{"$error":"#REF!"}},{"$f":"VLOOKUP(#REF!,datakilder2!$G$14:$H$18,2,FALSE)","v":{"$error":"#REF!"}},{"$f":"VLOOKUP(C12,datakilder2!$G$14:$H$18,2,FALSE)","v":3},{"$error":"#REF!"},{"$f":"IF(#REF!=datakilder2!$G$18,4,IF(#REF!=datakilder2!$G$17,3,IF(#REF!=datakilder2!$G$16,2,IF(#REF!=datakilder2!$G$15,1,1))))","v":{"$error":"#REF!"}}]
[12,"Innsyn kan ikke behandles - spiller ingen rolle","Lav ",{"$f":"VLOOKUP(#REF!,datakilder2!$G$14:$H$18,2,FALSE)","v":{"$error":"#REF!"}},{"$f":"VLOOKUP(#REF!,datakilder2!$G$14:$H$18,2,FALSE)","v":{"$error":"#REF!"}},{"$f":"VLOOKUP(C13,datakilder2!$G$14:$H$18,2,FALSE)","v":2},{"$error":"#REF!"},{"$f":"IF(#REF!=datakilder2!$G$18,4,IF(#REF!=datakilder2!$G$17,3,IF(#REF!=datakilder2!$G$16,2,IF(#REF!=datakilder2!$G$15,1,1))))","v":{"$error":"#REF!"}}]
[13,"tom rute",null,{"$f":"VLOOKUP(#REF!,datakilder2!$G$14:$H$18,2,FALSE)","v":{"$error":"#REF!"}},{"$f":"VLOOKUP(#REF!,datakilder2!$G$14:$H$18,2,FALSE)","v":{"$error":"#REF!"}},{"$f":"VLOOKUP(C14,datakilder2!$G$14:$H$18,2,FALSE)","v":{"$error":"#N/A"}},{"$error":"#REF!"},{"$f":"IF(#REF!=datakilder2!$G$18,4,IF(#REF!=datakilder2!$G$17,3,IF(#REF!=datakilder2!$G$16,2,IF(#REF!=datakilder2!$G$15,1,1))))","v":{"$error":"#REF!"}}]
[14,null,null,{"$f":"VLOOKUP(#REF!,datakilder2!$G$14:$H$18,2,FALSE)","v":{"$error":"#REF!"}},{"$f":"VLOOKUP(#REF!,datakilder2!$G$14:$H$18,2,FALSE)","v":{"$error":"#REF!"}},{"$f":"VLOOKUP(C15,datakilder2!$G$14:$H$18,2,FALSE)","v":{"$error":"#N/A"}},{"$error":"#REF!"},{"$f":"IF(#REF!=datakilder2!$G$18,4,IF(#REF!=datakilder2!$G$17,3,IF(#REF!=datakilder2!$G$16,2,IF(#REF!=datakilder2!$G$15,1,1))))","v":{"$error":"#REF!"}}]
[15,null,null,{"$f":"VLOOKUP(#REF!,datakilder2!$G$14:$H$18,2,FALSE)","v":{"$error":"#REF!"}},{"$f":"VLOOKUP(#REF!,datakilder2!$G$14:$H$18,2,FALSE)","v":{"$error":"#REF!"}},{"$f":"VLOOKUP(C16,datakilder2!$G$14:$H$18,2,FALSE)","v":{"$error":"#N/A"}},{"$error":"#REF!"},{"$f":"IF(#REF!=datakilder2!$G$18,4,IF(#REF!=datakilder2!$G$17,3,IF(#REF!=datakilder2!$G$16,2,IF(#REF!=datakilder2!$G$15,1,1))))","v":{"$error":"#REF!"}}]
[16,null,null,{"$f":"VLOOKUP(#REF!,datakilder2!$G$14:$H$18,2,FALSE)","v":{"$error":"#REF!"}},{"$f":"VLOOKUP(#REF!,datakilder2!$G$14:$H$18,2,FALSE)","v":{"$error":"#REF!"}},{"$f":"VLOOKUP(C17,datakilder2!$G$14:$H$18,2,FALSE)","v":{"$error":"#N/A"}},{"$error":"#REF!"},{"$f":"IF(#REF!=datakilder2!$G$18,4,IF(#REF!=datakilder2!$G$17,3,IF(#REF!=datakilder2!$G$16,2,IF(#REF!=datakilder2!$G$15,1,1))))","v":{"$error":"#REF!"}}]
[17,null,null,{"$f":"VLOOKUP(#REF!,datakilder2!$G$14:$H$18,2,FALSE)","v":{"$error":"#REF!"}},{"$f":"VLOOKUP(#REF!,datakilder2!$G$14:$H$18,2,FALSE)","v":{"$error":"#REF!"}},{"$f":"VLOOKUP(C18,datakilder2!$G$14:$H$18,2,FALSE)","v":{"$error":"#N/A"}},{"$error":"#REF!"},{"$f":"IF(#REF!=datakilder2!$G$18,4,IF(#REF!=datakilder2!$G$17,3,IF(#REF!=datakilder2!$G$16,2,IF(#REF!=datakilder2!$G$15,1,1))))","v":{"$error":"#REF!"}}]
[18,null,null,{"$f":"VLOOKUP(#REF!,datakilder2!$G$14:$H$18,2,FALSE)","v":{"$error":"#REF!"}},{"$f":"VLOOKUP(#REF!,datakilder2!$G$14:$H$18,2,FALSE)","v":{"$error":"#REF!"}},{"$f":"VLOOKUP(C19,datakilder2!$G$14:$H$18,2,FALSE)","v":{"$error":"#N/A"}},{"$error":"#REF!"},{"$f":"IF(#REF!=datakilder2!$G$18,4,IF(#REF!=datakilder2!$G$17,3,IF(#REF!=datakilder2!$G$16,2,IF(#REF!=datakilder2!$G$15,1,1))))","v":{"$error":"#REF!"}}]
[19,null,null,{"$f":"VLOOKUP(#REF!,datakilder2!$G$14:$H$18,2,FALSE)","v":{"$error":"#REF!"}},{"$f":"VLOOKUP(#REF!,datakilder2!$G$14:$H$18,2,FALSE)","v":{"$error":"#REF!"}},{"$f":"VLOOKUP(C20,datakilder2!$G$14:$H$18,2,FALSE)","v":{"$error":"#N/A"}},{"$error":"#REF!"},{"$f":"IF(#REF!=datakilder2!$G$18,4,IF(#REF!=datakilder2!$G$17,3,IF(#REF!=datakilder2!$G$16,2,IF(#REF!=datakilder2!$G$15,1,1))))","v":{"$error":"#REF!"}}]
[20,null,null,{"$f":"VLOOKUP(#REF!,datakilder2!$G$14:$H$18,2,FALSE)","v":{"$error":"#REF!"}},{"$f":"VLOOKUP(#REF!,datakilder2!$G$14:$H$18,2,FALSE)","v":{"$error":"#REF!"}},{"$f":"VLOOKUP(C21,datakilder2!$G$14:$H$18,2,FALSE)","v":{"$error":"#N/A"}},{"$error":"#REF!"},{"$f":"IF(#REF!=datakilder2!$G$18,4,IF(#REF!=datakilder2!$G$17,3,IF(#REF!=datakilder2!$G$16,2,IF(#REF!=datakilder2!$G$15,1,1))))","v":{"$error":"#REF!"}}]
[21,null,null,{"$f":"VLOOKUP(#REF!,datakilder2!$G$14:$H$18,2,FALSE)","v":{"$error":"#REF!"}},{"$f":"VLOOKUP(#REF!,datakilder2!$G$14:$H$18,2,FALSE)","v":{"$error":"#REF!"}},{"$f":"VLOOKUP(C22,datakilder2!$G$14:$H$18,2,FALSE)","v":{"$error":"#N/A"}},{"$error":"#REF!"},{"$f":"IF(#REF!=datakilder2!$G$18,4,IF(#REF!=datakilder2!$G$17,3,IF(#REF!=datakilder2!$G$16,2,IF(#REF!=datakilder2!$G$15,1,1))))","v":{"$error":"#REF!"}}]
[22,null,null,{"$f":"VLOOKUP(#REF!,datakilder2!$G$14:$H$18,2,FALSE)","v":{"$error":"#REF!"}},{"$f":"VLOOKUP(#REF!,datakilder2!$G$14:$H$18,2,FALSE)","v":{"$error":"#REF!"}},{"$f":"VLOOKUP(C23,datakilder2!$G$14:$H$18,2,FALSE)","v":{"$error":"#N/A"}},{"$error":"#REF!"},{"$f":"IF(#REF!=datakilder2!$G$18,4,IF(#REF!=datakilder2!$G$17,3,IF(#REF!=datakilder2!$G$16,2,IF(#REF!=datakilder2!$G$15,1,1))))","v":{"$error":"#REF!"}}]
[23,null,null,{"$f":"VLOOKUP(#REF!,datakilder2!$G$14:$H$18,2,FALSE)","v":{"$error":"#REF!"}},{"$f":"VLOOKUP(#REF!,datakilder2!$G$14:$H$18,2,FALSE)","v":{"$error":"#REF!"}},{"$f":"VLOOKUP(C24,datakilder2!$G$14:$H$18,2,FALSE)","v":{"$error":"#N/A"}},{"$error":"#REF!"},{"$f":"IF(#REF!=datakilder2!$G$18,4,IF(#REF!=datakilder2!$G$17,3,IF(#REF!=datakilder2!$G$16,2,IF(#REF!=datakilder2!$G$15,1,1))))","v":{"$error":"#REF!"}}]
[24,null,null,{"$f":"VLOOKUP(#REF!,datakilder2!$G$14:$H$18,2,FALSE)","v":{"$error":"#REF!"}},{"$f":"VLOOKUP(#REF!,datakilder2!$G$14:$H$18,2,FALSE)","v":{"$error":"#REF!"}},{"$f":"VLOOKUP(C25,datakilder2!$G$14:$H$18,2,FALSE)","v":{"$error":"#N/A"}},{"$error":"#REF!"},{"$f":"IF(#REF!=datakilder2!$G$18,4,IF(#REF!=datakilder2!$G$17,3,IF(#REF!=datakilder2!$G$16,2,IF(#REF!=datakilder2!$G$15,1,1))))","v":{"$error":"#REF!"}}]
[25,null,null,{"$f":"VLOOKUP(#REF!,datakilder2!$G$14:$H$18,2,FALSE)","v":{"$error":"#REF!"}},{"$f":"VLOOKUP(#REF!,datakilder2!$G$14:$H$18,2,FALSE)","v":{"$error":"#REF!"}},{"$f":"VLOOKUP(C26,datakilder2!$G$14:$H$18,2,FALSE)","v":{"$error":"#N/A"}},{"$error":"#REF!"},{"$f":"IF(#REF!=datakilder2!$G$18,4,IF(#REF!=datakilder2!$G$17,3,IF(#REF!=datakilder2!$G$16,2,IF(#REF!=datakilder2!$G$15,1,1))))","v":{"$error":"#REF!"}}]
[26,null,null,{"$f":"VLOOKUP(#REF!,datakilder2!$G$14:$H$18,2,FALSE)","v":{"$error":"#REF!"}},{"$f":"VLOOKUP(#REF!,datakilder2!$G$14:$H$18,2,FALSE)","v":{"$error":"#REF!"}},{"$f":"VLOOKUP(C27,datakilder2!$G$14:$H$18,2,FALSE)","v":{"$error":"#N/A"}},{"$error":"#REF!"},{"$f":"IF(#REF!=datakilder2!$G$18,4,IF(#REF!=datakilder2!$G$17,3,IF(#REF!=datakilder2!$G$16,2,IF(#REF!=datakilder2!$G$15,1,1))))","v":{"$error":"#REF!"}}]
[27,null,null,{"$f":"VLOOKUP(#REF!,datakilder2!$G$14:$H$18,2,FALSE)","v":{"$error":"#REF!"}},{"$f":"VLOOKUP(#REF!,datakilder2!$G$14:$H$18,2,FALSE)","v":{"$error":"#REF!"}},{"$f":"VLOOKUP(C28,datakilder2!$G$14:$H$18,2,FALSE)","v":{"$error":"#N/A"}},{"$error":"#REF!"},{"$f":"IF(#REF!=datakilder2!$G$18,4,IF(#REF!=datakilder2!$G$17,3,IF(#REF!=datakilder2!$G$16,2,IF(#REF!=datakilder2!$G$15,1,1))))","v":{"$error":"#REF!"}}]
[28,null,null,{"$f":"VLOOKUP(#REF!,datakilder2!$G$14:$H$18,2,FALSE)","v":{"$error":"#REF!"}},{"$f":"VLOOKUP(#REF!,datakilder2!$G$14:$H$18,2,FALSE)","v":{"$error":"#REF!"}},{"$f":"VLOOKUP(C29,datakilder2!$G$14:$H$18,2,FALSE)","v":{"$error":"#N/A"}},{"$error":"#REF!"},{"$f":"IF(#REF!=datakilder2!$G$18,4,IF(#REF!=datakilder2!$G$17,3,IF(#REF!=datakilder2!$G$16,2,IF(#REF!=datakilder2!$G$15,1,1))))","v":{"$error":"#REF!"}}]
[29,null,null,{"$f":"VLOOKUP(#REF!,datakilder2!$G$14:$H$18,2,FALSE)","v":{"$error":"#REF!"}},{"$f":"VLOOKUP(#REF!,datakilder2!$G$14:$H$18,2,FALSE)","v":{"$error":"#REF!"}},{"$f":"VLOOKUP(C30,datakilder2!$G$14:$H$18,2,FALSE)","v":{"$error":"#N/A"}},{"$error":"#REF!"},{"$f":"IF(#REF!=datakilder2!$G$18,4,IF(#REF!=datakilder2!$G$17,3,IF(#REF!=datakilder2!$G$16,2,IF(#REF!=datakilder2!$G$15,1,1))))","v":{"$error":"#REF!"}}]
[30,null,null,{"$f":"VLOOKUP(#REF!,datakilder2!$G$14:$H$18,2,FALSE)","v":{"$error":"#REF!"}},{"$f":"VLOOKUP(#REF!,datakilder2!$G$14:$H$18,2,FALSE)","v":{"$error":"#REF!"}},{"$f":"VLOOKUP(C31,datakilder2!$G$14:$H$18,2,FALSE)","v":{"$error":"#N/A"}},{"$error":"#REF!"},{"$f":"IF(#REF!=datakilder2!$G$18,4,IF(#REF!=datakilder2!$G$17,3,IF(#REF!=datakilder2!$G$16,2,IF(#REF!=datakilder2!$G$15,1,1))))","v":{"$error":"#REF!"}}]
[31,null,null,{"$f":"VLOOKUP(#REF!,datakilder2!$G$14:$H$18,2,FALSE)","v":{"$error":"#REF!"}},{"$f":"VLOOKUP(#REF!,datakilder2!$G$14:$H$18,2,FALSE)","v":{"$error":"#REF!"}},{"$f":"VLOOKUP(C32,datakilder2!$G$14:$H$18,2,FALSE)","v":{"$error":"#N/A"}},{"$error":"#REF!"},{"$f":"IF(#REF!=datakilder2!$G$18,4,IF(#REF!=datakilder2!$G$17,3,IF(#REF!=datakilder2!$G$16,2,IF(#REF!=datakilder2!$G$15,1,1))))","v":{"$error":"#REF!"}}]
[32,null,null,{"$f":"VLOOKUP(#REF!,datakilder2!$G$14:$H$18,2,FALSE)","v":{"$error":"#REF!"}},{"$f":"VLOOKUP(#REF!,datakilder2!$G$14:$H$18,2,FALSE)","v":{"$error":"#REF!"}},{"$f":"VLOOKUP(C33,datakilder2!$G$14:$H$18,2,FALSE)","v":{"$error":"#N/A"}},{"$error":"#REF!"},{"$f":"IF(#REF!=datakilder2!$G$18,4,IF(#REF!=datakilder2!$G$17,3,IF(#REF!=datakilder2!$G$16,2,IF(#REF!=datakilder2!$G$15,1,1))))","v":{"$error":"#REF!"}}]
[33,null,null,{"$f":"VLOOKUP(#REF!,datakilder2!$G$14:$H$18,2,FALSE)","v":{"$error":"#REF!"}},{"$f":"VLOOKUP(#REF!,datakilder2!$G$14:$H$18,2,FALSE)","v":{"$error":"#REF!"}},{"$f":"VLOOKUP(C34,datakilder2!$G$14:$H$18,2,FALSE)","v":{"$error":"#N/A"}},{"$error":"#REF!"},{"$f":"IF(#REF!=datakilder2!$G$18,4,IF(#REF!=datakilder2!$G$17,3,IF(#REF!=datakilder2!$G$16,2,IF(#REF!=datakilder2!$G$15,1,1))))","v":{"$error":"#REF!"}}]
[34,null,null,{"$f":"VLOOKUP(#REF!,datakilder2!$G$14:$H$18,2,FALSE)","v":{"$error":"#REF!"}},{"$f":"VLOOKUP(#REF!,datakilder2!$G$14:$H$18,2,FALSE)","v":{"$error":"#REF!"}},{"$f":"VLOOKUP(C35,datakilder2!$G$14:$H$18,2,FALSE)","v":{"$error":"#N/A"}},{"$error":"#REF!"},{"$f":"IF(#REF!=datakilder2!$G$18,4,IF(#REF!=datakilder2!$G$17,3,IF(#REF!=datakilder2!$G$16,2,IF(#REF!=datakilder2!$G$15,1,1))))","v":{"$error":"#REF!"}}]
[35,null,null,{"$f":"VLOOKUP(#REF!,datakilder2!$G$14:$H$18,2,FALSE)","v":{"$error":"#REF!"}},{"$f":"VLOOKUP(#REF!,datakilder2!$G$14:$H$18,2,FALSE)","v":{"$error":"#REF!"}},{"$f":"VLOOKUP(C36,datakilder2!$G$14:$H$18,2,FALSE)","v":{"$error":"#N/A"}},{"$error":"#REF!"},{"$f":"IF(#REF!=datakilder2!$G$18,4,IF(#REF!=datakilder2!$G$17,3,IF(#REF!=datakilder2!$G$16,2,IF(#REF!=datakilder2!$G$15,1,1))))","v":{"$error":"#REF!"}}]
[36,null,null,{"$f":"VLOOKUP(#REF!,datakilder2!$G$14:$H$18,2,FALSE)","v":{"$error":"#REF!"}},{"$f":"VLOOKUP(#REF!,datakilder2!$G$14:$H$18,2,FALSE)","v":{"$error":"#REF!"}},{"$f":"VLOOKUP(C37,datakilder2!$G$14:$H$18,2,FALSE)","v":{"$error":"#N/A"}},{"$error":"#REF!"},{"$f":"IF(#REF!=datakilder2!$G$18,4,IF(#REF!=datakilder2!$G$17,3,IF(#REF!=datakilder2!$G$16,2,IF(#REF!=datakilder2!$G$15,1,1))))","v":{"$error":"#REF!"}}]
[37,null,null,{"$f":"VLOOKUP(#REF!,datakilder2!$G$14:$H$18,2,FALSE)","v":{"$error":"#REF!"}},{"$f":"VLOOKUP(#REF!,datakilder2!$G$14:$H$18,2,FALSE)","v":{"$error":"#REF!"}},{"$f":"VLOOKUP(C38,datakilder2!$G$14:$H$18,2,FALSE)","v":{"$error":"#N/A"}},{"$error":"#REF!"},{"$f":"IF(#REF!=datakilder2!$G$18,4,IF(#REF!=datakilder2!$G$17,3,IF(#REF!=datakilder2!$G$16,2,IF(#REF!=datakilder2!$G$15,1,1))))","v":{"$error":"#REF!"}}]
[38,null,null,{"$f":"VLOOKUP(#REF!,datakilder2!$G$14:$H$18,2,FALSE)","v":{"$error":"#REF!"}},{"$f":"VLOOKUP(#REF!,datakilder2!$G$14:$H$18,2,FALSE)","v":{"$error":"#REF!"}},{"$f":"VLOOKUP(C39,datakilder2!$G$14:$H$18,2,FALSE)","v":{"$error":"#N/A"}},{"$error":"#REF!"},{"$f":"IF(#REF!=datakilder2!$G$18,4,IF(#REF!=datakilder2!$G$17,3,IF(#REF!=datakilder2!$G$16,2,IF(#REF!=datakilder2!$G$15,1,1))))","v":{"$error":"#REF!"}}]
[39,null,null,{"$f":"VLOOKUP(#REF!,datakilder2!$G$14:$H$18,2,FALSE)","v":{"$error":"#REF!"}},{"$f":"VLOOKUP(#REF!,datakilder2!$G$14:$H$18,2,FALSE)","v":{"$error":"#REF!"}},{"$f":"VLOOKUP(C40,datakilder2!$G$14:$H$18,2,FALSE)","v":{"$error":"#N/A"}},{"$error":"#REF!"},{"$f":"IF(#REF!=datakilder2!$G$18,4,IF(#REF!=datakilder2!$G$17,3,IF(#REF!=datakilder2!$G$16,2,IF(#REF!=datakilder2!$G$15,1,1))))","v":{"$error":"#REF!"}}]
[40,null,null,{"$f":"VLOOKUP(#REF!,datakilder2!$G$14:$H$18,2,FALSE)","v":{"$error":"#REF!"}},{"$f":"VLOOKUP(#REF!,datakilder2!$G$14:$H$18,2,FALSE)","v":{"$error":"#REF!"}},{"$f":"VLOOKUP(C41,datakilder2!$G$14:$H$18,2,FALSE)","v":{"$error":"#N/A"}},{"$error":"#REF!"},{"$f":"IF(#REF!=datakilder2!$G$18,4,IF(#REF!=datakilder2!$G$17,3,IF(#REF!=datakilder2!$G$16,2,IF(#REF!=datakilder2!$G$15,1,1))))","v":{"$error":"#REF!"}}]
[41,null,null,{"$f":"VLOOKUP(#REF!,datakilder2!$G$14:$H$18,2,FALSE)","v":{"$error":"#REF!"}},{"$f":"VLOOKUP(#REF!,datakilder2!$G$14:$H$18,2,FALSE)","v":{"$error":"#REF!"}},{"$f":"VLOOKUP(C42,datakilder2!$G$14:$H$18,2,FALSE)","v":{"$error":"#N/A"}},{"$error":"#REF!"},{"$f":"IF(#REF!=datakilder2!$G$18,4,IF(#REF!=datakilder2!$G$17,3,IF(#REF!=datakilder2!$G$16,2,IF(#REF!=datakilder2!$G$15,1,1))))","v":{"$error":"#REF!"}}]
[42,null,null,{"$f":"VLOOKUP(#REF!,datakilder2!$G$14:$H$18,2,FALSE)","v":{"$error":"#REF!"}},{"$f":"VLOOKUP(#REF!,datakilder2!$G$14:$H$18,2,FALSE)","v":{"$error":"#REF!"}},{"$f":"VLOOKUP(C43,datakilder2!$G$14:$H$18,2,FALSE)","v":{"$error":"#N/A"}},{"$error":"#REF!"},{"$f":"IF(#REF!=datakilder2!$G$18,4,IF(#REF!=datakilder2!$G$17,3,IF(#REF!=datakilder2!$G$16,2,IF(#REF!=datakilder2!$G$15,1,1))))","v":{"$error":"#REF!"}}]
[43,null,null,{"$f":"VLOOKUP(#REF!,datakilder2!$G$14:$H$18,2,FALSE)","v":{"$error":"#REF!"}},{"$f":"VLOOKUP(#REF!,datakilder2!$G$14:$H$18,2,FALSE)","v":{"$error":"#REF!"}},{"$f":"VLOOKUP(C44,datakilder2!$G$14:$H$18,2,FALSE)","v":{"$error":"#N/A"}},{"$error":"#REF!"},{"$f":"IF(#REF!=datakilder2!$G$18,4,IF(#REF!=datakilder2!$G$17,3,IF(#REF!=datakilder2!$G$16,2,IF(#REF!=datakilder2!$G$15,1,1))))","v":{"$error":"#REF!"}}]
[44,null,null,{"$f":"VLOOKUP(#REF!,datakilder2!$G$14:$H$18,2,FALSE)","v":{"$error":"#REF!"}},{"$f":"VLOOKUP(#REF!,datakilder2!$G$14:$H$18,2,FALSE)","v":{"$error":"#REF!"}},{"$f":"VLOOKUP(C45,datakilder2!$G$14:$H$18,2,FALSE)","v":{"$error":"#N/A"}},{"$error":"#REF!"},{"$f":"IF(#REF!=datakilder2!$G$18,4,IF(#REF!=datakilder2!$G$17,3,IF(#REF!=datakilder2!$G$16,2,IF(#REF!=datakilder2!$G$15,1,1))))","v":{"$error":"#REF!"}}]
[45,null,null,{"$f":"VLOOKUP(#REF!,datakilder2!$G$14:$H$18,2,FALSE)","v":{"$error":"#REF!"}},{"$f":"VLOOKUP(#REF!,datakilder2!$G$14:$H$18,2,FALSE)","v":{"$error":"#REF!"}},{"$f":"VLOOKUP(C46,datakilder2!$G$14:$H$18,2,FALSE)","v":{"$error":"#N/A"}},{"$error":"#REF!"},{"$f":"IF(#REF!=datakilder2!$G$18,4,IF(#REF!=datakilder2!$G$17,3,IF(#REF!=datakilder2!$G$16,2,IF(#REF!=datakilder2!$G$15,1,1))))","v":{"$error":"#REF!"}}]
[46,null,null,{"$f":"VLOOKUP(#REF!,datakilder2!$G$14:$H$18,2,FALSE)","v":{"$error":"#REF!"}},{"$f":"VLOOKUP(#REF!,datakilder2!$G$14:$H$18,2,FALSE)","v":{"$error":"#REF!"}},{"$f":"VLOOKUP(C47,datakilder2!$G$14:$H$18,2,FALSE)","v":{"$error":"#N/A"}},{"$error":"#REF!"},{"$f":"IF(#REF!=datakilder2!$G$18,4,IF(#REF!=datakilder2!$G$17,3,IF(#REF!=datakilder2!$G$16,2,IF(#REF!=datakilder2!$G$15,1,1))))","v":{"$error":"#REF!"}}]
[47,null,null,{"$f":"VLOOKUP(#REF!,datakilder2!$G$14:$H$18,2,FALSE)","v":{"$error":"#REF!"}},{"$f":"VLOOKUP(#REF!,datakilder2!$G$14:$H$18,2,FALSE)","v":{"$error":"#REF!"}},{"$f":"VLOOKUP(C48,datakilder2!$G$14:$H$18,2,FALSE)","v":{"$error":"#N/A"}},{"$error":"#REF!"},{"$f":"IF(#REF!=datakilder2!$G$18,4,IF(#REF!=datakilder2!$G$17,3,IF(#REF!=datakilder2!$G$16,2,IF(#REF!=datakilder2!$G$15,1,1))))","v":{"$error":"#REF!"}}]
[48,null,null,{"$f":"VLOOKUP(#REF!,datakilder2!$G$14:$H$18,2,FALSE)","v":{"$error":"#REF!"}},{"$f":"VLOOKUP(#REF!,datakilder2!$G$14:$H$18,2,FALSE)","v":{"$error":"#REF!"}},{"$f":"VLOOKUP(C49,datakilder2!$G$14:$H$18,2,FALSE)","v":{"$error":"#N/A"}},{"$error":"#REF!"},{"$f":"IF(#REF!=datakilder2!$G$18,4,IF(#REF!=datakilder2!$G$17,3,IF(#REF!=datakilder2!$G$16,2,IF(#REF!=datakilder2!$G$15,1,1))))","v":{"$error":"#REF!"}}]
[49,null,null,{"$f":"VLOOKUP(#REF!,datakilder2!$G$14:$H$18,2,FALSE)","v":{"$error":"#REF!"}},{"$f":"VLOOKUP(#REF!,datakilder2!$G$14:$H$18,2,FALSE)","v":{"$error":"#REF!"}},{"$f":"VLOOKUP(C50,datakilder2!$G$14:$H$18,2,FALSE)","v":{"$error":"#N/A"}},{"$error":"#REF!"},{"$f":"IF(#REF!=datakilder2!$G$18,4,IF(#REF!=datakilder2!$G$17,3,IF(#REF!=datakilder2!$G$16,2,IF(#REF!=datakilder2!$G$15,1,1))))","v":{"$error":"#REF!"}}]
[50,null,null,{"$f":"VLOOKUP(#REF!,datakilder2!$G$14:$H$18,2,FALSE)","v":{"$error":"#REF!"}},{"$f":"VLOOKUP(#REF!,datakilder2!$G$14:$H$18,2,FALSE)","v":{"$error":"#REF!"}},{"$f":"VLOOKUP(C51,datakilder2!$G$14:$H$18,2,FALSE)","v":{"$error":"#N/A"}},{"$error":"#REF!"},{"$f":"IF(#REF!=datakilder2!$G$18,4,IF(#REF!=datakilder2!$G$17,3,IF(#REF!=datakilder2!$G$16,2,IF(#REF!=datakilder2!$G$15,1,1))))","v":{"$error":"#REF!"}}]
[51,null,null,{"$f":"VLOOKUP(#REF!,datakilder2!$G$14:$H$18,2,FALSE)","v":{"$error":"#REF!"}},{"$f":"VLOOKUP(#REF!,datakilder2!$G$14:$H$18,2,FALSE)","v":{"$error":"#REF!"}},{"$f":"VLOOKUP(C52,datakilder2!$G$14:$H$18,2,FALSE)","v":{"$error":"#N/A"}},{"$error":"#REF!"},{"$f":"IF(#REF!=datakilder2!$G$18,4,IF(#REF!=datakilder2!$G$17,3,IF(#REF!=datakilder2!$G$16,2,IF(#REF!=datakilder2!$G$15,1,1))))","v":{"$error":"#REF!"}}]
[52,null,null,{"$f":"VLOOKUP(#REF!,datakilder2!$G$14:$H$18,2,FALSE)","v":{"$error":"#REF!"}},{"$f":"VLOOKUP(#REF!,datakilder2!$G$14:$H$18,2,FALSE)","v":{"$error":"#REF!"}},{"$f":"VLOOKUP(C53,datakilder2!$G$14:$H$18,2,FALSE)","v":{"$error":"#N/A"}},{"$error":"#REF!"},{"$f":"IF(#REF!=datakilder2!$G$18,4,IF(#REF!=datakilder2!$G$17,3,IF(#REF!=datakilder2!$G$16,2,IF(#REF!=datakilder2!$G$15,1,1))))","v":{"$error":"#REF!"}}]
[53,null,null,{"$f":"VLOOKUP(#REF!,datakilder2!$G$14:$H$18,2,FALSE)","v":{"$error":"#REF!"}},{"$f":"VLOOKUP(#REF!,datakilder2!$G$14:$H$18,2,FALSE)","v":{"$error":"#REF!"}},{"$f":"VLOOKUP(C54,datakilder2!$G$14:$H$18,2,FALSE)","v":{"$error":"#N/A"}},{"$error":"#REF!"},{"$f":"IF(#REF!=datakilder2!$G$18,4,IF(#REF!=datakilder2!$G$17,3,IF(#REF!=datakilder2!$G$16,2,IF(#REF!=datakilder2!$G$15,1,1))))","v":{"$error":"#REF!"}}]
[54,null,null,{"$f":"VLOOKUP(#REF!,datakilder2!$G$14:$H$18,2,FALSE)","v":{"$error":"#REF!"}},{"$f":"VLOOKUP(#REF!,datakilder2!$G$14:$H$18,2,FALSE)","v":{"$error":"#REF!"}},{"$f":"VLOOKUP(C55,datakilder2!$G$14:$H$18,2,FALSE)","v":{"$error":"#N/A"}},{"$error":"#REF!"},{"$f":"IF(#REF!=datakilder2!$G$18,4,IF(#REF!=datakilder2!$G$17,3,IF(#REF!=datakilder2!$G$16,2,IF(#REF!=datakilder2!$G$15,1,1))))","v":{"$error":"#REF!"}}]
[55,null,null,{"$f":"VLOOKUP(#REF!,datakilder2!$G$14:$H$18,2,FALSE)","v":{"$error":"#REF!"}},{"$f":"VLOOKUP(#REF!,datakilder2!$G$14:$H$18,2,FALSE)","v":{"$error":"#REF!"}},{"$f":"VLOOKUP(C56,datakilder2!$G$14:$H$18,2,FALSE)","v":{"$error":"#N/A"}},{"$error":"#REF!"},{"$f":"IF(#REF!=datakilder2!$G$18,4,IF(#REF!=datakilder2!$G$17,3,IF(#REF!=datakilder2!$G$16,2,IF(#REF!=datakilder2!$G$15,1,1))))","v":{"$error":"#REF!"}}]
[56,null,null,{"$f":"VLOOKUP(#REF!,datakilder2!$G$14:$H$18,2,FALSE)","v":{"$error":"#REF!"}},{"$f":"VLOOKUP(#REF!,datakilder2!$G$14:$H$18,2,FALSE)","v":{"$error":"#REF!"}},{"$f":"VLOOKUP(C57,datakilder2!$G$14:$H$18,2,FALSE)","v":{"$error":"#N/A"}},{"$error":"#REF!"},{"$f":"IF(#REF!=datakilder2!$G$18,4,IF(#REF!=datakilder2!$G$17,3,IF(#REF!=datakilder2!$G$16,2,IF(#REF!=datakilder2!$G$15,1,1))))","v":{"$error":"#REF!"}}]
[57,null,null,{"$f":"VLOOKUP(#REF!,datakilder2!$G$14:$H$18,2,FALSE)","v":{"$error":"#REF!"}},{"$f":"VLOOKUP(#REF!,datakilder2!$G$14:$H$18,2,FALSE)","v":{"$error":"#REF!"}},{"$f":"VLOOKUP(C58,datakilder2!$G$14:$H$18,2,FALSE)","v":{"$error":"#N/A"}},{"$error":"#REF!"},{"$f":"IF(#REF!=datakilder2!$G$18,4,IF(#REF!=datakilder2!$G$17,3,IF(#REF!=datakilder2!$G$16,2,IF(#REF!=datakilder2!$G$15,1,1))))","v":{"$error":"#REF!"}}]
[58,null,null,{"$f":"VLOOKUP(#REF!,datakilder2!$G$14:$H$18,2,FALSE)","v":{"$error":"#REF!"}},{"$f":"VLOOKUP(#REF!,datakilder2!$G$14:$H$18,2,FALSE)","v":{"$error":"#REF!"}},{"$f":"VLOOKUP(C59,datakilder2!$G$14:$H$18,2,FALSE)","v":{"$error":"#N/A"}},{"$error":"#REF!"},{"$f":"IF(#REF!=datakilder2!$G$18,4,IF(#REF!=datakilder2!$G$17,3,IF(#REF!=datakilder2!$G$16,2,IF(#REF!=datakilder2!$G$15,1,1))))","v":{"$error":"#REF!"}}]
[59,null,null,{"$f":"VLOOKUP(#REF!,datakilder2!$G$14:$H$18,2,FALSE)","v":{"$error":"#REF!"}},{"$f":"VLOOKUP(#REF!,datakilder2!$G$14:$H$18,2,FALSE)","v":{"$error":"#REF!"}},{"$f":"VLOOKUP(C60,datakilder2!$G$14:$H$18,2,FALSE)","v":{"$error":"#N/A"}},{"$error":"#REF!"},{"$f":"IF(#REF!=datakilder2!$G$18,4,IF(#REF!=datakilder2!$G$17,3,IF(#REF!=datakilder2!$G$16,2,IF(#REF!=datakilder2!$G$15,1,1))))","v":{"$error":"#REF!"}}]
[60,null,null,{"$f":"VLOOKUP(#REF!,datakilder2!$G$14:$H$18,2,FALSE)","v":{"$error":"#REF!"}},{"$f":"VLOOKUP(#REF!,datakilder2!$G$14:$H$18,2,FALSE)","v":{"$error":"#REF!"}},{"$f":"VLOOKUP(C61,datakilder2!$G$14:$H$18,2,FALSE)","v":{"$error":"#N/A"}},{"$error":"#REF!"},{"$f":"IF(#REF!=datakilder2!$G$18,4,IF(#REF!=datakilder2!$G$17,3,IF(#REF!=datakilder2!$G$16,2,IF(#REF!=datakilder2!$G$15,1,1))))","v":{"$error":"#REF!"}}]
[61,null,null,{"$f":"VLOOKUP(#REF!,datakilder2!$G$14:$H$18,2,FALSE)","v":{"$error":"#REF!"}},{"$f":"VLOOKUP(#REF!,datakilder2!$G$14:$H$18,2,FALSE)","v":{"$error":"#REF!"}},{"$f":"VLOOKUP(C62,datakilder2!$G$14:$H$18,2,FALSE)","v":{"$error":"#N/A"}},{"$error":"#REF!"},{"$f":"IF(#REF!=datakilder2!$G$18,4,IF(#REF!=datakilder2!$G$17,3,IF(#REF!=datakilder2!$G$16,2,IF(#REF!=datakilder2!$G$15,1,1))))","v":{"$error":"#REF!"}}]
[62,null,null,{"$f":"VLOOKUP(#REF!,datakilder2!$G$14:$H$18,2,FALSE)","v":{"$error":"#REF!"}},{"$f":"VLOOKUP(#REF!,datakilder2!$G$14:$H$18,2,FALSE)","v":{"$error":"#REF!"}},{"$f":"VLOOKUP(C63,datakilder2!$G$14:$H$18,2,FALSE)","v":{"$error":"#N/A"}},{"$error":"#REF!"},{"$f":"IF(#REF!=datakilder2!$G$18,4,IF(#REF!=datakilder2!$G$17,3,IF(#REF!=datakilder2!$G$16,2,IF(#REF!=datakilder2!$G$15,1,1))))","v":{"$error":"#REF!"}}]
[63,null,null,{"$f":"VLOOKUP(#REF!,datakilder2!$G$14:$H$18,2,FALSE)","v":{"$error":"#REF!"}},{"$f":"VLOOKUP(#REF!,datakilder2!$G$14:$H$18,2,FALSE)","v":{"$error":"#REF!"}},{"$f":"VLOOKUP(C64,datakilder2!$G$14:$H$18,2,FALSE)","v":{"$error":"#N/A"}},{"$error":"#REF!"},{"$f":"IF(#REF!=datakilder2!$G$18,4,IF(#REF!=datakilder2!$G$17,3,IF(#REF!=datakilder2!$G$16,2,IF(#REF!=datakilder2!$G$15,1,1))))","v":{"$error":"#REF!"}}]
[64,null,null,{"$f":"VLOOKUP(#REF!,datakilder2!$G$14:$H$18,2,FALSE)","v":{"$error":"#REF!"}},{"$f":"VLOOKUP(#REF!,datakilder2!$G$14:$H$18,2,FALSE)","v":{"$error":"#REF!"}},{"$f":"VLOOKUP(C65,datakilder2!$G$14:$H$18,2,FALSE)","v":{"$error":"#N/A"}},{"$error":"#REF!"},{"$f":"IF(#REF!=datakilder2!$G$18,4,IF(#REF!=datakilder2!$G$17,3,IF(#REF!=datakilder2!$G$16,2,IF(#REF!=datakilder2!$G$15,1,1))))","v":{"$error":"#REF!"}}]
[65,null,null,{"$f":"VLOOKUP(#REF!,datakilder2!$G$14:$H$18,2,FALSE)","v":{"$error":"#REF!"}},{"$f":"VLOOKUP(#REF!,datakilder2!$G$14:$H$18,2,FALSE)","v":{"$error":"#REF!"}},{"$f":"VLOOKUP(C66,datakilder2!$G$14:$H$18,2,FALSE)","v":{"$error":"#N/A"}},{"$error":"#REF!"},{"$f":"IF(#REF!=datakilder2!$G$18,4,IF(#REF!=datakilder2!$G$17,3,IF(#REF!=datakilder2!$G$16,2,IF(#REF!=datakilder2!$G$15,1,1))))","v":{"$error":"#REF!"}}]
[66,null,null,{"$f":"VLOOKUP(#REF!,datakilder2!$G$14:$H$18,2,FALSE)","v":{"$error":"#REF!"}},{"$f":"VLOOKUP(#REF!,datakilder2!$G$14:$H$18,2,FALSE)","v":{"$error":"#REF!"}},{"$f":"VLOOKUP(C67,datakilder2!$G$14:$H$18,2,FALSE)","v":{"$error":"#N/A"}},{"$f":"IF(MAX(D67:F67)>0,MAX(D67:F67),\"\")","v":{"$error":"#REF!"}},{"$f":"IF(#REF!=datakilder2!$G$18,4,IF(#REF!=datakilder2!$G$17,3,IF(#REF!=datakilder2!$G$16,2,IF(#REF!=datakilder2!$G$15,1,1))))","v":{"$error":"#REF!"}}]
[67,null,null,{"$f":"VLOOKUP(#REF!,datakilder2!$G$14:$H$18,2,FALSE)","v":{"$error":"#REF!"}},{"$f":"VLOOKUP(#REF!,datakilder2!$G$14:$H$18,2,FALSE)","v":{"$error":"#REF!"}},{"$f":"VLOOKUP(C68,datakilder2!$G$14:$H$18,2,FALSE)","v":{"$error":"#N/A"}},{"$error":"#REF!"},{"$f":"IF(#REF!=datakilder2!$G$18,4,IF(#REF!=datakilder2!$G$17,3,IF(#REF!=datakilder2!$G$16,2,IF(#REF!=datakilder2!$G$15,1,1))))","v":{"$error":"#REF!"}}]
[68,null,null,{"$f":"VLOOKUP(#REF!,datakilder2!$G$14:$H$18,2,FALSE)","v":{"$error":"#REF!"}},{"$f":"VLOOKUP(#REF!,datakilder2!$G$14:$H$18,2,FALSE)","v":{"$error":"#REF!"}},{"$f":"VLOOKUP(C69,datakilder2!$G$14:$H$18,2,FALSE)","v":{"$error":"#N/A"}},{"$error":"#REF!"},{"$f":"IF(#REF!=datakilder2!$G$18,4,IF(#REF!=datakilder2!$G$17,3,IF(#REF!=datakilder2!$G$16,2,IF(#REF!=datakilder2!$G$15,1,1))))","v":{"$error":"#REF!"}}]
[69,null,null,{"$f":"VLOOKUP(#REF!,datakilder2!$G$14:$H$18,2,FALSE)","v":{"$error":"#REF!"}},{"$f":"VLOOKUP(#REF!,datakilder2!$G$14:$H$18,2,FALSE)","v":{"$error":"#REF!"}},{"$f":"VLOOKUP(C70,datakilder2!$G$14:$H$18,2,FALSE)","v":{"$error":"#N/A"}},{"$error":"#REF!"},{"$f":"IF(#REF!=datakilder2!$G$18,4,IF(#REF!=datakilder2!$G$17,3,IF(#REF!=datakilder2!$G$16,2,IF(#REF!=datakilder2!$G$15,1,1))))","v":{"$error":"#REF!"}}]
[70,null,null,{"$f":"VLOOKUP(#REF!,datakilder2!$G$14:$H$18,2,FALSE)","v":{"$error":"#REF!"}},{"$f":"VLOOKUP(#REF!,datakilder2!$G$14:$H$18,2,FALSE)","v":{"$error":"#REF!"}},{"$f":"VLOOKUP(C71,datakilder2!$G$14:$H$18,2,FALSE)","v":{"$error":"#N/A"}},{"$error":"#REF!"},{"$f":"IF(#REF!=datakilder2!$G$18,4,IF(#REF!=datakilder2!$G$17,3,IF(#REF!=datakilder2!$G$16,2,IF(#REF!=datakilder2!$G$15,1,1))))","v":{"$error":"#REF!"}}]
[71,null,null,{"$f":"VLOOKUP(#REF!,datakilder2!$G$14:$H$18,2,FALSE)","v":{"$error":"#REF!"}},{"$f":"VLOOKUP(#REF!,datakilder2!$G$14:$H$18,2,FALSE)","v":{"$error":"#REF!"}},{"$f":"VLOOKUP(C72,datakilder2!$G$14:$H$18,2,FALSE)","v":{"$error":"#N/A"}},{"$error":"#REF!"},{"$f":"IF(#REF!=datakilder2!$G$18,4,IF(#REF!=datakilder2!$G$17,3,IF(#REF!=datakilder2!$G$16,2,IF(#REF!=datakilder2!$G$15,1,1))))","v":{"$error":"#REF!"}}]
[72,null,null,{"$f":"VLOOKUP(#REF!,datakilder2!$G$14:$H$18,2,FALSE)","v":{"$error":"#REF!"}},{"$f":"VLOOKUP(#REF!,datakilder2!$G$14:$H$18,2,FALSE)","v":{"$error":"#REF!"}},{"$f":"VLOOKUP(C73,datakilder2!$G$14:$H$18,2,FALSE)","v":{"$error":"#N/A"}},{"$error":"#REF!"},{"$f":"IF(#REF!=datakilder2!$G$18,4,IF(#REF!=datakilder2!$G$17,3,IF(#REF!=datakilder2!$G$16,2,IF(#REF!=datakilder2!$G$15,1,1))))","v":{"$error":"#REF!"}}]
[73,null,null,{"$f":"VLOOKUP(#REF!,datakilder2!$G$14:$H$18,2,FALSE)","v":{"$error":"#REF!"}},{"$f":"VLOOKUP(#REF!,datakilder2!$G$14:$H$18,2,FALSE)","v":{"$error":"#REF!"}},{"$f":"VLOOKUP(C74,datakilder2!$G$14:$H$18,2,FALSE)","v":{"$error":"#N/A"}},{"$error":"#REF!"},{"$f":"IF(#REF!=datakilder2!$G$18,4,IF(#REF!=datakilder2!$G$17,3,IF(#REF!=datakilder2!$G$16,2,IF(#REF!=datakilder2!$G$15,1,1))))","v":{"$error":"#REF!"}}]
[74,null,null,{"$f":"VLOOKUP(#REF!,datakilder2!$G$14:$H$18,2,FALSE)","v":{"$error":"#REF!"}},{"$f":"VLOOKUP(#REF!,datakilder2!$G$14:$H$18,2,FALSE)","v":{"$error":"#REF!"}},{"$f":"VLOOKUP(C75,datakilder2!$G$14:$H$18,2,FALSE)","v":{"$error":"#N/A"}},{"$error":"#REF!"},{"$f":"IF(#REF!=datakilder2!$G$18,4,IF(#REF!=datakilder2!$G$17,3,IF(#REF!=datakilder2!$G$16,2,IF(#REF!=datakilder2!$G$15,1,1))))","v":{"$error":"#REF!"}}]
[75,null,null,{"$f":"VLOOKUP(#REF!,datakilder2!$G$14:$H$18,2,FALSE)","v":{"$error":"#REF!"}},{"$f":"VLOOKUP(#REF!,datakilder2!$G$14:$H$18,2,FALSE)","v":{"$error":"#REF!"}},{"$f":"VLOOKUP(C76,datakilder2!$G$14:$H$18,2,FALSE)","v":{"$error":"#N/A"}},{"$error":"#REF!"},{"$f":"IF(#REF!=datakilder2!$G$18,4,IF(#REF!=datakilder2!$G$17,3,IF(#REF!=datakilder2!$G$16,2,IF(#REF!=datakilder2!$G$15,1,1))))","v":{"$error":"#REF!"}}]
[76,null,null,{"$f":"VLOOKUP(#REF!,datakilder2!$G$14:$H$18,2,FALSE)","v":{"$error":"#REF!"}},{"$f":"VLOOKUP(#REF!,datakilder2!$G$14:$H$18,2,FALSE)","v":{"$error":"#REF!"}},{"$f":"VLOOKUP(C77,datakilder2!$G$14:$H$18,2,FALSE)","v":{"$error":"#N/A"}},{"$error":"#REF!"},{"$f":"IF(#REF!=datakilder2!$G$18,4,IF(#REF!=datakilder2!$G$17,3,IF(#REF!=datakilder2!$G$16,2,IF(#REF!=datakilder2!$G$15,1,1))))","v":{"$error":"#REF!"}}]
[77,null,null,{"$f":"VLOOKUP(#REF!,datakilder2!$G$14:$H$18,2,FALSE)","v":{"$error":"#REF!"}},{"$f":"VLOOKUP(#REF!,datakilder2!$G$14:$H$18,2,FALSE)","v":{"$error":"#REF!"}},{"$f":"VLOOKUP(C78,datakilder2!$G$14:$H$18,2,FALSE)","v":{"$error":"#N/A"}},{"$error":"#REF!"},{"$f":"IF(#REF!=datakilder2!$G$18,4,IF(#REF!=datakilder2!$G$17,3,IF(#REF!=datakilder2!$G$16,2,IF(#REF!=datakilder2!$G$15,1,1))))","v":{"$error":"#REF!"}}]
[78,null,null,null,null,null,{"$f":"IF(MAX(C79:C79)>0,MAX(C79:C79),\"\")","v":""}]
[79,null,null,null,null,null,""]
[80,null,null,null,null,null,""]
[81,null,null,null,null,null,""]
[82,null,null,null,null,null,""]
[83,null,null,null,null,null,""]
[84,null,null,null,null,null,""]
[85,null,null,null,null,null,""]
[86,null,null,null,null,null,""]
[87,null,null,null,null,null,""]
[88,null,null,null,null,null,""]
[89,null,null,null,null,null,""]
[90,null,null,null,null,null,""]
[91,null,null,null,null,null,""]
[92,null,null,null,null,null,""]
[93,null,null,null,null,null,""]
[94,null,null,null,null,null,""]
[95,null,null,null,null,null,""]
[96,null,null,null,null,null,""]
[97,null,null,null,null,null,""]
[98,null,null,null,null,null,""]
[99,null,null,null,null,null,""]
[100,null,null,null,null,null,""]
[101,null,null,null,null,null,""]
[102,null,null,null,null,null,""]
[103,null,null,null,null,null,""]
[104,null,null,null,null,null,""]
[105,null,null,null,null,null,""]
[106,null,null,null,null,null,""]
[107,null,null,null,null,null,""]
[108,null,null,null,null,null,""]
[109,null,null,null,null,null,""]
[110,null,null,null,null,null,{"$f":"IF(MAX(C111:C111)>0,MAX(C111:C111),\"\")","v":""}]
[111,null,null,null,null,null,""]
[112,null,null,null,null,null,""]
[113,null,null,null,null,null,""]
[114,null,null,null,null,null,""]
[115,null,null,null,null,null,""]
[116,null,null,null,null,null,""]
[117,null,null,null,null,null,""]
[118,null,null,null,null,null,""]
[119,null,null,null,null,null,""]
[120,null,null,null,null,null,""]
[121,null,null,null,null,null,""]
[122,null,null,null,null,null,""]
[123,null,null,null,null,null,""]
[124,null,null,null,null,null,""]
[125,null,null,null,null,null,""]
[126,null,null,null,null,null,""]
[127,null,null,null,null,null,""]
[128,null,null,null,null,null,""]
[129,null,null,null,null,null,""]
[130,null,null,null,null,null,""]
[131,null,null,null,null,null,""]
[132,null,null,null,null,null,""]
[133,null,null,null,null,null,""]
[134,null,null,null,null,null,""]
[135,null,null,null,null,null,""]
[136,null,null,null,null,null,""]
[137,null,null,null,null,null,""]
[138,null,null,null,null,null,""]
[139,null,null,null,null,null,""]
[140,null,null,null,null,null,""]
[141,null,null,null,null,null,""]
[142,null,null,null,null,null,{"$f":"IF(MAX(C143:C143)>0,MAX(C143:C143),\"\")","v":""}]
[143,null,null,null,null,null,""]
[144,null,null,null,null,null,""]
[145,null,null,null,null,null,""]
[146,null,null,null,null,null,""]
[147,null,null,null,null,null,""]
[148,null,null,null,null,null,""]
[149,null,null,null,null,null,""]
[150]
[151]
[152]
[153]
[154]
[155]
[156]
[157]
[158]
[159]
[160]
[161]
[162]
[163]
[164]
[165]
[166]
[167]
[168]
[169]
[170]
[171]
[172]
[173]
[174]
[175]
[176]
[177]
[178]
[179]
[180]
[181]
[182]
[183]
[184]
[185]
[186]
[187]
[188]
[189]
[190]
[191]
[192]
[193]
[194]
[195]
[196]
[197]
[198]
[199]
[200]
[201]
[202]
[203]
[204]
[205]
[206]
[207]
[208]
[209]
[210]
[211]
[212]
[213]
[214]
[215]
[216]
[217]
[218]
[219]
[220]
[221]
[222]
[223]
[224]
[225]
[226]
[227]
[228]
[229]
[230]
[231]
[232]
[233]
[234]
[235]
[236]
[237]
[238]
[239]
[240]
[241]
[242]
[243]
[244]
[245]
[246]
[247]
[248]
[249]
[250]
[251]
[252]
[253]
[254]
[255]
[256]
[257]
[258]
[259]
[260]
[261]
[262]
[263]
[264]
[265]
[266]
[267]
[268]
[269]
[270]
[271]
[272]
[273]
[274]
[275]
[276]
[277]
[278]
[279]
[280]
[281]
[282]
[283]
[284]
[285]
[286]
[287]
[288]
[289]
[290]
[291]
[292]
[293]
[294]
[295]
[296]
[297]
[298]
[299]
[300]
[301]
[302]
[303]
[304]
[305]
[306]
[307]
[308]
[309]
[310]
[311]
[312]
[313]
[314]
[315]
[316]
[317]
[318]
[319]
[320]
[321]
[322]
[323]
[324]
[325]
[326]
[327]
[328]
[329]
[330]
[331]
[332]
[333]
[334]
[335]
[336]
[337]
[338]
[339]
[340]
[341]
[342]
[343]
[344]
[345]
[346]
[347]
[348]
[349]
[350]
[351]
[352]
[353]
[354]
[355]
[356]
[357]
[358]
[359]
[360]
[361]
[362]
[363]
[364]
[365]
[366]
[367]
[368]
[369]
[370]
[371]
[372]
[373]
[374]
[375]
[376]
[377]
[378]
[379]
[380]
[381]
[382]
[383]
[384]
[385]
[386]
[387]
[388]
[389]
[390]
[391]
[392]
[393]
[394]
[395]
[396]
[397]
[398]
[399]
[400]
[401]
[402]
[403]
[404]
[405]
[406]
[407]
[408]
[409]
[410]
[411]
[412]
[413]
[414]
[415]
[416]
[417]
[418]
[419]
[420]
[421]
[422]
[423]
[424]
[425]
[426]
[427]
[428]
[429]
[430]
[431]
[432]
[433]
[434]
[435]
[436]
[437]
[438]
[439]
[440]
[441]
[442]
[443]
[444]
[445]
[446]
[447]
[448]
[449]
[450]
[451]
[452]
[453]
[454]
[455]
[456]
[457]
[458]
[459]
[460]
[461]
[462]
[463]
[464]
[465]
[466]
[467]
[468]
[469]
[470]
[471]
[472]
[473]
[474]
[475]
[476]
[477]
[478]
[479]
[480]
[481]
[482]
[483]
[484]
[485]
[486]
[487]
[488]
[489]
[490]
[491]
[492]
[493]
[494]
[495]
[496]
[497]
[498]
[499]
[500]
[501]
[502]
[503]
[504]
[505]
[506]
[507]
[508]
[509]
[510]
[511]
[512]
[513]
[514]
[515]
[516]
[517]
[518]
[519]
[520]
[521]
[522]
[523]
[524]
[525]
[526]
[527]
[528]
[529]
[530]
[531]
[532]
[533]
[534]
[535]
[536]
[537]
[538]
[539]
[540]
[541]
[542]
[543]
[544]
[545]
[546]
[547]
[548]
[549]
[550]
[551]
[552]
[553]
[554]
[555]
[556]
[557]
[558]
[559]
[560]
[561]
[562]
[563]
[564]
[565]
[566]
[567]
[568]
[569]
[570]
[571]
[572]
[573]
[574]
[575]
[576]
[577]
[578]
[579]
[580]
[581]
[582]
[583]
[584]
[585]
[586]
[587]
[588]
[589]
[590]
[591]
[592]
[593]
[594]
[595]
[596]
[597]
[598]
[599]
[600]
[601]
[602]
[603]
[604]
[605]
[606]
[607]
[608]
[609]
[610]
[611]
[612]
[613]
[614]
[615]
[616]
[617]
[618]
[619]
[620]
[621]
[622]
[623]
[624]
[625]
[626]
[627]
[628]
[629]
[630]
[631]
[632]
[633]
[634]
[635]
[636]
[637]
[638]
[639]
[640]
[641]
[642]
[643]
[644]
[645]
[646]
[647]
[648]
[649]
[650]
[651]
[652]
[653]
[654]
[655]
[656]
[657]
[658]
[659]
[660]
[661]
[662]
[663]
[664]
[665]
[666]
[667]
[668]
[669]
[670]
[671]
[672]
[673]
[674]
[675]
[676]
[677]
[678]
[679]
[680]
[681]
[682]
[683]
[684]
[685]
[686]
[687]
[688]
[689]
[690]
[691]
[692]
[693]
[694]
[695]
[696]
[697]
[698]
[699]
[700]
[701]
[702]
[703]
[704]
[705]
[706]
[707]
[708]
[709]
[710]
[711]
[712]
[713]
[714]
[715]
[716]
[717]
[718]
[719]
[720]
[721]
[722]
[723]
[724]
[725]
[726]
[727]
[728]
[729]
[730]
[731]
[732]
[733]
[734]
[735]
[736]
[737]
[738]
[739]
[740]
[741]
[742]
[743]
[744]
[745]
[746]
[747]
[748]
[749]
[750]
[751]
[752]
[753]
[754]
[755]
[756]
[757]
[758]
[759]
[760]
[761]
[762]
[763]
[764]
[765]
[766]
[767]
[768]
[769]
[770]
[771]
[772]
[773]
[774]
[775]
[776]
[777]
[778]
[779]
[780]
[781]
[782]
[783]
[784]
[785]
[786]
[787]
[788]
[789]
[790]
[791]
[792]
[793]
[794]
[795]
[796]
[797]
[798]
[799]
[800]
[801]
[802]
[803]
[804]
[805]
[806]
[807]
[808]
[809]
[810]
[811]
[812]
[813]
[814]
[815]
[816]
[817]
[818]
[819]
[820]
[821]
[822]
[823]
[824]
[825]
[826]
[827]
[828]
[829]
[830]
[831]
[832]
[833]
[834]
[835]
[836]
[837]
[838]
[839]
[840]
[841]
[842]
[843]
[844]
[845]
[846]
[847]
[848]
[849]
[850]
[851]
[852]
[853]
[854]
[855]
[856]
[857]
[858]
[859]
[860]
[861]
[862]
[863]
[864]
[865]
[866]
[867]
[868]
[869]
[870]
[871]
[872]
[873]
[874]
[875]
[876]
[877]
[878]
[879]
[880]
[881]
[882]
[883]
[884]
[885]
[886]
[887]
[888]
[889]
[890]
[891]
[892]
[893]
[894]
[895]
[896]
[897]
[898]
[899]
[900]
[901]
[902]
[903]
[904]
[905]
[906]
[907]
[908]
[909]
[910]
[911]
[912]
[913]
[914]
[915]
[916]
[917]
[918]
[919]
[920]
[921]
[922]
[923]
[924]
[925]
[926]
[927]
[928]
[929]
[930]
[931]
[932]
[933]
[934]
[935]
[936]
[937]
[938]
[939]
[940]
[941]
[942]
[943]
[944]
[945]
[946]
[947]
[948]
[949]
[950]
[951]
[952]
[953]
[954]
[955]
[956]
[957]
[958]
[959]
[960]
[961]
[962]
[963]
[964]
[965]
[966]
[967]
[968]
[969]
[970]
[971]
[972]
[973]
[974]
[975]
[976]
[977]
[978]
[979]
[980]
[981]
[982]
[983]
[984]
[985]
[986]
[987]
[988]
[989]
[990]
[991]
[992]
[993]
[994]
[995]
[996]
[997]
[998]
[999]

{"sheet":"Sannsynlighetskriterier","index":6,"n_rows":1000,"n_cols":8,"rows_kept":1000,"cut":false,"hidden":false,"merged":[]}
["#","Beskrivelse av systemet og forholdene rundt systemet","Sannsynlighet",null,null,null,"Beregnet verdi","Justert verdi"]
[1,"systemfunksjonalitet mangler (mens systemet er i bruk)","Alvorlig",{"$f":"VLOOKUP(#REF!,datakilder2!$G$14:$H$18,2,FALSE)","v":{"$error":"#REF!"}},{"$f":"VLOOKUP(#REF!,datakilder2!$G$14:$H$18,2,FALSE)","v":{"$error":"#REF!"}},{"$f":"VLOOKUP(C2,datakilder2!$G$14:$H$18,2,FALSE)","v":4},{"$f":"IF(MAX(D2:F2)>0,MAX(D2:F2),\"\")","v":{"$error":"#REF!"}},{"$f":"IF(#REF!=datakilder2!$G$18,4,IF(#REF!=datakilder2!$G$17,3,IF(#REF!=datakilder2!$G$16,2,IF(#REF!=datakilder2!$G$15,1,1))))","v":{"$error":"#REF!"}}]
[2,"systemfunksjonalitet er dårlig (mens systemet er i bruk)","Moderat",{"$f":"VLOOKUP(#REF!,datakilder2!$G$14:$H$18,2,FALSE)","v":{"$error":"#REF!"}},{"$f":"VLOOKUP(#REF!,datakilder2!$G$14:$H$18,2,FALSE)","v":{"$error":"#REF!"}},{"$f":"VLOOKUP(C3,datakilder2!$G$14:$H$18,2,FALSE)","v":3},{"$f":"IF(MAX(D3:F3)>0,MAX(D3:F3),\"\")","v":{"$error":"#REF!"}},{"$f":"IF(#REF!=datakilder2!$G$18,4,IF(#REF!=datakilder2!$G$17,3,IF(#REF!=datakilder2!$G$16,2,IF(#REF!=datakilder2!$G$15,1,1))))","v":{"$error":"#REF!"}}]
[3,"systemfunksjonalitet god (mens systemet er i bruk)","Lav ",{"$f":"VLOOKUP(#REF!,datakilder2!$G$14:$H$18,2,FALSE)","v":{"$error":"#REF!"}},{"$f":"VLOOKUP(#REF!,datakilder2!$G$14:$H$18,2,FALSE)","v":{"$error":"#REF!"}},{"$f":"VLOOKUP(C4,datakilder2!$G$14:$H$18,2,FALSE)","v":2},{"$error":"#REF!"},{"$f":"IF(#REF!=datakilder2!$G$18,4,IF(#REF!=datakilder2!$G$17,3,IF(#REF!=datakilder2!$G$16,2,IF(#REF!=datakilder2!$G$15,1,1))))","v":{"$error":"#REF!"}}]
[4,"systemfunksjonalitet mangler ved uttrekk","Alvorlig",{"$f":"VLOOKUP(#REF!,datakilder2!$G$14:$H$18,2,FALSE)","v":{"$error":"#REF!"}},{"$f":"VLOOKUP(#REF!,datakilder2!$G$14:$H$18,2,FALSE)","v":{"$error":"#REF!"}},{"$f":"VLOOKUP(C5,datakilder2!$G$14:$H$18,2,FALSE)","v":4},{"$error":"#REF!"},{"$f":"IF(#REF!=datakilder2!$G$18,4,IF(#REF!=datakilder2!$G$17,3,IF(#REF!=datakilder2!$G$16,2,IF(#REF!=datakilder2!$G$15,1,1))))","v":{"$error":"#REF!"}}]
[5,"systemfunksjonalitet er dårlig ved uttrekk","Moderat",{"$f":"VLOOKUP(#REF!,datakilder2!$G$14:$H$18,2,FALSE)","v":{"$error":"#REF!"}},{"$f":"VLOOKUP(#REF!,datakilder2!$G$14:$H$18,2,FALSE)","v":{"$error":"#REF!"}},{"$f":"VLOOKUP(C6,datakilder2!$G$14:$H$18,2,FALSE)","v":3},{"$error":"#REF!"},{"$f":"IF(#REF!=datakilder2!$G$18,4,IF(#REF!=datakilder2!$G$17,3,IF(#REF!=datakilder2!$G$16,2,IF(#REF!=datakilder2!$G$15,1,1))))","v":{"$error":"#REF!"}}]
[6,"systemfunksjonalitet er god ved uttrekk","Lav ",{"$f":"VLOOKUP(#REF!,datakilder2!$G$14:$H$18,2,FALSE)","v":{"$error":"#REF!"}},{"$f":"VLOOKUP(#REF!,datakilder2!$G$14:$H$18,2,FALSE)","v":{"$error":"#REF!"}},{"$f":"VLOOKUP(C7,datakilder2!$G$14:$H$18,2,FALSE)","v":2},{"$error":"#REF!"},{"$f":"IF(#REF!=datakilder2!$G$18,4,IF(#REF!=datakilder2!$G$17,3,IF(#REF!=datakilder2!$G$16,2,IF(#REF!=datakilder2!$G$15,1,1))))","v":{"$error":"#REF!"}}]
[7,"menneskelig faktor: ikke egne ressurser / mangler rutiner / manuell arkivering","Alvorlig",{"$f":"VLOOKUP(#REF!,datakilder2!$G$14:$H$18,2,FALSE)","v":{"$error":"#REF!"}},{"$f":"VLOOKUP(#REF!,datakilder2!$G$14:$H$18,2,FALSE)","v":{"$error":"#REF!"}},{"$f":"VLOOKUP(C8,datakilder2!$G$14:$H$18,2,FALSE)","v":4},{"$error":"#REF!"},{"$f":"IF(#REF!=datakilder2!$G$18,4,IF(#REF!=datakilder2!$G$17,3,IF(#REF!=datakilder2!$G$16,2,IF(#REF!=datakilder2!$G$15,1,1))))","v":{"$error":"#REF!"}}]
[8,"menneskelig faktor: sporadisk kvalitetsjekk / noen eller gamle rutiner / halvautomatisk arkivering","Moderat",{"$f":"VLOOKUP(#REF!,datakilder2!$G$14:$H$18,2,FALSE)","v":{"$error":"#REF!"}},{"$f":"VLOOKUP(#REF!,datakilder2!$G$14:$H$18,2,FALSE)","v":{"$error":"#REF!"}},{"$f":"VLOOKUP(C9,datakilder2!$G$14:$H$18,2,FALSE)","v":3},{"$error":"#REF!"},{"$f":"IF(#REF!=datakilder2!$G$18,4,IF(#REF!=datakilder2!$G$17,3,IF(#REF!=datakilder2!$G$16,2,IF(#REF!=datakilder2!$G$15,1,1))))","v":{"$error":"#REF!"}}]
[9,"menneskelig faktor: fortløpende kvalitetssjekk / gode rutiner / automatisk arkivering","Lav ",{"$f":"VLOOKUP(#REF!,datakilder2!$G$14:$H$18,2,FALSE)","v":{"$error":"#REF!"}},{"$f":"VLOOKUP(#REF!,datakilder2!$G$14:$H$18,2,FALSE)","v":{"$error":"#REF!"}},{"$f":"VLOOKUP(C10,datakilder2!$G$14:$H$18,2,FALSE)","v":2},{"$error":"#REF!"},{"$f":"IF(#REF!=datakilder2!$G$18,4,IF(#REF!=datakilder2!$G$17,3,IF(#REF!=datakilder2!$G$16,2,IF(#REF!=datakilder2!$G$15,1,1))))","v":{"$error":"#REF!"}}]
[10,"Arkiveres aldri eller etter fagsystemets nedleggelse","Alvorlig",{"$f":"VLOOKUP(#REF!,datakilder2!$G$14:$H$18,2,FALSE)","v":{"$error":"#REF!"}},{"$f":"VLOOKUP(#REF!,datakilder2!$G$14:$H$18,2,FALSE)","v":{"$error":"#REF!"}},{"$f":"VLOOKUP(C11,datakilder2!$G$14:$H$18,2,FALSE)","v":4},{"$error":"#REF!"},{"$f":"IF(#REF!=datakilder2!$G$18,4,IF(#REF!=datakilder2!$G$17,3,IF(#REF!=datakilder2!$G$16,2,IF(#REF!=datakilder2!$G$15,1,1))))","v":{"$error":"#REF!"}}]
[11,"Arkiveres periodisk eller ved manuell overføring eller papirarkiv","Moderat",{"$f":"VLOOKUP(#REF!,datakilder2!$G$14:$H$18,2,FALSE)","v":{"$error":"#REF!"}},{"$f":"VLOOKUP(#REF!,datakilder2!$G$14:$H$18,2,FALSE)","v":{"$error":"#REF!"}},{"$f":"VLOOKUP(C12,datakilder2!$G$14:$H$18,2,FALSE)","v":3},{"$error":"#REF!"},{"$f":"IF(#REF!=datakilder2!$G$18,4,IF(#REF!=datakilder2!$G$17,3,IF(#REF!=datakilder2!$G$16,2,IF(#REF!=datakilder2!$G$15,1,1))))","v":{"$error":"#REF!"}}]
[12,"Arkiveres med en gang i innebygget arkiv eller integrasjon","Lav ",{"$f":"VLOOKUP(#REF!,datakilder2!$G$14:$H$18,2,FALSE)","v":{"$error":"#REF!"}},{"$f":"VLOOKUP(#REF!,datakilder2!$G$14:$H$18,2,FALSE)","v":{"$error":"#REF!"}},{"$f":"VLOOKUP(C13,datakilder2!$G$14:$H$18,2,FALSE)","v":2},{"$error":"#REF!"},{"$f":"IF(#REF!=datakilder2!$G$18,4,IF(#REF!=datakilder2!$G$17,3,IF(#REF!=datakilder2!$G$16,2,IF(#REF!=datakilder2!$G$15,1,1))))","v":{"$error":"#REF!"}}]
[13,"Tom rute",null,{"$f":"VLOOKUP(#REF!,datakilder2!$G$14:$H$18,2,FALSE)","v":{"$error":"#REF!"}},{"$f":"VLOOKUP(#REF!,datakilder2!$G$14:$H$18,2,FALSE)","v":{"$error":"#REF!"}},{"$f":"VLOOKUP(C14,datakilder2!$G$14:$H$18,2,FALSE)","v":{"$error":"#N/A"}},{"$error":"#REF!"},{"$f":"IF(#REF!=datakilder2!$G$18,4,IF(#REF!=datakilder2!$G$17,3,IF(#REF!=datakilder2!$G$16,2,IF(#REF!=datakilder2!$G$15,1,1))))","v":{"$error":"#REF!"}}]
[14,null,null,{"$f":"VLOOKUP(#REF!,datakilder2!$G$14:$H$18,2,FALSE)","v":{"$error":"#REF!"}},{"$f":"VLOOKUP(#REF!,datakilder2!$G$14:$H$18,2,FALSE)","v":{"$error":"#REF!"}},{"$f":"VLOOKUP(C15,datakilder2!$G$14:$H$18,2,FALSE)","v":{"$error":"#N/A"}},{"$error":"#REF!"},{"$f":"IF(#REF!=datakilder2!$G$18,4,IF(#REF!=datakilder2!$G$17,3,IF(#REF!=datakilder2!$G$16,2,IF(#REF!=datakilder2!$G$15,1,1))))","v":{"$error":"#REF!"}}]
[15,null,null,{"$f":"VLOOKUP(#REF!,datakilder2!$G$14:$H$18,2,FALSE)","v":{"$error":"#REF!"}},{"$f":"VLOOKUP(#REF!,datakilder2!$G$14:$H$18,2,FALSE)","v":{"$error":"#REF!"}},{"$f":"VLOOKUP(C16,datakilder2!$G$14:$H$18,2,FALSE)","v":{"$error":"#N/A"}},{"$error":"#REF!"},{"$f":"IF(#REF!=datakilder2!$G$18,4,IF(#REF!=datakilder2!$G$17,3,IF(#REF!=datakilder2!$G$16,2,IF(#REF!=datakilder2!$G$15,1,1))))","v":{"$error":"#REF!"}}]
[16,null,null,{"$f":"VLOOKUP(#REF!,datakilder2!$G$14:$H$18,2,FALSE)","v":{"$error":"#REF!"}},{"$f":"VLOOKUP(#REF!,datakilder2!$G$14:$H$18,2,FALSE)","v":{"$error":"#REF!"}},{"$f":"VLOOKUP(C17,datakilder2!$G$14:$H$18,2,FALSE)","v":{"$error":"#N/A"}},{"$error":"#REF!"},{"$f":"IF(#REF!=datakilder2!$G$18,4,IF(#REF!=datakilder2!$G$17,3,IF(#REF!=datakilder2!$G$16,2,IF(#REF!=datakilder2!$G$15,1,1))))","v":{"$error":"#REF!"}}]
[17,null,null,{"$f":"VLOOKUP(#REF!,datakilder2!$G$14:$H$18,2,FALSE)","v":{"$error":"#REF!"}},{"$f":"VLOOKUP(#REF!,datakilder2!$G$14:$H$18,2,FALSE)","v":{"$error":"#REF!"}},{"$f":"VLOOKUP(C18,datakilder2!$G$14:$H$18,2,FALSE)","v":{"$error":"#N/A"}},{"$error":"#REF!"},{"$f":"IF(#REF!=datakilder2!$G$18,4,IF(#REF!=datakilder2!$G$17,3,IF(#REF!=datakilder2!$G$16,2,IF(#REF!=datakilder2!$G$15,1,1))))","v":{"$error":"#REF!"}}]
[18,null,null,{"$f":"VLOOKUP(#REF!,datakilder2!$G$14:$H$18,2,FALSE)","v":{"$error":"#REF!"}},{"$f":"VLOOKUP(#REF!,datakilder2!$G$14:$H$18,2,FALSE)","v":{"$error":"#REF!"}},{"$f":"VLOOKUP(C19,datakilder2!$G$14:$H$18,2,FALSE)","v":{"$error":"#N/A"}},{"$error":"#REF!"},{"$f":"IF(#REF!=datakilder2!$G$18,4,IF(#REF!=datakilder2!$G$17,3,IF(#REF!=datakilder2!$G$16,2,IF(#REF!=datakilder2!$G$15,1,1))))","v":{"$error":"#REF!"}}]
[19,null,null,{"$f":"VLOOKUP(#REF!,datakilder2!$G$14:$H$18,2,FALSE)","v":{"$error":"#REF!"}},{"$f":"VLOOKUP(#REF!,datakilder2!$G$14:$H$18,2,FALSE)","v":{"$error":"#REF!"}},{"$f":"VLOOKUP(C20,datakilder2!$G$14:$H$18,2,FALSE)","v":{"$error":"#N/A"}},{"$error":"#REF!"},{"$f":"IF(#REF!=datakilder2!$G$18,4,IF(#REF!=datakilder2!$G$17,3,IF(#REF!=datakilder2!$G$16,2,IF(#REF!=datakilder2!$G$15,1,1))))","v":{"$error":"#REF!"}}]
[20,null,null,{"$f":"VLOOKUP(#REF!,datakilder2!$G$14:$H$18,2,FALSE)","v":{"$error":"#REF!"}},{"$f":"VLOOKUP(#REF!,datakilder2!$G$14:$H$18,2,FALSE)","v":{"$error":"#REF!"}},{"$f":"VLOOKUP(C21,datakilder2!$G$14:$H$18,2,FALSE)","v":{"$error":"#N/A"}},{"$error":"#REF!"},{"$f":"IF(#REF!=datakilder2!$G$18,4,IF(#REF!=datakilder2!$G$17,3,IF(#REF!=datakilder2!$G$16,2,IF(#REF!=datakilder2!$G$15,1,1))))","v":{"$error":"#REF!"}}]
[21,null,null,{"$f":"VLOOKUP(#REF!,datakilder2!$G$14:$H$18,2,FALSE)","v":{"$error":"#REF!"}},{"$f":"VLOOKUP(#REF!,datakilder2!$G$14:$H$18,2,FALSE)","v":{"$error":"#REF!"}},{"$f":"VLOOKUP(C22,datakilder2!$G$14:$H$18,2,FALSE)","v":{"$error":"#N/A"}},{"$error":"#REF!"},{"$f":"IF(#REF!=datakilder2!$G$18,4,IF(#REF!=datakilder2!$G$17,3,IF(#REF!=datakilder2!$G$16,2,IF(#REF!=datakilder2!$G$15,1,1))))","v":{"$error":"#REF!"}}]
[22,null,null,{"$f":"VLOOKUP(#REF!,datakilder2!$G$14:$H$18,2,FALSE)","v":{"$error":"#REF!"}},{"$f":"VLOOKUP(#REF!,datakilder2!$G$14:$H$18,2,FALSE)","v":{"$error":"#REF!"}},{"$f":"VLOOKUP(C23,datakilder2!$G$14:$H$18,2,FALSE)","v":{"$error":"#N/A"}},{"$error":"#REF!"},{"$f":"IF(#REF!=datakilder2!$G$18,4,IF(#REF!=datakilder2!$G$17,3,IF(#REF!=datakilder2!$G$16,2,IF(#REF!=datakilder2!$G$15,1,1))))","v":{"$error":"#REF!"}}]
[23,null,null,{"$f":"VLOOKUP(#REF!,datakilder2!$G$14:$H$18,2,FALSE)","v":{"$error":"#REF!"}},{"$f":"VLOOKUP(#REF!,datakilder2!$G$14:$H$18,2,FALSE)","v":{"$error":"#REF!"}},{"$f":"VLOOKUP(C24,datakilder2!$G$14:$H$18,2,FALSE)","v":{"$error":"#N/A"}},{"$error":"#REF!"},{"$f":"IF(#REF!=datakilder2!$G$18,4,IF(#REF!=datakilder2!$G$17,3,IF(#REF!=datakilder2!$G$16,2,IF(#REF!=datakilder2!$G$15,1,1))))","v":{"$error":"#REF!"}}]
[24,null,null,{"$f":"VLOOKUP(#REF!,datakilder2!$G$14:$H$18,2,FALSE)","v":{"$error":"#REF!"}},{"$f":"VLOOKUP(#REF!,datakilder2!$G$14:$H$18,2,FALSE)","v":{"$error":"#REF!"}},{"$f":"VLOOKUP(C25,datakilder2!$G$14:$H$18,2,FALSE)","v":{"$error":"#N/A"}},{"$error":"#REF!"},{"$f":"IF(#REF!=datakilder2!$G$18,4,IF(#REF!=datakilder2!$G$17,3,IF(#REF!=datakilder2!$G$16,2,IF(#REF!=datakilder2!$G$15,1,1))))","v":{"$error":"#REF!"}}]
[25,null,null,{"$f":"VLOOKUP(#REF!,datakilder2!$G$14:$H$18,2,FALSE)","v":{"$error":"#REF!"}},{"$f":"VLOOKUP(#REF!,datakilder2!$G$14:$H$18,2,FALSE)","v":{"$error":"#REF!"}},{"$f":"VLOOKUP(C26,datakilder2!$G$14:$H$18,2,FALSE)","v":{"$error":"#N/A"}},{"$error":"#REF!"},{"$f":"IF(#REF!=datakilder2!$G$18,4,IF(#REF!=datakilder2!$G$17,3,IF(#REF!=datakilder2!$G$16,2,IF(#REF!=datakilder2!$G$15,1,1))))","v":{"$error":"#REF!"}}]
[26,null,null,{"$f":"VLOOKUP(#REF!,datakilder2!$G$14:$H$18,2,FALSE)","v":{"$error":"#REF!"}},{"$f":"VLOOKUP(#REF!,datakilder2!$G$14:$H$18,2,FALSE)","v":{"$error":"#REF!"}},{"$f":"VLOOKUP(C27,datakilder2!$G$14:$H$18,2,FALSE)","v":{"$error":"#N/A"}},{"$error":"#REF!"},{"$f":"IF(#REF!=datakilder2!$G$18,4,IF(#REF!=datakilder2!$G$17,3,IF(#REF!=datakilder2!$G$16,2,IF(#REF!=datakilder2!$G$15,1,1))))","v":{"$error":"#REF!"}}]
[27,null,null,{"$f":"VLOOKUP(#REF!,datakilder2!$G$14:$H$18,2,FALSE)","v":{"$error":"#REF!"}},{"$f":"VLOOKUP(#REF!,datakilder2!$G$14:$H$18,2,FALSE)","v":{"$error":"#REF!"}},{"$f":"VLOOKUP(C28,datakilder2!$G$14:$H$18,2,FALSE)","v":{"$error":"#N/A"}},{"$error":"#REF!"},{"$f":"IF(#REF!=datakilder2!$G$18,4,IF(#REF!=datakilder2!$G$17,3,IF(#REF!=datakilder2!$G$16,2,IF(#REF!=datakilder2!$G$15,1,1))))","v":{"$error":"#REF!"}}]
[28,null,null,{"$f":"VLOOKUP(#REF!,datakilder2!$G$14:$H$18,2,FALSE)","v":{"$error":"#REF!"}},{"$f":"VLOOKUP(#REF!,datakilder2!$G$14:$H$18,2,FALSE)","v":{"$error":"#REF!"}},{"$f":"VLOOKUP(C29,datakilder2!$G$14:$H$18,2,FALSE)","v":{"$error":"#N/A"}},{"$error":"#REF!"},{"$f":"IF(#REF!=datakilder2!$G$18,4,IF(#REF!=datakilder2!$G$17,3,IF(#REF!=datakilder2!$G$16,2,IF(#REF!=datakilder2!$G$15,1,1))))","v":{"$error":"#REF!"}}]
[29,null,null,{"$f":"VLOOKUP(#REF!,datakilder2!$G$14:$H$18,2,FALSE)","v":{"$error":"#REF!"}},{"$f":"VLOOKUP(#REF!,datakilder2!$G$14:$H$18,2,FALSE)","v":{"$error":"#REF!"}},{"$f":"VLOOKUP(C30,datakilder2!$G$14:$H$18,2,FALSE)","v":{"$error":"#N/A"}},{"$error":"#REF!"},{"$f":"IF(#REF!=datakilder2!$G$18,4,IF(#REF!=datakilder2!$G$17,3,IF(#REF!=datakilder2!$G$16,2,IF(#REF!=datakilder2!$G$15,1,1))))","v":{"$error":"#REF!"}}]
[30,null,null,{"$f":"VLOOKUP(#REF!,datakilder2!$G$14:$H$18,2,FALSE)","v":{"$error":"#REF!"}},{"$f":"VLOOKUP(#REF!,datakilder2!$G$14:$H$18,2,FALSE)","v":{"$error":"#REF!"}},{"$f":"VLOOKUP(C31,datakilder2!$G$14:$H$18,2,FALSE)","v":{"$error":"#N/A"}},{"$error":"#REF!"},{"$f":"IF(#REF!=datakilder2!$G$18,4,IF(#REF!=datakilder2!$G$17,3,IF(#REF!=datakilder2!$G$16,2,IF(#REF!=datakilder2!$G$15,1,1))))","v":{"$error":"#REF!"}}]
[31,null,null,{"$f":"VLOOKUP(#REF!,datakilder2!$G$14:$H$18,2,FALSE)","v":{"$error":"#REF!"}},{"$f":"VLOOKUP(#REF!,datakilder2!$G$14:$H$18,2,FALSE)","v":{"$error":"#REF!"}},{"$f":"VLOOKUP(C32,datakilder2!$G$14:$H$18,2,FALSE)","v":{"$error":"#N/A"}},{"$error":"#REF!"},{"$f":"IF(#REF!=datakilder2!$G$18,4,IF(#REF!=datakilder2!$G$17,3,IF(#REF!=datakilder2!$G$16,2,IF(#REF!=datakilder2!$G$15,1,1))))","v":{"$error":"#REF!"}}]
[32,null,null,{"$f":"VLOOKUP(#REF!,datakilder2!$G$14:$H$18,2,FALSE)","v":{"$error":"#REF!"}},{"$f":"VLOOKUP(#REF!,datakilder2!$G$14:$H$18,2,FALSE)","v":{"$error":"#REF!"}},{"$f":"VLOOKUP(C33,datakilder2!$G$14:$H$18,2,FALSE)","v":{"$error":"#N/A"}},{"$error":"#REF!"},{"$f":"IF(#REF!=datakilder2!$G$18,4,IF(#REF!=datakilder2!$G$17,3,IF(#REF!=datakilder2!$G$16,2,IF(#REF!=datakilder2!$G$15,1,1))))","v":{"$error":"#REF!"}}]
[33,null,null,{"$f":"VLOOKUP(#REF!,datakilder2!$G$14:$H$18,2,FALSE)","v":{"$error":"#REF!"}},{"$f":"VLOOKUP(#REF!,datakilder2!$G$14:$H$18,2,FALSE)","v":{"$error":"#REF!"}},{"$f":"VLOOKUP(C34,datakilder2!$G$14:$H$18,2,FALSE)","v":{"$error":"#N/A"}},{"$error":"#REF!"},{"$f":"IF(#REF!=datakilder2!$G$18,4,IF(#REF!=datakilder2!$G$17,3,IF(#REF!=datakilder2!$G$16,2,IF(#REF!=datakilder2!$G$15,1,1))))","v":{"$error":"#REF!"}}]
[34,null,null,{"$f":"VLOOKUP(#REF!,datakilder2!$G$14:$H$18,2,FALSE)","v":{"$error":"#REF!"}},{"$f":"VLOOKUP(#REF!,datakilder2!$G$14:$H$18,2,FALSE)","v":{"$error":"#REF!"}},{"$f":"VLOOKUP(C35,datakilder2!$G$14:$H$18,2,FALSE)","v":{"$error":"#N/A"}},{"$error":"#REF!"},{"$f":"IF(#REF!=datakilder2!$G$18,4,IF(#REF!=datakilder2!$G$17,3,IF(#REF!=datakilder2!$G$16,2,IF(#REF!=datakilder2!$G$15,1,1))))","v":{"$error":"#REF!"}}]
[35,null,null,{"$f":"VLOOKUP(#REF!,datakilder2!$G$14:$H$18,2,FALSE)","v":{"$error":"#REF!"}},{"$f":"VLOOKUP(#REF!,datakilder2!$G$14:$H$18,2,FALSE)","v":{"$error":"#REF!"}},{"$f":"VLOOKUP(C36,datakilder2!$G$14:$H$18,2,FALSE)","v":{"$error":"#N/A"}},{"$error":"#REF!"},{"$f":"IF(#REF!=datakilder2!$G$18,4,IF(#REF!=datakilder2!$G$17,3,IF(#REF!=datakilder2!$G$16,2,IF(#REF!=datakilder2!$G$15,1,1))))","v":{"$error":"#REF!"}}]
[36,null,null,{"$f":"VLOOKUP(#REF!,datakilder2!$G$14:$H$18,2,FALSE)","v":{"$error":"#REF!"}},{"$f":"VLOOKUP(#REF!,datakilder2!$G$14:$H$18,2,FALSE)","v":{"$error":"#REF!"}},{"$f":"VLOOKUP(C37,datakilder2!$G$14:$H$18,2,FALSE)","v":{"$error":"#N/A"}},{"$error":"#REF!"},{"$f":"IF(#REF!=datakilder2!$G$18,4,IF(#REF!=datakilder2!$G$17,3,IF(#REF!=datakilder2!$G$16,2,IF(#REF!=datakilder2!$G$15,1,1))))","v":{"$error":"#REF!"}}]
[37,null,null,{"$f":"VLOOKUP(#REF!,datakilder2!$G$14:$H$18,2,FALSE)","v":{"$error":"#REF!"}},{"$f":"VLOOKUP(#REF!,datakilder2!$G$14:$H$18,2,FALSE)","v":{"$error":"#REF!"}},{"$f":"VLOOKUP(C38,datakilder2!$G$14:$H$18,2,FALSE)","v":{"$error":"#N/A"}},{"$error":"#REF!"},{"$f":"IF(#REF!=datakilder2!$G$18,4,IF(#REF!=datakilder2!$G$17,3,IF(#REF!=datakilder2!$G$16,2,IF(#REF!=datakilder2!$G$15,1,1))))","v":{"$error":"#REF!"}}]
[38,null,null,{"$f":"VLOOKUP(#REF!,datakilder2!$G$14:$H$18,2,FALSE)","v":{"$error":"#REF!"}},{"$f":"VLOOKUP(#REF!,datakilder2!$G$14:$H$18,2,FALSE)","v":{"$error":"#REF!"}},{"$f":"VLOOKUP(C39,datakilder2!$G$14:$H$18,2,FALSE)","v":{"$error":"#N/A"}},{"$error":"#REF!"},{"$f":"IF(#REF!=datakilder2!$G$18,4,IF(#REF!=datakilder2!$G$17,3,IF(#REF!=datakilder2!$G$16,2,IF(#REF!=datakilder2!$G$15,1,1))))","v":{"$error":"#REF!"}}]
[39,null,null,{"$f":"VLOOKUP(#REF!,datakilder2!$G$14:$H$18,2,FALSE)","v":{"$error":"#REF!"}},{"$f":"VLOOKUP(#REF!,datakilder2!$G$14:$H$18,2,FALSE)","v":{"$error":"#REF!"}},{"$f":"VLOOKUP(C40,datakilder2!$G$14:$H$18,2,FALSE)","v":{"$error":"#N/A"}},{"$error":"#REF!"},{"$f":"IF(#REF!=datakilder2!$G$18,4,IF(#REF!=datakilder2!$G$17,3,IF(#REF!=datakilder2!$G$16,2,IF(#REF!=datakilder2!$G$15,1,1))))","v":{"$error":"#REF!"}}]
[40,null,null,{"$f":"VLOOKUP(#REF!,datakilder2!$G$14:$H$18,2,FALSE)","v":{"$error":"#REF!"}},{"$f":"VLOOKUP(#REF!,datakilder2!$G$14:$H$18,2,FALSE)","v":{"$error":"#REF!"}},{"$f":"VLOOKUP(C41,datakilder2!$G$14:$H$18,2,FALSE)","v":{"$error":"#N/A"}},{"$error":"#REF!"},{"$f":"IF(#REF!=datakilder2!$G$18,4,IF(#REF!=datakilder2!$G$17,3,IF(#REF!=datakilder2!$G$16,2,IF(#REF!=datakilder2!$G$15,1,1))))","v":{"$error":"#REF!"}}]
[41,null,null,{"$f":"VLOOKUP(#REF!,datakilder2!$G$14:$H$18,2,FALSE)","v":{"$error":"#REF!"}},{"$f":"VLOOKUP(#REF!,datakilder2!$G$14:$H$18,2,FALSE)","v":{"$error":"#REF!"}},{"$f":"VLOOKUP(C42,datakilder2!$G$14:$H$18,2,FALSE)","v":{"$error":"#N/A"}},{"$error":"#REF!"},{"$f":"IF(#REF!=datakilder2!$G$18,4,IF(#REF!=datakilder2!$G$17,3,IF(#REF!=datakilder2!$G$16,2,IF(#REF!=datakilder2!$G$15,1,1))))","v":{"$error":"#REF!"}}]
[42,null,null,{"$f":"VLOOKUP(#REF!,datakilder2!$G$14:$H$18,2,FALSE)","v":{"$error":"#REF!"}},{"$f":"VLOOKUP(#REF!,datakilder2!$G$14:$H$18,2,FALSE)","v":{"$error":"#REF!"}},{"$f":"VLOOKUP(C43,datakilder2!$G$14:$H$18,2,FALSE)","v":{"$error":"#N/A"}},{"$error":"#REF!"},{"$f":"IF(#REF!=datakilder2!$G$18,4,IF(#REF!=datakilder2!$G$17,3,IF(#REF!=datakilder2!$G$16,2,IF(#REF!=datakilder2!$G$15,1,1))))","v":{"$error":"#REF!"}}]
[43,null,null,{"$f":"VLOOKUP(#REF!,datakilder2!$G$14:$H$18,2,FALSE)","v":{"$error":"#REF!"}},{"$f":"VLOOKUP(#REF!,datakilder2!$G$14:$H$18,2,FALSE)","v":{"$error":"#REF!"}},{"$f":"VLOOKUP(C44,datakilder2!$G$14:$H$18,2,FALSE)","v":{"$error":"#N/A"}},{"$error":"#REF!"},{"$f":"IF(#REF!=datakilder2!$G$18,4,IF(#REF!=datakilder2!$G$17,3,IF(#REF!=datakilder2!$G$16,2,IF(#REF!=datakilder2!$G$15,1,1))))","v":{"$error":"#REF!"}}]
[44,null,null,{"$f":"VLOOKUP(#REF!,datakilder2!$G$14:$H$18,2,FALSE)","v":{"$error":"#REF!"}},{"$f":"VLOOKUP(#REF!,datakilder2!$G$14:$H$18,2,FALSE)","v":{"$error":"#REF!"}},{"$f":"VLOOKUP(C45,datakilder2!$G$14:$H$18,2,FALSE)","v":{"$error":"#N/A"}},{"$error":"#REF!"},{"$f":"IF(#REF!=datakilder2!$G$18,4,IF(#REF!=datakilder2!$G$17,3,IF(#REF!=datakilder2!$G$16,2,IF(#REF!=datakilder2!$G$15,1,1))))","v":{"$error":"#REF!"}}]
[45,null,null,{"$f":"VLOOKUP(#REF!,datakilder2!$G$14:$H$18,2,FALSE)","v":{"$error":"#REF!"}},{"$f":"VLOOKUP(#REF!,datakilder2!$G$14:$H$18,2,FALSE)","v":{"$error":"#REF!"}},{"$f":"VLOOKUP(C46,datakilder2!$G$14:$H$18,2,FALSE)","v":{"$error":"#N/A"}},{"$error":"#REF!"},{"$f":"IF(#REF!=datakilder2!$G$18,4,IF(#REF!=datakilder2!$G$17,3,IF(#REF!=datakilder2!$G$16,2,IF(#REF!=datakilder2!$G$15,1,1))))","v":{"$error":"#REF!"}}]
[46,null,null,{"$f":"VLOOKUP(#REF!,datakilder2!$G$14:$H$18,2,FALSE)","v":{"$error":"#REF!"}},{"$f":"VLOOKUP(#REF!,datakilder2!$G$14:$H$18,2,FALSE)","v":{"$error":"#REF!"}},{"$f":"VLOOKUP(C47,datakilder2!$G$14:$H$18,2,FALSE)","v":{"$error":"#N/A"}},{"$error":"#REF!"},{"$f":"IF(#REF!=datakilder2!$G$18,4,IF(#REF!=datakilder2!$G$17,3,IF(#REF!=datakilder2!$G$16,2,IF(#REF!=datakilder2!$G$15,1,1))))","v":{"$error":"#REF!"}}]
[47,null,null,{"$f":"VLOOKUP(#REF!,datakilder2!$G$14:$H$18,2,FALSE)","v":{"$error":"#REF!"}},{"$f":"VLOOKUP(#REF!,datakilder2!$G$14:$H$18,2,FALSE)","v":{"$error":"#REF!"}},{"$f":"VLOOKUP(C48,datakilder2!$G$14:$H$18,2,FALSE)","v":{"$error":"#N/A"}},{"$error":"#REF!"},{"$f":"IF(#REF!=datakilder2!$G$18,4,IF(#REF!=datakilder2!$G$17,3,IF(#REF!=datakilder2!$G$16,2,IF(#REF!=datakilder2!$G$15,1,1))))","v":{"$error":"#REF!"}}]
[48,null,null,{"$f":"VLOOKUP(#REF!,datakilder2!$G$14:$H$18,2,FALSE)","v":{"$error":"#REF!"}},{"$f":"VLOOKUP(#REF!,datakilder2!$G$14:$H$18,2,FALSE)","v":{"$error":"#REF!"}},{"$f":"VLOOKUP(C49,datakilder2!$G$14:$H$18,2,FALSE)","v":{"$error":"#N/A"}},{"$error":"#REF!"},{"$f":"IF(#REF!=datakilder2!$G$18,4,IF(#REF!=datakilder2!$G$17,3,IF(#REF!=datakilder2!$G$16,2,IF(#REF!=datakilder2!$G$15,1,1))))","v":{"$error":"#REF!"}}]
[49,null,null,{"$f":"VLOOKUP(#REF!,datakilder2!$G$14:$H$18,2,FALSE)","v":{"$error":"#REF!"}},{"$f":"VLOOKUP(#REF!,datakilder2!$G$14:$H$18,2,FALSE)","v":{"$error":"#REF!"}},{"$f":"VLOOKUP(C50,datakilder2!$G$14:$H$18,2,FALSE)","v":{"$error":"#N/A"}},{"$error":"#REF!"},{"$f":"IF(#REF!=datakilder2!$G$18,4,IF(#REF!=datakilder2!$G$17,3,IF(#REF!=datakilder2!$G$16,2,IF(#REF!=datakilder2!$G$15,1,1))))","v":{"$error":"#REF!"}}]
[50,null,null,{"$f":"VLOOKUP(#REF!,datakilder2!$G$14:$H$18,2,FALSE)","v":{"$error":"#REF!"}},{"$f":"VLOOKUP(#REF!,datakilder2!$G$14:$H$18,2,FALSE)","v":{"$error":"#REF!"}},{"$f":"VLOOKUP(C51,datakilder2!$G$14:$H$18,2,FALSE)","v":{"$error":"#N/A"}},{"$error":"#REF!"},{"$f":"IF(#REF!=datakilder2!$G$18,4,IF(#REF!=datakilder2!$G$17,3,IF(#REF!=datakilder2!$G$16,2,IF(#REF!=datakilder2!$G$15,1,1))))","v":{"$error":"#REF!"}}]
[51,null,null,{"$f":"VLOOKUP(#REF!,datakilder2!$G$14:$H$18,2,FALSE)","v":{"$error":"#REF!"}},{"$f":"VLOOKUP(#REF!,datakilder2!$G$14:$H$18,2,FALSE)","v":{"$error":"#REF!"}},{"$f":"VLOOKUP(C52,datakilder2!$G$14:$H$18,2,FALSE)","v":{"$error":"#N/A"}},{"$error":"#REF!"},{"$f":"IF(#REF!=datakilder2!$G$18,4,IF(#REF!=datakilder2!$G$17,3,IF(#REF!=datakilder2!$G$16,2,IF(#REF!=datakilder2!$G$15,1,1))))","v":{"$error":"#REF!"}}]
[52,null,null,{"$f":"VLOOKUP(#REF!,datakilder2!$G$14:$H$18,2,FALSE)","v":{"$error":"#REF!"}},{"$f":"VLOOKUP(#REF!,datakilder2!$G$14:$H$18,2,FALSE)","v":{"$error":"#REF!"}},{"$f":"VLOOKUP(C53,datakilder2!$G$14:$H$18,2,FALSE)","v":{"$error":"#N/A"}},{"$error":"#REF!"},{"$f":"IF(#REF!=datakilder2!$G$18,4,IF(#REF!=datakilder2!$G$17,3,IF(#REF!=datakilder2!$G$16,2,IF(#REF!=datakilder2!$G$15,1,1))))","v":{"$error":"#REF!"}}]
[53,null,null,{"$f":"VLOOKUP(#REF!,datakilder2!$G$14:$H$18,2,FALSE)","v":{"$error":"#REF!"}},{"$f":"VLOOKUP(#REF!,datakilder2!$G$14:$H$18,2,FALSE)","v":{"$error":"#REF!"}},{"$f":"VLOOKUP(C54,datakilder2!$G$14:$H$18,2,FALSE)","v":{"$error":"#N/A"}},{"$error":"#REF!"},{"$f":"IF(#REF!=datakilder2!$G$18,4,IF(#REF!=datakilder2!$G$17,3,IF(#REF!=datakilder2!$G$16,2,IF(#REF!=datakilder2!$G$15,1,1))))","v":{"$error":"#REF!"}}]
[54,null,null,{"$f":"VLOOKUP(#REF!,datakilder2!$G$14:$H$18,2,FALSE)","v":{"$error":"#REF!"}},{"$f":"VLOOKUP(#REF!,datakilder2!$G$14:$H$18,2,FALSE)","v":{"$error":"#REF!"}},{"$f":"VLOOKUP(C55,datakilder2!$G$14:$H$18,2,FALSE)","v":{"$error":"#N/A"}},{"$error":"#REF!"},{"$f":"IF(#REF!=datakilder2!$G$18,4,IF(#REF!=datakilder2!$G$17,3,IF(#REF!=datakilder2!$G$16,2,IF(#REF!=datakilder2!$G$15,1,1))))","v":{"$error":"#REF!"}}]
[55,null,null,{"$f":"VLOOKUP(#REF!,datakilder2!$G$14:$H$18,2,FALSE)","v":{"$error":"#REF!"}},{"$f":"VLOOKUP(#REF!,datakilder2!$G$14:$H$18,2,FALSE)","v":{"$error":"#REF!"}},{"$f":"VLOOKUP(C56,datakilder2!$G$14:$H$18,2,FALSE)","v":{"$error":"#N/A"}},{"$error":"#REF!"},{"$f":"IF(#REF!=datakilder2!$G$18,4,IF(#REF!=datakilder2!$G$17,3,IF(#REF!=datakilder2!$G$16,2,IF(#REF!=datakilder2!$G$15,1,1))))","v":{"$error":"#REF!"}}]
[56,null,null,{"$f":"VLOOKUP(#REF!,datakilder2!$G$14:$H$18,2,FALSE)","v":{"$error":"#REF!"}},{"$f":"VLOOKUP(#REF!,datakilder2!$G$14:$H$18,2,FALSE)","v":{"$error":"#REF!"}},{"$f":"VLOOKUP(C57,datakilder2!$G$14:$H$18,2,FALSE)","v":{"$error":"#N/A"}},{"$error":"#REF!"},{"$f":"IF(#REF!=datakilder2!$G$18,4,IF(#REF!=datakilder2!$G$17,3,IF(#REF!=datakilder2!$G$16,2,IF(#REF!=datakilder2!$G$15,1,1))))","v":{"$error":"#REF!"}}]
[57,null,null,{"$f":"VLOOKUP(#REF!,datakilder2!$G$14:$H$18,2,FALSE)","v":{"$error":"#REF!"}},{"$f":"VLOOKUP(#REF!,datakilder2!$G$14:$H$18,2,FALSE)","v":{"$error":"#REF!"}},{"$f":"VLOOKUP(C58,datakilder2!$G$14:$H$18,2,FALSE)","v":{"$error":"#N/A"}},{"$error":"#REF!"},{"$f":"IF(#REF!=datakilder2!$G$18,4,IF(#REF!=datakilder2!$G$17,3,IF(#REF!=datakilder2!$G$16,2,IF(#REF!=datakilder2!$G$15,1,1))))","v":{"$error":"#REF!"}}]
[58,null,null,{"$f":"VLOOKUP(#REF!,datakilder2!$G$14:$H$18,2,FALSE)","v":{"$error":"#REF!"}},{"$f":"VLOOKUP(#REF!,datakilder2!$G$14:$H$18,2,FALSE)","v":{"$error":"#REF!"}},{"$f":"VLOOKUP(C59,datakilder2!$G$14:$H$18,2,FALSE)","v":{"$error":"#N/A"}},{"$error":"#REF!"},{"$f":"IF(#REF!=datakilder2!$G$18,4,IF(#REF!=datakilder2!$G$17,3,IF(#REF!=datakilder2!$G$16,2,IF(#REF!=datakilder2!$G$15,1,1))))","v":{"$error":"#REF!"}}]
[59,null,null,{"$f":"VLOOKUP(#REF!,datakilder2!$G$14:$H$18,2,FALSE)","v":{"$error":"#REF!"}},{"$f":"VLOOKUP(#REF!,datakilder2!$G$14:$H$18,2,FALSE)","v":{"$error":"#REF!"}},{"$f":"VLOOKUP(C60,datakilder2!$G$14:$H$18,2,FALSE)","v":{"$error":"#N/A"}},{"$error":"#REF!"},{"$f":"IF(#REF!=datakilder2!$G$18,4,IF(#REF!=datakilder2!$G$17,3,IF(#REF!=datakilder2!$G$16,2,IF(#REF!=datakilder2!$G$15,1,1))))","v":{"$error":"#REF!"}}]
[60,null,null,{"$f":"VLOOKUP(#REF!,datakilder2!$G$14:$H$18,2,FALSE)","v":{"$error":"#REF!"}},{"$f":"VLOOKUP(#REF!,datakilder2!$G$14:$H$18,2,FALSE)","v":{"$error":"#REF!"}},{"$f":"VLOOKUP(C61,datakilder2!$G$14:$H$18,2,FALSE)","v":{"$error":"#N/A"}},{"$error":"#REF!"},{"$f":"IF(#REF!=datakilder2!$G$18,4,IF(#REF!=datakilder2!$G$17,3,IF(#REF!=datakilder2!$G$16,2,IF(#REF!=datakilder2!$G$15,1,1))))","v":{"$error":"#REF!"}}]
[61,null,null,{"$f":"VLOOKUP(#REF!,datakilder2!$G$14:$H$18,2,FALSE)","v":{"$error":"#REF!"}},{"$f":"VLOOKUP(#REF!,datakilder2!$G$14:$H$18,2,FALSE)","v":{"$error":"#REF!"}},{"$f":"VLOOKUP(C62,datakilder2!$G$14:$H$18,2,FALSE)","v":{"$error":"#N/A"}},{"$error":"#REF!"},{"$f":"IF(#REF!=datakilder2!$G$18,4,IF(#REF!=datakilder2!$G$17,3,IF(#REF!=datakilder2!$G$16,2,IF(#REF!=datakilder2!$G$15,1,1))))","v":{"$error":"#REF!"}}]
[62,null,null,{"$f":"VLOOKUP(#REF!,datakilder2!$G$14:$H$18,2,FALSE)","v":{"$error":"#REF!"}},{"$f":"VLOOKUP(#REF!,datakilder2!$G$14:$H$18,2,FALSE)","v":{"$error":"#REF!"}},{"$f":"VLOOKUP(C63,datakilder2!$G$14:$H$18,2,FALSE)","v":{"$error":"#N/A"}},{"$error":"#REF!"},{"$f":"IF(#REF!=datakilder2!$G$18,4,IF(#REF!=datakilder2!$G$17,3,IF(#REF!=datakilder2!$G$16,2,IF(#REF!=datakilder2!$G$15,1,1))))","v":{"$error":"#REF!"}}]
[63,null,null,{"$f":"VLOOKUP(#REF!,datakilder2!$G$14:$H$18,2,FALSE)","v":{"$error":"#REF!"}},{"$f":"VLOOKUP(#REF!,datakilder2!$G$14:$H$18,2,FALSE)","v":{"$error":"#REF!"}},{"$f":"VLOOKUP(C64,datakilder2!$G$14:$H$18,2,FALSE)","v":{"$error":"#N/A"}},{"$error":"#REF!"},{"$f":"IF(#REF!=datakilder2!$G$18,4,IF(#REF!=datakilder2!$G$17,3,IF(#REF!=datakilder2!$G$16,2,IF(#REF!=datakilder2!$G$15,1,1))))","v":{"$error":"#REF!"}}]
[64,null,null,{"$f":"VLOOKUP(#REF!,datakilder2!$G$14:$H$18,2,FALSE)","v":{"$error":"#REF!"}},{"$f":"VLOOKUP(#REF!,datakilder2!$G$14:$H$18,2,FALSE)","v":{"$error":"#REF!"}},{"$f":"VLOOKUP(C65,datakilder2!$G$14:$H$18,2,FALSE)","v":{"$error":"#N/A"}},{"$error":"#REF!"},{"$f":"IF(#REF!=datakilder2!$G$18,4,IF(#REF!=datakilder2!$G$17,3,IF(#REF!=datakilder2!$G$16,2,IF(#REF!=datakilder2!$G$15,1,1))))","v":{"$error":"#REF!"}}]
[65,null,null,{"$f":"VLOOKUP(#REF!,datakilder2!$G$14:$H$18,2,FALSE)","v":{"$error":"#REF!"}},{"$f":"VLOOKUP(#REF!,datakilder2!$G$14:$H$18,2,FALSE)","v":{"$error":"#REF!"}},{"$f":"VLOOKUP(C66,datakilder2!$G$14:$H$18,2,FALSE)","v":{"$error":"#N/A"}},{"$error":"#REF!"},{"$f":"IF(#REF!=datakilder2!$G$18,4,IF(#REF!=datakilder2!$G$17,3,IF(#REF!=datakilder2!$G$16,2,IF(#REF!=datakilder2!$G$15,1,1))))","v":{"$error":"#REF!"}}]
[66,null,null,{"$f":"VLOOKUP(#REF!,datakilder2!$G$14:$H$18,2,FALSE)","v":{"$error":"#REF!"}},{"$f":"VLOOKUP(#REF!,datakilder2!$G$14:$H$18,2,FALSE)","v":{"$error":"#REF!"}},{"$f":"VLOOKUP(C67,datakilder2!$G$14:$H$18,2,FALSE)","v":{"$error":"#N/A"}},{"$f":"IF(MAX(D67:F67)>0,MAX(D67:F67),\"\")","v":{"$error":"#REF!"}},{"$f":"IF(#REF!=datakilder2!$G$18,4,IF(#REF!=datakilder2!$G$17,3,IF(#REF!=datakilder2!$G$16,2,IF(#REF!=datakilder2!$G$15,1,1))))","v":{"$error":"#REF!"}}]
[67,null,null,{"$f":"VLOOKUP(#REF!,datakilder2!$G$14:$H$18,2,FALSE)","v":{"$error":"#REF!"}},{"$f":"VLOOKUP(#REF!,datakilder2!$G$14:$H$18,2,FALSE)","v":{"$error":"#REF!"}},{"$f":"VLOOKUP(C68,datakilder2!$G$14:$H$18,2,FALSE)","v":{"$error":"#N/A"}},{"$error":"#REF!"},{"$f":"IF(#REF!=datakilder2!$G$18,4,IF(#REF!=datakilder2!$G$17,3,IF(#REF!=datakilder2!$G$16,2,IF(#REF!=datakilder2!$G$15,1,1))))","v":{"$error":"#REF!"}}]
[68,null,null,{"$f":"VLOOKUP(#REF!,datakilder2!$G$14:$H$18,2,FALSE)","v":{"$error":"#REF!"}},{"$f":"VLOOKUP(#REF!,datakilder2!$G$14:$H$18,2,FALSE)","v":{"$error":"#REF!"}},{"$f":"VLOOKUP(C69,datakilder2!$G$14:$H$18,2,FALSE)","v":{"$error":"#N/A"}},{"$error":"#REF!"},{"$f":"IF(#REF!=datakilder2!$G$18,4,IF(#REF!=datakilder2!$G$17,3,IF(#REF!=datakilder2!$G$16,2,IF(#REF!=datakilder2!$G$15,1,1))))","v":{"$error":"#REF!"}}]
[69,null,null,{"$f":"VLOOKUP(#REF!,datakilder2!$G$14:$H$18,2,FALSE)","v":{"$error":"#REF!"}},{"$f":"VLOOKUP(#REF!,datakilder2!$G$14:$H$18,2,FALSE)","v":{"$error":"#REF!"}},{"$f":"VLOOKUP(C70,datakilder2!$G$14:$H$18,2,FALSE)","v":{"$error":"#N/A"}},{"$error":"#REF!"},{"$f":"IF(#REF!=datakilder2!$G$18,4,IF(#REF!=datakilder2!$G$17,3,IF(#REF!=datakilder2!$G$16,2,IF(#REF!=datakilder2!$G$15,1,1))))","v":{"$error":"#REF!"}}]
[70,null,null,{"$f":"VLOOKUP(#REF!,datakilder2!$G$14:$H$18,2,FALSE)","v":{"$error":"#REF!"}},{"$f":"VLOOKUP(#REF!,datakilder2!$G$14:$H$18,2,FALSE)","v":{"$error":"#REF!"}},{"$f":"VLOOKUP(C71,datakilder2!$G$14:$H$18,2,FALSE)","v":{"$error":"#N/A"}},{"$error":"#REF!"},{"$f":"IF(#REF!=datakilder2!$G$18,4,IF(#REF!=datakilder2!$G$17,3,IF(#REF!=datakilder2!$G$16,2,IF(#REF!=datakilder2!$G$15,1,1))))","v":{"$error":"#REF!"}}]
[71,null,null,{"$f":"VLOOKUP(#REF!,datakilder2!$G$14:$H$18,2,FALSE)","v":{"$error":"#REF!"}},{"$f":"VLOOKUP(#REF!,datakilder2!$G$14:$H$18,2,FALSE)","v":{"$error":"#REF!"}},{"$f":"VLOOKUP(C72,datakilder2!$G$14:$H$18,2,FALSE)","v":{"$error":"#N/A"}},{"$error":"#REF!"},{"$f":"IF(#REF!=datakilder2!$G$18,4,IF(#REF!=datakilder2!$G$17,3,IF(#REF!=datakilder2!$G$16,2,IF(#REF!=datakilder2!$G$15,1,1))))","v":{"$error":"#REF!"}}]
[72,null,null,{"$f":"VLOOKUP(#REF!,datakilder2!$G$14:$H$18,2,FALSE)","v":{"$error":"#REF!"}},{"$f":"VLOOKUP(#REF!,datakilder2!$G$14:$H$18,2,FALSE)","v":{"$error":"#REF!"}},{"$f":"VLOOKUP(C73,datakilder2!$G$14:$H$18,2,FALSE)","v":{"$error":"#N/A"}},{"$error":"#REF!"},{"$f":"IF(#REF!=datakilder2!$G$18,4,IF(#REF!=datakilder2!$G$17,3,IF(#REF!=datakilder2!$G$16,2,IF(#REF!=datakilder2!$G$15,1,1))))","v":{"$error":"#REF!"}}]
[73,null,null,{"$f":"VLOOKUP(#REF!,datakilder2!$G$14:$H$18,2,FALSE)","v":{"$error":"#REF!"}},{"$f":"VLOOKUP(#REF!,datakilder2!$G$14:$H$18,2,FALSE)","v":{"$error":"#REF!"}},{"$f":"VLOOKUP(C74,datakilder2!$G$14:$H$18,2,FALSE)","v":{"$error":"#N/A"}},{"$error":"#REF!"},{"$f":"IF(#REF!=datakilder2!$G$18,4,IF(#REF!=datakilder2!$G$17,3,IF(#REF!=datakilder2!$G$16,2,IF(#REF!=datakilder2!$G$15,1,1))))","v":{"$error":"#REF!"}}]
[74,null,null,{"$f":"VLOOKUP(#REF!,datakilder2!$G$14:$H$18,2,FALSE)","v":{"$error":"#REF!"}},{"$f":"VLOOKUP(#REF!,datakilder2!$G$14:$H$18,2,FALSE)","v":{"$error":"#REF!"}},{"$f":"VLOOKUP(C75,datakilder2!$G$14:$H$18,2,FALSE)","v":{"$error":"#N/A"}},{"$error":"#REF!"},{"$f":"IF(#REF!=datakilder2!$G$18,4,IF(#REF!=datakilder2!$G$17,3,IF(#REF!=datakilder2!$G$16,2,IF(#REF!=datakilder2!$G$15,1,1))))","v":{"$error":"#REF!"}}]
[75,null,null,{"$f":"VLOOKUP(#REF!,datakilder2!$G$14:$H$18,2,FALSE)","v":{"$error":"#REF!"}},{"$f":"VLOOKUP(#REF!,datakilder2!$G$14:$H$18,2,FALSE)","v":{"$error":"#REF!"}},{"$f":"VLOOKUP(C76,datakilder2!$G$14:$H$18,2,FALSE)","v":{"$error":"#N/A"}},{"$error":"#REF!"},{"$f":"IF(#REF!=datakilder2!$G$18,4,IF(#REF!=datakilder2!$G$17,3,IF(#REF!=datakilder2!$G$16,2,IF(#REF!=datakilder2!$G$15,1,1))))","v":{"$error":"#REF!"}}]
[76,null,null,{"$f":"VLOOKUP(#REF!,datakilder2!$G$14:$H$18,2,FALSE)","v":{"$error":"#REF!"}},{"$f":"VLOOKUP(#REF!,datakilder2!$G$14:$H$18,2,FALSE)","v":{"$error":"#REF!"}},{"$f":"VLOOKUP(C77,datakilder2!$G$14:$H$18,2,FALSE)","v":{"$error":"#N/A"}},{"$error":"#REF!"},{"$f":"IF(#REF!=datakilder2!$G$18,4,IF(#REF!=datakilder2!$G$17,3,IF(#REF!=datakilder2!$G$16,2,IF(#REF!=datakilder2!$G$15,1,1))))","v":{"$error":"#REF!"}}]
[77,null,null,{"$f":"VLOOKUP(#REF!,datakilder2!$G$14:$H$18,2,FALSE)","v":{"$error":"#REF!"}},{"$f":"VLOOKUP(#REF!,datakilder2!$G$14:$H$18,2,FALSE)","v":{"$error":"#REF!"}},{"$f":"VLOOKUP(C78,datakilder2!$G$14:$H$18,2,FALSE)","v":{"$error":"#N/A"}},{"$error":"#REF!"},{"$f":"IF(#REF!=datakilder2!$G$18,4,IF(#REF!=datakilder2!$G$17,3,IF(#REF!=datakilder2!$G$16,2,IF(#REF!=datakilder2!$G$15,1,1))))","v":{"$error":"#REF!"}}]
[78,null,null,null,null,null,{"$f":"IF(MAX(C79:C79)>0,MAX(C79:C79),\"\")","v":""}]
[79,null,null,null,null,null,""]
[80,null,null,null,null,null,""]
[81,null,null,null,null,null,""]
[82,null,null,null,null,null,""]
[83,null,null,null,null,null,""]
[84,null,null,null,null,null,""]
[85,null,null,null,null,null,""]
[86,null,null,null,null,null,""]
[87,null,null,null,null,null,""]
[88,null,null,null,null,null,""]
[89,null,null,null,null,null,""]
[90,null,null,null,null,null,""]
[91,null,null,null,null,null,""]
[92,null,null,null,null,null,""]
[93,null,null,null,null,null,""]
[94,null,null,null,null,null,""]
[95,null,null,null,null,null,""]
[96,null,null,null,null,null,""]
[97,null,null,null,null,null,""]
[98,null,null,null,null,null,""]
[99,null,null,null,null,null,""]
[100,null,null,null,null,null,""]
[101,null,null,null,null,null,""]
[102,null,null,null,null,null,""]
[103,null,null,null,null,null,""]
[104,null,null,null,null,null,""]
[105,null,null,null,null,null,""]
[106,null,null,null,null,null,""]
[107,null,null,null,null,null,""]
[108,null,null,null,null,null,""]
[109,null,null,null,null,null,""]
[110,null,null,null,null,null,{"$f":"IF(MAX(C111:C111)>0,MAX(C111:C111),\"\")","v":""}]
[111,null,null,null,null,null,""]
[112,null,null,null,null,null,""]
[113,null,null,null,null,null,""]
[114,null,null,null,null,null,""]
[115,null,null,null,null,null,""]
[116,null,null,null,null,null,""]
[117,null,null,null,null,null,""]
[118,null,null,null,null,null,""]
[119,null,null,null,null,null,""]
[120,null,null,null,null,null,""]
[121,null,null,null,null,null,""]
[122,null,null,null,null,null,""]
[123,null,null,null,null,null,""]
[124,null,null,null,null,null,""]
[125,null,null,null,null,null,""]
[126,null,null,null,null,null,""]
[127,null,null,null,null,null,""]
[128,null,null,null,null,null,""]
[129,null,null,null,null,null,""]
[130,null,null,null,null,null,""]
[131,null,null,null,null,null,""]
[132,null,null,null,null,null,""]
[133,null,null,null,null,null,""]
[134,null,null,null,null,null,""]
[135,null,null,null,null,null,""]
[136,null,null,null,null,null,""]
[137,null,null,null,null,null,""]
[138,null,null,null,null,null,""]
[139,null,null,null,null,null,""]
[140,null,null,null,null,null,""]
[141,null,null,null,null,null,""]
[142,null,null,null,null,null,{"$f":"IF(MAX(C143:C143)>0,MAX(C143:C143),\"\")","v":""}]
[143,null,null,null,null,null,""]
[144,null,null,null,null,null,""]
[145,null,null,null,null,null,""]
[146,null,null,null,null,null,""]
[147,null,null,null,null,null,""]
[148,null,null,null,null,null,""]
[149,null,null,null,null,null,""]
[150]
[151]
[152]
[153]
[154]
[155]
[156]
[157]
[158]
[159]
[160]
[161]
[162]
[163]
[164]
[165]
[166]
[167]
[168]
[169]
[170]
[171]
[172]
[173]
[174]
[175]
[176]
[177]
[178]
[179]
[180]
[181]
[182]
[183]
[184]
[185]
[186]
[187]
[188]
[189]
[190]
[191]
[192]
[193]
[194]
[195]
[196]
[197]
[198]
[199]
[200]
[201]
[202]
[203]
[204]
[205]
[206]
[207]
[208]
[209]
[210]
[211]
[212]
[213]
[214]
[215]
[216]
[217]
[218]
[219]
[220]
[221]
[222]
[223]
[224]
[225]
[226]
[227]
[228]
[229]
[230]
[231]
[232]
[233]
[234]
[235]
[236]
[237]
[238]
[239]
[240]
[241]
[242]
[243]
[244]
[245]
[246]
[247]
[248]
[249]
[250]
[251]
[252]
[253]
[254]
[255]
[256]
[257]
[258]
[259]
[260]
[261]
[262]
[263]
[264]
[265]
[266]
[267]
[268]
[269]
[270]
[271]
[272]
[273]
[274]
[275]
[276]
[277]
[278]
[279]
[280]
[281]
[282]
[283]
[284]
[285]
[286]
[287]
[288]
[289]
[290]
[291]
[292]
[293]
[294]
[295]
[296]
[297]
[298]
[299]
[300]
[301]
[302]
[303]
[304]
[305]
[306]
[307]
[308]
[309]
[310]
[311]
[312]
[313]
[314]
[315]
[316]
[317]
[318]
[319]
[320]
[321]
[322]
[323]
[324]
[325]
[326]
[327]
[328]
[329]
[330]
[331]
[332]
[333]
[334]
[335]
[336]
[337]
[338]
[339]
[340]
[341]
[342]
[343]
[344]
[345]
[346]
[347]
[348]
[349]
[350]
[351]
[352]
[353]
[354]
[355]
[356]
[357]
[358]
[359]
[360]
[361]
[362]
[363]
[364]
[365]
[366]
[367]
[368]
[369]
[370]
[371]
[372]
[373]
[374]
[375]
[376]
[377]
[378]
[379]
[380]
[381]
[382]
[383]
[384]
[385]
[386]
[387]
[388]
[389]
[390]
[391]
[392]
[393]
[394]
[395]
[396]
[397]
[398]
[399]
[400]
[401]
[402]
[403]
[404]
[405]
[406]
[407]
[408]
[409]
[410]
[411]
[412]
[413]
[414]
[415]
[416]
[417]
[418]
[419]
[420]
[421]
[422]
[423]
[424]
[425]
[426]
[427]
[428]
[429]
[430]
[431]
[432]
[433]
[434]
[435]
[436]
[437]
[438]
[439]
[440]
[441]
[442]
[443]
[444]
[445]
[446]
[447]
[448]
[449]
[450]
[451]
[452]
[453]
[454]
[455]
[456]
[457]
[458]
[459]
[460]
[461]
[462]
[463]
[464]
[465]
[466]
[467]
[468]
[469]
[470]
[471]
[472]
[473]
[474]
[475]
[476]
[477]
[478]
[479]
[480]
[481]
[482]
[483]
[484]
[485]
[486]
[487]
[488]
[489]
[490]
[491]
[492]
[493]
[494]
[495]
[496]
[497]
[498]
[499]
[500]
[501]
[502]
[503]
[504]
[505]
[506]
[507]
[508]
[509]
[510]
[511]
[512]
[513]
[514]
[515]
[516]
[517]
[518]
[519]
[520]
[521]
[522]
[523]
[524]
[525]
[526]
[527]
[528]
[529]
[530]
[531]
[532]
[533]
[534]
[535]
[536]
[537]
[538]
[539]
[540]
[541]
[542]
[543]
[544]
[545]
[546]
[547]
[548]
[549]
[550]
[551]
[552]
[553]
[554]
[555]
[556]
[557]
[558]
[559]
[560]
[561]
[562]
[563]
[564]
[565]
[566]
[567]
[568]
[569]
[570]
[571]
[572]
[573]
[574]
[575]
[576]
[577]
[578]
[579]
[580]
[581]
[582]
[583]
[584]
[585]
[586]
[587]
[588]
[589]
[590]
[591]
[592]
[593]
[594]
[595]
[596]
[597]
[598]
[599]
[600]
[601]
[602]
[603]
[604]
[605]
[606]
[607]
[608]
[609]
[610]
[611]
[612]
[613]
[614]
[615]
[616]
[617]
[618]
[619]
[620]
[621]
[622]
[623]
[624]
[625]
[626]
[627]
[628]
[629]
[630]
[631]
[632]
[633]
[634]
[635]
[636]
[637]
[638]
[639]
[640]
[641]
[642]
[643]
[644]
[645]
[646]
[647]
[648]
[649]
[650]
[651]
[652]
[653]
[654]
[655]
[656]
[657]
[658]
[659]
[660]
[661]
[662]
[663]
[664]
[665]
[666]
[667]
[668]
[669]
[670]
[671]
[672]
[673]
[674]
[675]
[676]
[677]
[678]
[679]
[680]
[681]
[682]
[683]
[684]
[685]
[686]
[687]
[688]
[689]
[690]
[691]
[692]
[693]
[694]
[695]
[696]
[697]
[698]
[699]
[700]
[701]
[702]
[703]
[704]
[705]
[706]
[707]
[708]
[709]
[710]
[711]
[712]
[713]
[714]
[715]
[716]
[717]
[718]
[719]
[720]
[721]
[722]
[723]
[724]
[725]
[726]
[727]
[728]
[729]
[730]
[731]
[732]
[733]
[734]
[735]
[736]
[737]
[738]
[739]
[740]
[741]
[742]
[743]
[744]
[745]
[746]
[747]
[748]
[749]
[750]
[751]
[752]
[753]
[754]
[755]
[756]
[757]
[758]
[759]
[760]
[761]
[762]
[763]
[764]
[765]
[766]
[767]
[768]
[769]
[770]
[771]
[772]
[773]
[774]
[775]
[776]
[777]
[778]
[779]
[780]
[781]
[782]
[783]
[784]
[785]
[786]
[787]
[788]
[789]
[790]
[791]
[792]
[793]
[794]
[795]
[796]
[797]
[798]
[799]
[800]
[801]
[802]
[803]
[804]
[805]
[806]
[807]
[808]
[809]
[810]
[811]
[812]
[813]
[814]
[815]
[816]
[817]
[818]
[819]
[820]
[821]
[822]
[823]
[824]
[825]
[826]
[827]
[828]
[829]
[830]
[831]
[832]
[833]
[834]
[835]
[836]
[837]
[838]
[839]
[840]
[841]
[842]
[843]
[844]
[845]
[846]
[847]
[848]
[849]
[850]
[851]
[852]
[853]
[854]
[855]
[856]
[857]
[858]
[859]
[860]
[861]
[862]
[863]
[864]
[865]
[866]
[867]
[868]
[869]
[870]
[871]
[872]
[873]
[874]
[875]
[876]
[877]
[878]
[879]
[880]
[881]
[882]
[883]
[884]
[885]
[886]
[887]
[888]
[889]
[890]
[891]
[892]
[893]
[894]
[895]
[896]
[897]
[898]
[899]
[900]
[901]
[902]
[903]
[904]
[905]
[906]
[907]
[908]
[909]
[910]
[911]
[912]
[913]
[914]
[915]
[916]
[917]
[918]
[919]
[920]
[921]
[922]
[923]
[924]
[925]
[926]
[927]
[928]
[929]
[930]
[931]
[932]
[933]
[934]
[935]
[936]
[937]
[938]
[939]
[940]
[941]
[942]
[943]
[944]
[945]
[946]
[947]
[948]
[949]
[950]
[951]
[952]
[953]
[954]
[955]
[956]
[957]
[958]
[959]
[960]
[961]
[962]
[963]
[964]
[965]
[966]
[967]
[968]
[969]
[970]
[971]
[972]
[973]
[974]
[975]
[976]
[977]
[978]
[979]
[980]
[981]
[982]
[983]
[984]
[985]
[986]
[987]
[988]
[989]
[990]
[991]
[992]
[993]
[994]
[995]
[996]
[997]
[998]
[999]

{"sheet":"ytterligere kriterier","index":7,"n_rows":1000,"n_cols":8,"rows_kept":1000,"cut":false,"hidden":false,"merged":[]}
["#","Ikke arkiv-faglige kriterier for prioritet","verdi",null,null,null,"Beregnet verdi","Justert verdi"]
[1,"Tiltak vil effektivisere tungvinte (manuelle) prosesser (mottak, lagring, arkivering)","Middels",{"$f":"VLOOKUP(#REF!,datakilder2!$G$14:$H$18,2,FALSE)","v":{"$error":"#REF!"}},{"$f":"VLOOKUP(#REF!,datakilder2!$G$14:$H$18,2,FALSE)","v":{"$error":"#REF!"}},{"$f":"VLOOKUP(C2,datakilder2!$G$14:$H$18,2,FALSE)","v":{"$error":"#N/A"}},{"$f":"IF(MAX(D2:F2)>0,MAX(D2:F2),\"\")","v":{"$error":"#REF!"}},{"$f":"IF(#REF!=datakilder2!$G$18,4,IF(#REF!=datakilder2!$G$17,3,IF(#REF!=datakilder2!$G$16,2,IF(#REF!=datakilder2!$G$15,1,1))))","v":{"$error":"#REF!"}}]
[2,"Tiltak vil forbedre brukeropplevelsen til sluttbruker (saksbehandlingsprosess)","Middels",{"$f":"VLOOKUP(#REF!,datakilder2!$G$14:$H$18,2,FALSE)","v":{"$error":"#REF!"}},{"$f":"VLOOKUP(#REF!,datakilder2!$G$14:$H$18,2,FALSE)","v":{"$error":"#REF!"}},{"$f":"VLOOKUP(C3,datakilder2!$G$14:$H$18,2,FALSE)","v":{"$error":"#N/A"}},{"$f":"IF(MAX(D3:F3)>0,MAX(D3:F3),\"\")","v":{"$error":"#REF!"}},{"$f":"IF(#REF!=datakilder2!$G$18,4,IF(#REF!=datakilder2!$G$17,3,IF(#REF!=datakilder2!$G$16,2,IF(#REF!=datakilder2!$G$15,1,1))))","v":{"$error":"#REF!"}}]
[3,"Tiltak øker standardisering og automatisering (kvaliteten på metadata)","Middels",{"$f":"VLOOKUP(#REF!,datakilder2!$G$14:$H$18,2,FALSE)","v":{"$error":"#REF!"}},{"$f":"VLOOKUP(#REF!,datakilder2!$G$14:$H$18,2,FALSE)","v":{"$error":"#REF!"}},{"$f":"VLOOKUP(C4,datakilder2!$G$14:$H$18,2,FALSE)","v":{"$error":"#N/A"}},{"$error":"#REF!"},{"$f":"IF(#REF!=datakilder2!$G$18,4,IF(#REF!=datakilder2!$G$17,3,IF(#REF!=datakilder2!$G$16,2,IF(#REF!=datakilder2!$G$15,1,1))))","v":{"$error":"#REF!"}}]
[4,"Liten investering retter stor feil «lavt-hengende frukter» (funksjonalitet finnes enkelt i markedet)",null,{"$f":"VLOOKUP(#REF!,datakilder2!$G$14:$H$18,2,FALSE)","v":{"$error":"#REF!"}},{"$f":"VLOOKUP(#REF!,datakilder2!$G$14:$H$18,2,FALSE)","v":{"$error":"#REF!"}},{"$f":"VLOOKUP(C5,datakilder2!$G$14:$H$18,2,FALSE)","v":{"$error":"#N/A"}},{"$error":"#REF!"},{"$f":"IF(#REF!=datakilder2!$G$18,4,IF(#REF!=datakilder2!$G$17,3,IF(#REF!=datakilder2!$G$16,2,IF(#REF!=datakilder2!$G$15,1,1))))","v":{"$error":"#REF!"}}]
[5,"Systemet er på vei til å byttes ut - Antatt levetid for systemet","Middels",{"$f":"VLOOKUP(#REF!,datakilder2!$G$14:$H$18,2,FALSE)","v":{"$error":"#REF!"}},{"$f":"VLOOKUP(#REF!,datakilder2!$G$14:$H$18,2,FALSE)","v":{"$error":"#REF!"}},{"$f":"VLOOKUP(C6,datakilder2!$G$14:$H$18,2,FALSE)","v":{"$error":"#N/A"}},{"$error":"#REF!"},{"$f":"IF(#REF!=datakilder2!$G$18,4,IF(#REF!=datakilder2!$G$17,3,IF(#REF!=datakilder2!$G$16,2,IF(#REF!=datakilder2!$G$15,1,1))))","v":{"$error":"#REF!"}}]
[6,"Det er pågående prosjekt for systemet",null,{"$f":"VLOOKUP(#REF!,datakilder2!$G$14:$H$18,2,FALSE)","v":{"$error":"#REF!"}},{"$f":"VLOOKUP(#REF!,datakilder2!$G$14:$H$18,2,FALSE)","v":{"$error":"#REF!"}},{"$f":"VLOOKUP(C7,datakilder2!$G$14:$H$18,2,FALSE)","v":{"$error":"#N/A"}},{"$error":"#REF!"},{"$f":"IF(#REF!=datakilder2!$G$18,4,IF(#REF!=datakilder2!$G$17,3,IF(#REF!=datakilder2!$G$16,2,IF(#REF!=datakilder2!$G$15,1,1))))","v":{"$error":"#REF!"}}]
[7,"Revisjon/tilsyn har avdekket avvik og gitt påbud om retting","Stort",{"$f":"VLOOKUP(#REF!,datakilder2!$G$14:$H$18,2,FALSE)","v":{"$error":"#REF!"}},{"$f":"VLOOKUP(#REF!,datakilder2!$G$14:$H$18,2,FALSE)","v":{"$error":"#REF!"}},{"$f":"VLOOKUP(C8,datakilder2!$G$14:$H$18,2,FALSE)","v":{"$error":"#N/A"}},{"$error":"#REF!"},{"$f":"IF(#REF!=datakilder2!$G$18,4,IF(#REF!=datakilder2!$G$17,3,IF(#REF!=datakilder2!$G$16,2,IF(#REF!=datakilder2!$G$15,1,1))))","v":{"$error":"#REF!"}}]
[8,"Systemet inneholder sensitive personopplysninger som i dag må mellomlagres","Stort",{"$f":"VLOOKUP(#REF!,datakilder2!$G$14:$H$18,2,FALSE)","v":{"$error":"#REF!"}},{"$f":"VLOOKUP(#REF!,datakilder2!$G$14:$H$18,2,FALSE)","v":{"$error":"#REF!"}},{"$f":"VLOOKUP(C9,datakilder2!$G$14:$H$18,2,FALSE)","v":{"$error":"#N/A"}},{"$error":"#REF!"},{"$f":"IF(#REF!=datakilder2!$G$18,4,IF(#REF!=datakilder2!$G$17,3,IF(#REF!=datakilder2!$G$16,2,IF(#REF!=datakilder2!$G$15,1,1))))","v":{"$error":"#REF!"}}]
[9,"Berøres sårbare mennesker","Stort",{"$f":"VLOOKUP(#REF!,datakilder2!$G$14:$H$18,2,FALSE)","v":{"$error":"#REF!"}},{"$f":"VLOOKUP(#REF!,datakilder2!$G$14:$H$18,2,FALSE)","v":{"$error":"#REF!"}},{"$f":"VLOOKUP(C10,datakilder2!$G$14:$H$18,2,FALSE)","v":{"$error":"#N/A"}},{"$error":"#REF!"},{"$f":"IF(#REF!=datakilder2!$G$18,4,IF(#REF!=datakilder2!$G$17,3,IF(#REF!=datakilder2!$G$16,2,IF(#REF!=datakilder2!$G$15,1,1))))","v":{"$error":"#REF!"}}]
[10,"Høyt antall innbyggere som berøres i systemet","Middels",{"$f":"VLOOKUP(#REF!,datakilder2!$G$14:$H$18,2,FALSE)","v":{"$error":"#REF!"}},{"$f":"VLOOKUP(#REF!,datakilder2!$G$14:$H$18,2,FALSE)","v":{"$error":"#REF!"}},{"$f":"VLOOKUP(C11,datakilder2!$G$14:$H$18,2,FALSE)","v":{"$error":"#N/A"}},{"$error":"#REF!"},{"$f":"IF(#REF!=datakilder2!$G$18,4,IF(#REF!=datakilder2!$G$17,3,IF(#REF!=datakilder2!$G$16,2,IF(#REF!=datakilder2!$G$15,1,1))))","v":{"$error":"#REF!"}}]
[11,"Høyt antall potensielt tapte dokumenter i systemet (hele prosesser eller fagområder)","Stort",{"$f":"VLOOKUP(#REF!,datakilder2!$G$14:$H$18,2,FALSE)","v":{"$error":"#REF!"}},{"$f":"VLOOKUP(#REF!,datakilder2!$G$14:$H$18,2,FALSE)","v":{"$error":"#REF!"}},{"$f":"VLOOKUP(C12,datakilder2!$G$14:$H$18,2,FALSE)","v":{"$error":"#N/A"}},{"$error":"#REF!"},{"$f":"IF(#REF!=datakilder2!$G$18,4,IF(#REF!=datakilder2!$G$17,3,IF(#REF!=datakilder2!$G$16,2,IF(#REF!=datakilder2!$G$15,1,1))))","v":{"$error":"#REF!"}}]
[12,"Systemet benyttes av mange ansatte i Oslo kommune","Middels",{"$f":"VLOOKUP(#REF!,datakilder2!$G$14:$H$18,2,FALSE)","v":{"$error":"#REF!"}},{"$f":"VLOOKUP(#REF!,datakilder2!$G$14:$H$18,2,FALSE)","v":{"$error":"#REF!"}},{"$f":"VLOOKUP(C13,datakilder2!$G$14:$H$18,2,FALSE)","v":{"$error":"#N/A"}},{"$error":"#REF!"},{"$f":"IF(#REF!=datakilder2!$G$18,4,IF(#REF!=datakilder2!$G$17,3,IF(#REF!=datakilder2!$G$16,2,IF(#REF!=datakilder2!$G$15,1,1))))","v":{"$error":"#REF!"}}]
[13,null,null,{"$f":"VLOOKUP(#REF!,datakilder2!$G$14:$H$18,2,FALSE)","v":{"$error":"#REF!"}},{"$f":"VLOOKUP(#REF!,datakilder2!$G$14:$H$18,2,FALSE)","v":{"$error":"#REF!"}},{"$f":"VLOOKUP(C14,datakilder2!$G$14:$H$18,2,FALSE)","v":{"$error":"#N/A"}},{"$error":"#REF!"},{"$f":"IF(#REF!=datakilder2!$G$18,4,IF(#REF!=datakilder2!$G$17,3,IF(#REF!=datakilder2!$G$16,2,IF(#REF!=datakilder2!$G$15,1,1))))","v":{"$error":"#REF!"}}]
[14,null,null,{"$f":"VLOOKUP(#REF!,datakilder2!$G$14:$H$18,2,FALSE)","v":{"$error":"#REF!"}},{"$f":"VLOOKUP(#REF!,datakilder2!$G$14:$H$18,2,FALSE)","v":{"$error":"#REF!"}},{"$f":"VLOOKUP(C15,datakilder2!$G$14:$H$18,2,FALSE)","v":{"$error":"#N/A"}},{"$error":"#REF!"},{"$f":"IF(#REF!=datakilder2!$G$18,4,IF(#REF!=datakilder2!$G$17,3,IF(#REF!=datakilder2!$G$16,2,IF(#REF!=datakilder2!$G$15,1,1))))","v":{"$error":"#REF!"}}]
[15,null,null,{"$f":"VLOOKUP(#REF!,datakilder2!$G$14:$H$18,2,FALSE)","v":{"$error":"#REF!"}},{"$f":"VLOOKUP(#REF!,datakilder2!$G$14:$H$18,2,FALSE)","v":{"$error":"#REF!"}},{"$f":"VLOOKUP(C16,datakilder2!$G$14:$H$18,2,FALSE)","v":{"$error":"#N/A"}},{"$error":"#REF!"},{"$f":"IF(#REF!=datakilder2!$G$18,4,IF(#REF!=datakilder2!$G$17,3,IF(#REF!=datakilder2!$G$16,2,IF(#REF!=datakilder2!$G$15,1,1))))","v":{"$error":"#REF!"}}]
[16,null,null,{"$f":"VLOOKUP(#REF!,datakilder2!$G$14:$H$18,2,FALSE)","v":{"$error":"#REF!"}},{"$f":"VLOOKUP(#REF!,datakilder2!$G$14:$H$18,2,FALSE)","v":{"$error":"#REF!"}},{"$f":"VLOOKUP(C17,datakilder2!$G$14:$H$18,2,FALSE)","v":{"$error":"#N/A"}},{"$error":"#REF!"},{"$f":"IF(#REF!=datakilder2!$G$18,4,IF(#REF!=datakilder2!$G$17,3,IF(#REF!=datakilder2!$G$16,2,IF(#REF!=datakilder2!$G$15,1,1))))","v":{"$error":"#REF!"}}]
[17,null,null,{"$f":"VLOOKUP(#REF!,datakilder2!$G$14:$H$18,2,FALSE)","v":{"$error":"#REF!"}},{"$f":"VLOOKUP(#REF!,datakilder2!$G$14:$H$18,2,FALSE)","v":{"$error":"#REF!"}},{"$f":"VLOOKUP(C18,datakilder2!$G$14:$H$18,2,FALSE)","v":{"$error":"#N/A"}},{"$error":"#REF!"},{"$f":"IF(#REF!=datakilder2!$G$18,4,IF(#REF!=datakilder2!$G$17,3,IF(#REF!=datakilder2!$G$16,2,IF(#REF!=datakilder2!$G$15,1,1))))","v":{"$error":"#REF!"}}]
[18,null,null,{"$f":"VLOOKUP(#REF!,datakilder2!$G$14:$H$18,2,FALSE)","v":{"$error":"#REF!"}},{"$f":"VLOOKUP(#REF!,datakilder2!$G$14:$H$18,2,FALSE)","v":{"$error":"#REF!"}},{"$f":"VLOOKUP(C19,datakilder2!$G$14:$H$18,2,FALSE)","v":{"$error":"#N/A"}},{"$error":"#REF!"},{"$f":"IF(#REF!=datakilder2!$G$18,4,IF(#REF!=datakilder2!$G$17,3,IF(#REF!=datakilder2!$G$16,2,IF(#REF!=datakilder2!$G$15,1,1))))","v":{"$error":"#REF!"}}]
[19,null,null,{"$f":"VLOOKUP(#REF!,datakilder2!$G$14:$H$18,2,FALSE)","v":{"$error":"#REF!"}},{"$f":"VLOOKUP(#REF!,datakilder2!$G$14:$H$18,2,FALSE)","v":{"$error":"#REF!"}},{"$f":"VLOOKUP(C20,datakilder2!$G$14:$H$18,2,FALSE)","v":{"$error":"#N/A"}},{"$error":"#REF!"},{"$f":"IF(#REF!=datakilder2!$G$18,4,IF(#REF!=datakilder2!$G$17,3,IF(#REF!=datakilder2!$G$16,2,IF(#REF!=datakilder2!$G$15,1,1))))","v":{"$error":"#REF!"}}]
[20,null,null,{"$f":"VLOOKUP(#REF!,datakilder2!$G$14:$H$18,2,FALSE)","v":{"$error":"#REF!"}},{"$f":"VLOOKUP(#REF!,datakilder2!$G$14:$H$18,2,FALSE)","v":{"$error":"#REF!"}},{"$f":"VLOOKUP(C21,datakilder2!$G$14:$H$18,2,FALSE)","v":{"$error":"#N/A"}},{"$error":"#REF!"},{"$f":"IF(#REF!=datakilder2!$G$18,4,IF(#REF!=datakilder2!$G$17,3,IF(#REF!=datakilder2!$G$16,2,IF(#REF!=datakilder2!$G$15,1,1))))","v":{"$error":"#REF!"}}]
[21,null,null,{"$f":"VLOOKUP(#REF!,datakilder2!$G$14:$H$18,2,FALSE)","v":{"$error":"#REF!"}},{"$f":"VLOOKUP(#REF!,datakilder2!$G$14:$H$18,2,FALSE)","v":{"$error":"#REF!"}},{"$f":"VLOOKUP(C22,datakilder2!$G$14:$H$18,2,FALSE)","v":{"$error":"#N/A"}},{"$error":"#REF!"},{"$f":"IF(#REF!=datakilder2!$G$18,4,IF(#REF!=datakilder2!$G$17,3,IF(#REF!=datakilder2!$G$16,2,IF(#REF!=datakilder2!$G$15,1,1))))","v":{"$error":"#REF!"}}]
[22,null,null,{"$f":"VLOOKUP(#REF!,datakilder2!$G$14:$H$18,2,FALSE)","v":{"$error":"#REF!"}},{"$f":"VLOOKUP(#REF!,datakilder2!$G$14:$H$18,2,FALSE)","v":{"$error":"#REF!"}},{"$f":"VLOOKUP(C23,datakilder2!$G$14:$H$18,2,FALSE)","v":{"$error":"#N/A"}},{"$error":"#REF!"},{"$f":"IF(#REF!=datakilder2!$G$18,4,IF(#REF!=datakilder2!$G$17,3,IF(#REF!=datakilder2!$G$16,2,IF(#REF!=datakilder2!$G$15,1,1))))","v":{"$error":"#REF!"}}]
[23,null,null,{"$f":"VLOOKUP(#REF!,datakilder2!$G$14:$H$18,2,FALSE)","v":{"$error":"#REF!"}},{"$f":"VLOOKUP(#REF!,datakilder2!$G$14:$H$18,2,FALSE)","v":{"$error":"#REF!"}},{"$f":"VLOOKUP(C24,datakilder2!$G$14:$H$18,2,FALSE)","v":{"$error":"#N/A"}},{"$error":"#REF!"},{"$f":"IF(#REF!=datakilder2!$G$18,4,IF(#REF!=datakilder2!$G$17,3,IF(#REF!=datakilder2!$G$16,2,IF(#REF!=datakilder2!$G$15,1,1))))","v":{"$error":"#REF!"}}]
[24,null,null,{"$f":"VLOOKUP(#REF!,datakilder2!$G$14:$H$18,2,FALSE)","v":{"$error":"#REF!"}},{"$f":"VLOOKUP(#REF!,datakilder2!$G$14:$H$18,2,FALSE)","v":{"$error":"#REF!"}},{"$f":"VLOOKUP(C25,datakilder2!$G$14:$H$18,2,FALSE)","v":{"$error":"#N/A"}},{"$error":"#REF!"},{"$f":"IF(#REF!=datakilder2!$G$18,4,IF(#REF!=datakilder2!$G$17,3,IF(#REF!=datakilder2!$G$16,2,IF(#REF!=datakilder2!$G$15,1,1))))","v":{"$error":"#REF!"}}]
[25,null,null,{"$f":"VLOOKUP(#REF!,datakilder2!$G$14:$H$18,2,FALSE)","v":{"$error":"#REF!"}},{"$f":"VLOOKUP(#REF!,datakilder2!$G$14:$H$18,2,FALSE)","v":{"$error":"#REF!"}},{"$f":"VLOOKUP(C26,datakilder2!$G$14:$H$18,2,FALSE)","v":{"$error":"#N/A"}},{"$error":"#REF!"},{"$f":"IF(#REF!=datakilder2!$G$18,4,IF(#REF!=datakilder2!$G$17,3,IF(#REF!=datakilder2!$G$16,2,IF(#REF!=datakilder2!$G$15,1,1))))","v":{"$error":"#REF!"}}]
[26,null,null,{"$f":"VLOOKUP(#REF!,datakilder2!$G$14:$H$18,2,FALSE)","v":{"$error":"#REF!"}},{"$f":"VLOOKUP(#REF!,datakilder2!$G$14:$H$18,2,FALSE)","v":{"$error":"#REF!"}},{"$f":"VLOOKUP(C27,datakilder2!$G$14:$H$18,2,FALSE)","v":{"$error":"#N/A"}},{"$error":"#REF!"},{"$f":"IF(#REF!=datakilder2!$G$18,4,IF(#REF!=datakilder2!$G$17,3,IF(#REF!=datakilder2!$G$16,2,IF(#REF!=datakilder2!$G$15,1,1))))","v":{"$error":"#REF!"}}]
[27,null,null,{"$f":"VLOOKUP(#REF!,datakilder2!$G$14:$H$18,2,FALSE)","v":{"$error":"#REF!"}},{"$f":"VLOOKUP(#REF!,datakilder2!$G$14:$H$18,2,FALSE)","v":{"$error":"#REF!"}},{"$f":"VLOOKUP(C28,datakilder2!$G$14:$H$18,2,FALSE)","v":{"$error":"#N/A"}},{"$error":"#REF!"},{"$f":"IF(#REF!=datakilder2!$G$18,4,IF(#REF!=datakilder2!$G$17,3,IF(#REF!=datakilder2!$G$16,2,IF(#REF!=datakilder2!$G$15,1,1))))","v":{"$error":"#REF!"}}]
[28,null,null,{"$f":"VLOOKUP(#REF!,datakilder2!$G$14:$H$18,2,FALSE)","v":{"$error":"#REF!"}},{"$f":"VLOOKUP(#REF!,datakilder2!$G$14:$H$18,2,FALSE)","v":{"$error":"#REF!"}},{"$f":"VLOOKUP(C29,datakilder2!$G$14:$H$18,2,FALSE)","v":{"$error":"#N/A"}},{"$error":"#REF!"},{"$f":"IF(#REF!=datakilder2!$G$18,4,IF(#REF!=datakilder2!$G$17,3,IF(#REF!=datakilder2!$G$16,2,IF(#REF!=datakilder2!$G$15,1,1))))","v":{"$error":"#REF!"}}]
[29,null,null,{"$f":"VLOOKUP(#REF!,datakilder2!$G$14:$H$18,2,FALSE)","v":{"$error":"#REF!"}},{"$f":"VLOOKUP(#REF!,datakilder2!$G$14:$H$18,2,FALSE)","v":{"$error":"#REF!"}},{"$f":"VLOOKUP(C30,datakilder2!$G$14:$H$18,2,FALSE)","v":{"$error":"#N/A"}},{"$error":"#REF!"},{"$f":"IF(#REF!=datakilder2!$G$18,4,IF(#REF!=datakilder2!$G$17,3,IF(#REF!=datakilder2!$G$16,2,IF(#REF!=datakilder2!$G$15,1,1))))","v":{"$error":"#REF!"}}]
[30,null,null,{"$f":"VLOOKUP(#REF!,datakilder2!$G$14:$H$18,2,FALSE)","v":{"$error":"#REF!"}},{"$f":"VLOOKUP(#REF!,datakilder2!$G$14:$H$18,2,FALSE)","v":{"$error":"#REF!"}},{"$f":"VLOOKUP(C31,datakilder2!$G$14:$H$18,2,FALSE)","v":{"$error":"#N/A"}},{"$error":"#REF!"},{"$f":"IF(#REF!=datakilder2!$G$18,4,IF(#REF!=datakilder2!$G$17,3,IF(#REF!=datakilder2!$G$16,2,IF(#REF!=datakilder2!$G$15,1,1))))","v":{"$error":"#REF!"}}]
[31,null,null,{"$f":"VLOOKUP(#REF!,datakilder2!$G$14:$H$18,2,FALSE)","v":{"$error":"#REF!"}},{"$f":"VLOOKUP(#REF!,datakilder2!$G$14:$H$18,2,FALSE)","v":{"$error":"#REF!"}},{"$f":"VLOOKUP(C32,datakilder2!$G$14:$H$18,2,FALSE)","v":{"$error":"#N/A"}},{"$error":"#REF!"},{"$f":"IF(#REF!=datakilder2!$G$18,4,IF(#REF!=datakilder2!$G$17,3,IF(#REF!=datakilder2!$G$16,2,IF(#REF!=datakilder2!$G$15,1,1))))","v":{"$error":"#REF!"}}]
[32,null,null,{"$f":"VLOOKUP(#REF!,datakilder2!$G$14:$H$18,2,FALSE)","v":{"$error":"#REF!"}},{"$f":"VLOOKUP(#REF!,datakilder2!$G$14:$H$18,2,FALSE)","v":{"$error":"#REF!"}},{"$f":"VLOOKUP(C33,datakilder2!$G$14:$H$18,2,FALSE)","v":{"$error":"#N/A"}},{"$error":"#REF!"},{"$f":"IF(#REF!=datakilder2!$G$18,4,IF(#REF!=datakilder2!$G$17,3,IF(#REF!=datakilder2!$G$16,2,IF(#REF!=datakilder2!$G$15,1,1))))","v":{"$error":"#REF!"}}]
[33,null,null,{"$f":"VLOOKUP(#REF!,datakilder2!$G$14:$H$18,2,FALSE)","v":{"$error":"#REF!"}},{"$f":"VLOOKUP(#REF!,datakilder2!$G$14:$H$18,2,FALSE)","v":{"$error":"#REF!"}},{"$f":"VLOOKUP(C34,datakilder2!$G$14:$H$18,2,FALSE)","v":{"$error":"#N/A"}},{"$error":"#REF!"},{"$f":"IF(#REF!=datakilder2!$G$18,4,IF(#REF!=datakilder2!$G$17,3,IF(#REF!=datakilder2!$G$16,2,IF(#REF!=datakilder2!$G$15,1,1))))","v":{"$error":"#REF!"}}]
[34,null,null,{"$f":"VLOOKUP(#REF!,datakilder2!$G$14:$H$18,2,FALSE)","v":{"$error":"#REF!"}},{"$f":"VLOOKUP(#REF!,datakilder2!$G$14:$H$18,2,FALSE)","v":{"$error":"#REF!"}},{"$f":"VLOOKUP(C35,datakilder2!$G$14:$H$18,2,FALSE)","v":{"$error":"#N/A"}},{"$error":"#REF!"},{"$f":"IF(#REF!=datakilder2!$G$18,4,IF(#REF!=datakilder2!$G$17,3,IF(#REF!=datakilder2!$G$16,2,IF(#REF!=datakilder2!$G$15,1,1))))","v":{"$error":"#REF!"}}]
[35,null,null,{"$f":"VLOOKUP(#REF!,datakilder2!$G$14:$H$18,2,FALSE)","v":{"$error":"#REF!"}},{"$f":"VLOOKUP(#REF!,datakilder2!$G$14:$H$18,2,FALSE)","v":{"$error":"#REF!"}},{"$f":"VLOOKUP(C36,datakilder2!$G$14:$H$18,2,FALSE)","v":{"$error":"#N/A"}},{"$error":"#REF!"},{"$f":"IF(#REF!=datakilder2!$G$18,4,IF(#REF!=datakilder2!$G$17,3,IF(#REF!=datakilder2!$G$16,2,IF(#REF!=datakilder2!$G$15,1,1))))","v":{"$error":"#REF!"}}]
[36,null,null,{"$f":"VLOOKUP(#REF!,datakilder2!$G$14:$H$18,2,FALSE)","v":{"$error":"#REF!"}},{"$f":"VLOOKUP(#REF!,datakilder2!$G$14:$H$18,2,FALSE)","v":{"$error":"#REF!"}},{"$f":"VLOOKUP(C37,datakilder2!$G$14:$H$18,2,FALSE)","v":{"$error":"#N/A"}},{"$error":"#REF!"},{"$f":"IF(#REF!=datakilder2!$G$18,4,IF(#REF!=datakilder2!$G$17,3,IF(#REF!=datakilder2!$G$16,2,IF(#REF!=datakilder2!$G$15,1,1))))","v":{"$error":"#REF!"}}]
[37,null,null,{"$f":"VLOOKUP(#REF!,datakilder2!$G$14:$H$18,2,FALSE)","v":{"$error":"#REF!"}},{"$f":"VLOOKUP(#REF!,datakilder2!$G$14:$H$18,2,FALSE)","v":{"$error":"#REF!"}},{"$f":"VLOOKUP(C38,datakilder2!$G$14:$H$18,2,FALSE)","v":{"$error":"#N/A"}},{"$error":"#REF!"},{"$f":"IF(#REF!=datakilder2!$G$18,4,IF(#REF!=datakilder2!$G$17,3,IF(#REF!=datakilder2!$G$16,2,IF(#REF!=datakilder2!$G$15,1,1))))","v":{"$error":"#REF!"}}]
[38,null,null,{"$f":"VLOOKUP(#REF!,datakilder2!$G$14:$H$18,2,FALSE)","v":{"$error":"#REF!"}},{"$f":"VLOOKUP(#REF!,datakilder2!$G$14:$H$18,2,FALSE)","v":{"$error":"#REF!"}},{"$f":"VLOOKUP(C39,datakilder2!$G$14:$H$18,2,FALSE)","v":{"$error":"#N/A"}},{"$error":"#REF!"},{"$f":"IF(#REF!=datakilder2!$G$18,4,IF(#REF!=datakilder2!$G$17,3,IF(#REF!=datakilder2!$G$16,2,IF(#REF!=datakilder2!$G$15,1,1))))","v":{"$error":"#REF!"}}]
[39,null,null,{"$f":"VLOOKUP(#REF!,datakilder2!$G$14:$H$18,2,FALSE)","v":{"$error":"#REF!"}},{"$f":"VLOOKUP(#REF!,datakilder2!$G$14:$H$18,2,FALSE)","v":{"$error":"#REF!"}},{"$f":"VLOOKUP(C40,datakilder2!$G$14:$H$18,2,FALSE)","v":{"$error":"#N/A"}},{"$error":"#REF!"},{"$f":"IF(#REF!=datakilder2!$G$18,4,IF(#REF!=datakilder2!$G$17,3,IF(#REF!=datakilder2!$G$16,2,IF(#REF!=datakilder2!$G$15,1,1))))","v":{"$error":"#REF!"}}]
[40,null,null,{"$f":"VLOOKUP(#REF!,datakilder2!$G$14:$H$18,2,FALSE)","v":{"$error":"#REF!"}},{"$f":"VLOOKUP(#REF!,datakilder2!$G$14:$H$18,2,FALSE)","v":{"$error":"#REF!"}},{"$f":"VLOOKUP(C41,datakilder2!$G$14:$H$18,2,FALSE)","v":{"$error":"#N/A"}},{"$error":"#REF!"},{"$f":"IF(#REF!=datakilder2!$G$18,4,IF(#REF!=datakilder2!$G$17,3,IF(#REF!=datakilder2!$G$16,2,IF(#REF!=datakilder2!$G$15,1,1))))","v":{"$error":"#REF!"}}]
[41,null,null,{"$f":"VLOOKUP(#REF!,datakilder2!$G$14:$H$18,2,FALSE)","v":{"$error":"#REF!"}},{"$f":"VLOOKUP(#REF!,datakilder2!$G$14:$H$18,2,FALSE)","v":{"$error":"#REF!"}},{"$f":"VLOOKUP(C42,datakilder2!$G$14:$H$18,2,FALSE)","v":{"$error":"#N/A"}},{"$error":"#REF!"},{"$f":"IF(#REF!=datakilder2!$G$18,4,IF(#REF!=datakilder2!$G$17,3,IF(#REF!=datakilder2!$G$16,2,IF(#REF!=datakilder2!$G$15,1,1))))","v":{"$error":"#REF!"}}]
[42,null,null,{"$f":"VLOOKUP(#REF!,datakilder2!$G$14:$H$18,2,FALSE)","v":{"$error":"#REF!"}},{"$f":"VLOOKUP(#REF!,datakilder2!$G$14:$H$18,2,FALSE)","v":{"$error":"#REF!"}},{"$f":"VLOOKUP(C43,datakilder2!$G$14:$H$18,2,FALSE)","v":{"$error":"#N/A"}},{"$error":"#REF!"},{"$f":"IF(#REF!=datakilder2!$G$18,4,IF(#REF!=datakilder2!$G$17,3,IF(#REF!=datakilder2!$G$16,2,IF(#REF!=datakilder2!$G$15,1,1))))","v":{"$error":"#REF!"}}]
[43,null,null,{"$f":"VLOOKUP(#REF!,datakilder2!$G$14:$H$18,2,FALSE)","v":{"$error":"#REF!"}},{"$f":"VLOOKUP(#REF!,datakilder2!$G$14:$H$18,2,FALSE)","v":{"$error":"#REF!"}},{"$f":"VLOOKUP(C44,datakilder2!$G$14:$H$18,2,FALSE)","v":{"$error":"#N/A"}},{"$error":"#REF!"},{"$f":"IF(#REF!=datakilder2!$G$18,4,IF(#REF!=datakilder2!$G$17,3,IF(#REF!=datakilder2!$G$16,2,IF(#REF!=datakilder2!$G$15,1,1))))","v":{"$error":"#REF!"}}]
[44,null,null,{"$f":"VLOOKUP(#REF!,datakilder2!$G$14:$H$18,2,FALSE)","v":{"$error":"#REF!"}},{"$f":"VLOOKUP(#REF!,datakilder2!$G$14:$H$18,2,FALSE)","v":{"$error":"#REF!"}},{"$f":"VLOOKUP(C45,datakilder2!$G$14:$H$18,2,FALSE)","v":{"$error":"#N/A"}},{"$error":"#REF!"},{"$f":"IF(#REF!=datakilder2!$G$18,4,IF(#REF!=datakilder2!$G$17,3,IF(#REF!=datakilder2!$G$16,2,IF(#REF!=datakilder2!$G$15,1,1))))","v":{"$error":"#REF!"}}]
[45,null,null,{"$f":"VLOOKUP(#REF!,datakilder2!$G$14:$H$18,2,FALSE)","v":{"$error":"#REF!"}},{"$f":"VLOOKUP(#REF!,datakilder2!$G$14:$H$18,2,FALSE)","v":{"$error":"#REF!"}},{"$f":"VLOOKUP(C46,datakilder2!$G$14:$H$18,2,FALSE)","v":{"$error":"#N/A"}},{"$error":"#REF!"},{"$f":"IF(#REF!=datakilder2!$G$18,4,IF(#REF!=datakilder2!$G$17,3,IF(#REF!=datakilder2!$G$16,2,IF(#REF!=datakilder2!$G$15,1,1))))","v":{"$error":"#REF!"}}]
[46,null,null,{"$f":"VLOOKUP(#REF!,datakilder2!$G$14:$H$18,2,FALSE)","v":{"$error":"#REF!"}},{"$f":"VLOOKUP(#REF!,datakilder2!$G$14:$H$18,2,FALSE)","v":{"$error":"#REF!"}},{"$f":"VLOOKUP(C47,datakilder2!$G$14:$H$18,2,FALSE)","v":{"$error":"#N/A"}},{"$error":"#REF!"},{"$f":"IF(#REF!=datakilder2!$G$18,4,IF(#REF!=datakilder2!$G$17,3,IF(#REF!=datakilder2!$G$16,2,IF(#REF!=datakilder2!$G$15,1,1))))","v":{"$error":"#REF!"}}]
[47,null,null,{"$f":"VLOOKUP(#REF!,datakilder2!$G$14:$H$18,2,FALSE)","v":{"$error":"#REF!"}},{"$f":"VLOOKUP(#REF!,datakilder2!$G$14:$H$18,2,FALSE)","v":{"$error":"#REF!"}},{"$f":"VLOOKUP(C48,datakilder2!$G$14:$H$18,2,FALSE)","v":{"$error":"#N/A"}},{"$error":"#REF!"},{"$f":"IF(#REF!=datakilder2!$G$18,4,IF(#REF!=datakilder2!$G$17,3,IF(#REF!=datakilder2!$G$16,2,IF(#REF!=datakilder2!$G$15,1,1))))","v":{"$error":"#REF!"}}]
[48,null,null,{"$f":"VLOOKUP(#REF!,datakilder2!$G$14:$H$18,2,FALSE)","v":{"$error":"#REF!"}},{"$f":"VLOOKUP(#REF!,datakilder2!$G$14:$H$18,2,FALSE)","v":{"$error":"#REF!"}},{"$f":"VLOOKUP(C49,datakilder2!$G$14:$H$18,2,FALSE)","v":{"$error":"#N/A"}},{"$error":"#REF!"},{"$f":"IF(#REF!=datakilder2!$G$18,4,IF(#REF!=datakilder2!$G$17,3,IF(#REF!=datakilder2!$G$16,2,IF(#REF!=datakilder2!$G$15,1,1))))","v":{"$error":"#REF!"}}]
[49,null,null,{"$f":"VLOOKUP(#REF!,datakilder2!$G$14:$H$18,2,FALSE)","v":{"$error":"#REF!"}},{"$f":"VLOOKUP(#REF!,datakilder2!$G$14:$H$18,2,FALSE)","v":{"$error":"#REF!"}},{"$f":"VLOOKUP(C50,datakilder2!$G$14:$H$18,2,FALSE)","v":{"$error":"#N/A"}},{"$error":"#REF!"},{"$f":"IF(#REF!=datakilder2!$G$18,4,IF(#REF!=datakilder2!$G$17,3,IF(#REF!=datakilder2!$G$16,2,IF(#REF!=datakilder2!$G$15,1,1))))","v":{"$error":"#REF!"}}]
[50,null,null,{"$f":"VLOOKUP(#REF!,datakilder2!$G$14:$H$18,2,FALSE)","v":{"$error":"#REF!"}},{"$f":"VLOOKUP(#REF!,datakilder2!$G$14:$H$18,2,FALSE)","v":{"$error":"#REF!"}},{"$f":"VLOOKUP(C51,datakilder2!$G$14:$H$18,2,FALSE)","v":{"$error":"#N/A"}},{"$error":"#REF!"},{"$f":"IF(#REF!=datakilder2!$G$18,4,IF(#REF!=datakilder2!$G$17,3,IF(#REF!=datakilder2!$G$16,2,IF(#REF!=datakilder2!$G$15,1,1))))","v":{"$error":"#REF!"}}]
[51,null,null,{"$f":"VLOOKUP(#REF!,datakilder2!$G$14:$H$18,2,FALSE)","v":{"$error":"#REF!"}},{"$f":"VLOOKUP(#REF!,datakilder2!$G$14:$H$18,2,FALSE)","v":{"$error":"#REF!"}},{"$f":"VLOOKUP(C52,datakilder2!$G$14:$H$18,2,FALSE)","v":{"$error":"#N/A"}},{"$error":"#REF!"},{"$f":"IF(#REF!=datakilder2!$G$18,4,IF(#REF!=datakilder2!$G$17,3,IF(#REF!=datakilder2!$G$16,2,IF(#REF!=datakilder2!$G$15,1,1))))","v":{"$error":"#REF!"}}]
[52,null,null,{"$f":"VLOOKUP(#REF!,datakilder2!$G$14:$H$18,2,FALSE)","v":{"$error":"#REF!"}},{"$f":"VLOOKUP(#REF!,datakilder2!$G$14:$H$18,2,FALSE)","v":{"$error":"#REF!"}},{"$f":"VLOOKUP(C53,datakilder2!$G$14:$H$18,2,FALSE)","v":{"$error":"#N/A"}},{"$error":"#REF!"},{"$f":"IF(#REF!=datakilder2!$G$18,4,IF(#REF!=datakilder2!$G$17,3,IF(#REF!=datakilder2!$G$16,2,IF(#REF!=datakilder2!$G$15,1,1))))","v":{"$error":"#REF!"}}]
[53,null,null,{"$f":"VLOOKUP(#REF!,datakilder2!$G$14:$H$18,2,FALSE)","v":{"$error":"#REF!"}},{"$f":"VLOOKUP(#REF!,datakilder2!$G$14:$H$18,2,FALSE)","v":{"$error":"#REF!"}},{"$f":"VLOOKUP(C54,datakilder2!$G$14:$H$18,2,FALSE)","v":{"$error":"#N/A"}},{"$error":"#REF!"},{"$f":"IF(#REF!=datakilder2!$G$18,4,IF(#REF!=datakilder2!$G$17,3,IF(#REF!=datakilder2!$G$16,2,IF(#REF!=datakilder2!$G$15,1,1))))","v":{"$error":"#REF!"}}]
[54,null,null,{"$f":"VLOOKUP(#REF!,datakilder2!$G$14:$H$18,2,FALSE)","v":{"$error":"#REF!"}},{"$f":"VLOOKUP(#REF!,datakilder2!$G$14:$H$18,2,FALSE)","v":{"$error":"#REF!"}},{"$f":"VLOOKUP(C55,datakilder2!$G$14:$H$18,2,FALSE)","v":{"$error":"#N/A"}},{"$error":"#REF!"},{"$f":"IF(#REF!=datakilder2!$G$18,4,IF(#REF!=datakilder2!$G$17,3,IF(#REF!=datakilder2!$G$16,2,IF(#REF!=datakilder2!$G$15,1,1))))","v":{"$error":"#REF!"}}]
[55,null,null,{"$f":"VLOOKUP(#REF!,datakilder2!$G$14:$H$18,2,FALSE)","v":{"$error":"#REF!"}},{"$f":"VLOOKUP(#REF!,datakilder2!$G$14:$H$18,2,FALSE)","v":{"$error":"#REF!"}},{"$f":"VLOOKUP(C56,datakilder2!$G$14:$H$18,2,FALSE)","v":{"$error":"#N/A"}},{"$error":"#REF!"},{"$f":"IF(#REF!=datakilder2!$G$18,4,IF(#REF!=datakilder2!$G$17,3,IF(#REF!=datakilder2!$G$16,2,IF(#REF!=datakilder2!$G$15,1,1))))","v":{"$error":"#REF!"}}]
[56,null,null,{"$f":"VLOOKUP(#REF!,datakilder2!$G$14:$H$18,2,FALSE)","v":{"$error":"#REF!"}},{"$f":"VLOOKUP(#REF!,datakilder2!$G$14:$H$18,2,FALSE)","v":{"$error":"#REF!"}},{"$f":"VLOOKUP(C57,datakilder2!$G$14:$H$18,2,FALSE)","v":{"$error":"#N/A"}},{"$error":"#REF!"},{"$f":"IF(#REF!=datakilder2!$G$18,4,IF(#REF!=datakilder2!$G$17,3,IF(#REF!=datakilder2!$G$16,2,IF(#REF!=datakilder2!$G$15,1,1))))","v":{"$error":"#REF!"}}]
[57,null,null,{"$f":"VLOOKUP(#REF!,datakilder2!$G$14:$H$18,2,FALSE)","v":{"$error":"#REF!"}},{"$f":"VLOOKUP(#REF!,datakilder2!$G$14:$H$18,2,FALSE)","v":{"$error":"#REF!"}},{"$f":"VLOOKUP(C58,datakilder2!$G$14:$H$18,2,FALSE)","v":{"$error":"#N/A"}},{"$error":"#REF!"},{"$f":"IF(#REF!=datakilder2!$G$18,4,IF(#REF!=datakilder2!$G$17,3,IF(#REF!=datakilder2!$G$16,2,IF(#REF!=datakilder2!$G$15,1,1))))","v":{"$error":"#REF!"}}]
[58,null,null,{"$f":"VLOOKUP(#REF!,datakilder2!$G$14:$H$18,2,FALSE)","v":{"$error":"#REF!"}},{"$f":"VLOOKUP(#REF!,datakilder2!$G$14:$H$18,2,FALSE)","v":{"$error":"#REF!"}},{"$f":"VLOOKUP(C59,datakilder2!$G$14:$H$18,2,FALSE)","v":{"$error":"#N/A"}},{"$error":"#REF!"},{"$f":"IF(#REF!=datakilder2!$G$18,4,IF(#REF!=datakilder2!$G$17,3,IF(#REF!=datakilder2!$G$16,2,IF(#REF!=datakilder2!$G$15,1,1))))","v":{"$error":"#REF!"}}]
[59,null,null,{"$f":"VLOOKUP(#REF!,datakilder2!$G$14:$H$18,2,FALSE)","v":{"$error":"#REF!"}},{"$f":"VLOOKUP(#REF!,datakilder2!$G$14:$H$18,2,FALSE)","v":{"$error":"#REF!"}},{"$f":"VLOOKUP(C60,datakilder2!$G$14:$H$18,2,FALSE)","v":{"$error":"#N/A"}},{"$error":"#REF!"},{"$f":"IF(#REF!=datakilder2!$G$18,4,IF(#REF!=datakilder2!$G$17,3,IF(#REF!=datakilder2!$G$16,2,IF(#REF!=datakilder2!$G$15,1,1))))","v":{"$error":"#REF!"}}]
[60,null,null,{"$f":"VLOOKUP(#REF!,datakilder2!$G$14:$H$18,2,FALSE)","v":{"$error":"#REF!"}},{"$f":"VLOOKUP(#REF!,datakilder2!$G$14:$H$18,2,FALSE)","v":{"$error":"#REF!"}},{"$f":"VLOOKUP(C61,datakilder2!$G$14:$H$18,2,FALSE)","v":{"$error":"#N/A"}},{"$error":"#REF!"},{"$f":"IF(#REF!=datakilder2!$G$18,4,IF(#REF!=datakilder2!$G$17,3,IF(#REF!=datakilder2!$G$16,2,IF(#REF!=datakilder2!$G$15,1,1))))","v":{"$error":"#REF!"}}]
[61,null,null,{"$f":"VLOOKUP(#REF!,datakilder2!$G$14:$H$18,2,FALSE)","v":{"$error":"#REF!"}},{"$f":"VLOOKUP(#REF!,datakilder2!$G$14:$H$18,2,FALSE)","v":{"$error":"#REF!"}},{"$f":"VLOOKUP(C62,datakilder2!$G$14:$H$18,2,FALSE)","v":{"$error":"#N/A"}},{"$error":"#REF!"},{"$f":"IF(#REF!=datakilder2!$G$18,4,IF(#REF!=datakilder2!$G$17,3,IF(#REF!=datakilder2!$G$16,2,IF(#REF!=datakilder2!$G$15,1,1))))","v":{"$error":"#REF!"}}]
[62,null,null,{"$f":"VLOOKUP(#REF!,datakilder2!$G$14:$H$18,2,FALSE)","v":{"$error":"#REF!"}},{"$f":"VLOOKUP(#REF!,datakilder2!$G$14:$H$18,2,FALSE)","v":{"$error":"#REF!"}},{"$f":"VLOOKUP(C63,datakilder2!$G$14:$H$18,2,FALSE)","v":{"$error":"#N/A"}},{"$error":"#REF!"},{"$f":"IF(#REF!=datakilder2!$G$18,4,IF(#REF!=datakilder2!$G$17,3,IF(#REF!=datakilder2!$G$16,2,IF(#REF!=datakilder2!$G$15,1,1))))","v":{"$error":"#REF!"}}]
[63,null,null,{"$f":"VLOOKUP(#REF!,datakilder2!$G$14:$H$18,2,FALSE)","v":{"$error":"#REF!"}},{"$f":"VLOOKUP(#REF!,datakilder2!$G$14:$H$18,2,FALSE)","v":{"$error":"#REF!"}},{"$f":"VLOOKUP(C64,datakilder2!$G$14:$H$18,2,FALSE)","v":{"$error":"#N/A"}},{"$error":"#REF!"},{"$f":"IF(#REF!=datakilder2!$G$18,4,IF(#REF!=datakilder2!$G$17,3,IF(#REF!=datakilder2!$G$16,2,IF(#REF!=datakilder2!$G$15,1,1))))","v":{"$error":"#REF!"}}]
[64,null,null,{"$f":"VLOOKUP(#REF!,datakilder2!$G$14:$H$18,2,FALSE)","v":{"$error":"#REF!"}},{"$f":"VLOOKUP(#REF!,datakilder2!$G$14:$H$18,2,FALSE)","v":{"$error":"#REF!"}},{"$f":"VLOOKUP(C65,datakilder2!$G$14:$H$18,2,FALSE)","v":{"$error":"#N/A"}},{"$error":"#REF!"},{"$f":"IF(#REF!=datakilder2!$G$18,4,IF(#REF!=datakilder2!$G$17,3,IF(#REF!=datakilder2!$G$16,2,IF(#REF!=datakilder2!$G$15,1,1))))","v":{"$error":"#REF!"}}]
[65,null,null,{"$f":"VLOOKUP(#REF!,datakilder2!$G$14:$H$18,2,FALSE)","v":{"$error":"#REF!"}},{"$f":"VLOOKUP(#REF!,datakilder2!$G$14:$H$18,2,FALSE)","v":{"$error":"#REF!"}},{"$f":"VLOOKUP(C66,datakilder2!$G$14:$H$18,2,FALSE)","v":{"$error":"#N/A"}},{"$error":"#REF!"},{"$f":"IF(#REF!=datakilder2!$G$18,4,IF(#REF!=datakilder2!$G$17,3,IF(#REF!=datakilder2!$G$16,2,IF(#REF!=datakilder2!$G$15,1,1))))","v":{"$error":"#REF!"}}]
[66,null,null,{"$f":"VLOOKUP(#REF!,datakilder2!$G$14:$H$18,2,FALSE)","v":{"$error":"#REF!"}},{"$f":"VLOOKUP(#REF!,datakilder2!$G$14:$H$18,2,FALSE)","v":{"$error":"#REF!"}},{"$f":"VLOOKUP(C67,datakilder2!$G$14:$H$18,2,FALSE)","v":{"$error":"#N/A"}},{"$f":"IF(MAX(D67:F67)>0,MAX(D67:F67),\"\")","v":{"$error":"#REF!"}},{"$f":"IF(#REF!=datakilder2!$G$18,4,IF(#REF!=datakilder2!$G$17,3,IF(#REF!=datakilder2!$G$16,2,IF(#REF!=datakilder2!$G$15,1,1))))","v":{"$error":"#REF!"}}]
[67,null,null,{"$f":"VLOOKUP(#REF!,datakilder2!$G$14:$H$18,2,FALSE)","v":{"$error":"#REF!"}},{"$f":"VLOOKUP(#REF!,datakilder2!$G$14:$H$18,2,FALSE)","v":{"$error":"#REF!"}},{"$f":"VLOOKUP(C68,datakilder2!$G$14:$H$18,2,FALSE)","v":{"$error":"#N/A"}},{"$error":"#REF!"},{"$f":"IF(#REF!=datakilder2!$G$18,4,IF(#REF!=datakilder2!$G$17,3,IF(#REF!=datakilder2!$G$16,2,IF(#REF!=datakilder2!$G$15,1,1))))","v":{"$error":"#REF!"}}]
[68,null,null,{"$f":"VLOOKUP(#REF!,datakilder2!$G$14:$H$18,2,FALSE)","v":{"$error":"#REF!"}},{"$f":"VLOOKUP(#REF!,datakilder2!$G$14:$H$18,2,FALSE)","v":{"$error":"#REF!"}},{"$f":"VLOOKUP(C69,datakilder2!$G$14:$H$18,2,FALSE)","v":{"$error":"#N/A"}},{"$error":"#REF!"},{"$f":"IF(#REF!=datakilder2!$G$18,4,IF(#REF!=datakilder2!$G$17,3,IF(#REF!=datakilder2!$G$16,2,IF(#REF!=datakilder2!$G$15,1,1))))","v":{"$error":"#REF!"}}]
[69,null,null,{"$f":"VLOOKUP(#REF!,datakilder2!$G$14:$H$18,2,FALSE)","v":{"$error":"#REF!"}},{"$f":"VLOOKUP(#REF!,datakilder2!$G$14:$H$18,2,FALSE)","v":{"$error":"#REF!"}},{"$f":"VLOOKUP(C70,datakilder2!$G$14:$H$18,2,FALSE)","v":{"$error":"#N/A"}},{"$error":"#REF!"},{"$f":"IF(#REF!=datakilder2!$G$18,4,IF(#REF!=datakilder2!$G$17,3,IF(#REF!=datakilder2!$G$16,2,IF(#REF!=datakilder2!$G$15,1,1))))","v":{"$error":"#REF!"}}]
[70,null,null,{"$f":"VLOOKUP(#REF!,datakilder2!$G$14:$H$18,2,FALSE)","v":{"$error":"#REF!"}},{"$f":"VLOOKUP(#REF!,datakilder2!$G$14:$H$18,2,FALSE)","v":{"$error":"#REF!"}},{"$f":"VLOOKUP(C71,datakilder2!$G$14:$H$18,2,FALSE)","v":{"$error":"#N/A"}},{"$error":"#REF!"},{"$f":"IF(#REF!=datakilder2!$G$18,4,IF(#REF!=datakilder2!$G$17,3,IF(#REF!=datakilder2!$G$16,2,IF(#REF!=datakilder2!$G$15,1,1))))","v":{"$error":"#REF!"}}]
[71,null,null,{"$f":"VLOOKUP(#REF!,datakilder2!$G$14:$H$18,2,FALSE)","v":{"$error":"#REF!"}},{"$f":"VLOOKUP(#REF!,datakilder2!$G$14:$H$18,2,FALSE)","v":{"$error":"#REF!"}},{"$f":"VLOOKUP(C72,datakilder2!$G$14:$H$18,2,FALSE)","v":{"$error":"#N/A"}},{"$error":"#REF!"},{"$f":"IF(#REF!=datakilder2!$G$18,4,IF(#REF!=datakilder2!$G$17,3,IF(#REF!=datakilder2!$G$16,2,IF(#REF!=datakilder2!$G$15,1,1))))","v":{"$error":"#REF!"}}]
[72,null,null,{"$f":"VLOOKUP(#REF!,datakilder2!$G$14:$H$18,2,FALSE)","v":{"$error":"#REF!"}},{"$f":"VLOOKUP(#REF!,datakilder2!$G$14:$H$18,2,FALSE)","v":{"$error":"#REF!"}},{"$f":"VLOOKUP(C73,datakilder2!$G$14:$H$18,2,FALSE)","v":{"$error":"#N/A"}},{"$error":"#REF!"},{"$f":"IF(#REF!=datakilder2!$G$18,4,IF(#REF!=datakilder2!$G$17,3,IF(#REF!=datakilder2!$G$16,2,IF(#REF!=datakilder2!$G$15,1,1))))","v":{"$error":"#REF!"}}]
[73,null,null,{"$f":"VLOOKUP(#REF!,datakilder2!$G$14:$H$18,2,FALSE)","v":{"$error":"#REF!"}},{"$f":"VLOOKUP(#REF!,datakilder2!$G$14:$H$18,2,FALSE)","v":{"$error":"#REF!"}},{"$f":"VLOOKUP(C74,datakilder2!$G$14:$H$18,2,FALSE)","v":{"$error":"#N/A"}},{"$error":"#REF!"},{"$f":"IF(#REF!=datakilder2!$G$18,4,IF(#REF!=datakilder2!$G$17,3,IF(#REF!=datakilder2!$G$16,2,IF(#REF!=datakilder2!$G$15,1,1))))","v":{"$error":"#REF!"}}]
[74,null,null,{"$f":"VLOOKUP(#REF!,datakilder2!$G$14:$H$18,2,FALSE)","v":{"$error":"#REF!"}},{"$f":"VLOOKUP(#REF!,datakilder2!$G$14:$H$18,2,FALSE)","v":{"$error":"#REF!"}},{"$f":"VLOOKUP(C75,datakilder2!$G$14:$H$18,2,FALSE)","v":{"$error":"#N/A"}},{"$error":"#REF!"},{"$f":"IF(#REF!=datakilder2!$G$18,4,IF(#REF!=datakilder2!$G$17,3,IF(#REF!=datakilder2!$G$16,2,IF(#REF!=datakilder2!$G$15,1,1))))","v":{"$error":"#REF!"}}]
[75,null,null,{"$f":"VLOOKUP(#REF!,datakilder2!$G$14:$H$18,2,FALSE)","v":{"$error":"#REF!"}},{"$f":"VLOOKUP(#REF!,datakilder2!$G$14:$H$18,2,FALSE)","v":{"$error":"#REF!"}},{"$f":"VLOOKUP(C76,datakilder2!$G$14:$H$18,2,FALSE)","v":{"$error":"#N/A"}},{"$error":"#REF!"},{"$f":"IF(#REF!=datakilder2!$G$18,4,IF(#REF!=datakilder2!$G$17,3,IF(#REF!=datakilder2!$G$16,2,IF(#REF!=datakilder2!$G$15,1,1))))","v":{"$error":"#REF!"}}]
[76,null,null,{"$f":"VLOOKUP(#REF!,datakilder2!$G$14:$H$18,2,FALSE)","v":{"$error":"#REF!"}},{"$f":"VLOOKUP(#REF!,datakilder2!$G$14:$H$18,2,FALSE)","v":{"$error":"#REF!"}},{"$f":"VLOOKUP(C77,datakilder2!$G$14:$H$18,2,FALSE)","v":{"$error":"#N/A"}},{"$error":"#REF!"},{"$f":"IF(#REF!=datakilder2!$G$18,4,IF(#REF!=datakilder2!$G$17,3,IF(#REF!=datakilder2!$G$16,2,IF(#REF!=datakilder2!$G$15,1,1))))","v":{"$error":"#REF!"}}]
[77,null,null,{"$f":"VLOOKUP(#REF!,datakilder2!$G$14:$H$18,2,FALSE)","v":{"$error":"#REF!"}},{"$f":"VLOOKUP(#REF!,datakilder2!$G$14:$H$18,2,FALSE)","v":{"$error":"#REF!"}},{"$f":"VLOOKUP(C78,datakilder2!$G$14:$H$18,2,FALSE)","v":{"$error":"#N/A"}},{"$error":"#REF!"},{"$f":"IF(#REF!=datakilder2!$G$18,4,IF(#REF!=datakilder2!$G$17,3,IF(#REF!=datakilder2!$G$16,2,IF(#REF!=datakilder2!$G$15,1,1))))","v":{"$error":"#REF!"}}]
[78,null,null,null,null,null,{"$f":"IF(MAX(C79:C79)>0,MAX(C79:C79),\"\")","v":""}]
[79,null,null,null,null,null,""]
[80,null,null,null,null,null,""]
[81,null,null,null,null,null,""]
[82,null,null,null,null,null,""]
[83,null,null,null,null,null,""]
[84,null,null,null,null,null,""]
[85,null,null,null,null,null,""]
[86,null,null,null,null,null,""]
[87,null,null,null,null,null,""]
[88,null,null,null,null,null,""]
[89,null,null,null,null,null,""]
[90,null,null,null,null,null,""]
[91,null,null,null,null,null,""]
[92,null,null,null,null,null,""]
[93,null,null,null,null,null,""]
[94,null,null,null,null,null,""]
[95,null,null,null,null,null,""]
[96,null,null,null,null,null,""]
[97,null,null,null,null,null,""]
[98,null,null,null,null,null,""]
[99,null,null,null,null,null,""]
[100,null,null,null,null,null,""]
[101,null,null,null,null,null,""]
[102,null,null,null,null,null,""]
[103,null,null,null,null,null,""]
[104,null,null,null,null,null,""]
[105,null,null,null,null,null,""]
[106,null,null,null,null,null,""]
[107,null,null,null,null,null,""]
[108,null,null,null,null,null,""]
[109,null,null,null,null,null,""]
[110,null,null,null,null,null,""]
[111,null,null,null,null,null,""]
[112,null,null,null,null,null,""]
[113,null,null,null,null,null,""]
[114,null,null,null,null,null,""]
[115,null,null,null,null,null,""]
[116,null,null,null,null,null,""]
[117,null,null,null,null,null,""]
[118,null,null,null,null,null,""]
[119,null,null,null,null,null,""]
[120,null,null,null,null,null,""]
[121,null,null,null,null,null,""]
[122,null,null,null,null,null,""]
[123,null,null,null,null,null,""]
[124,null,null,null,null,null,""]
[125,null,null,null,null,null,""]
[126,null,null,null,null,null,""]
[127,null,null,null,null,null,""]
[128,null,null,null,null,null,""]
[129,null,null,null,null,null,""]
[130,null,null,null,null,null,""]
[131,null,null,null,null,null,""]
[132,null,null,null,null,null,""]
[133,null,null,null,null,null,""]
[134,null,null,null,null,null,""]
[135,null,null,null,null,null,""]
[136,null,null,null,null,null,""]
[137,null,null,null,null,null,""]
[138,null,null,null,null,null,""]
[139,null,null,null,null,null,""]
[140,null,null,null,null,null,""]
[141,null,null,null,null,null,""]
[142,null,null,null,null,null,{"$f":"IF(MAX(C143:C143)>0,MAX(C143:C143),\"\")","v":""}]
[143,null,null,null,null,null,""]
[144,null,null,null,null,null,""]
[145,null,null,null,null,null,""]
[146,null,null,null,null,null,""]
[147,null,null,null,null,null,""]
[148,null,null,null,null,null,""]
[149,null,null,null,null,null,""]
[150]
[151]
[152]
[153]
[154]
[155]
[156]
[157]
[158]
[159]
[160]
[161]
[162]
[163]
[164]
[165]
[166]
[167]
[168]
[169]
[170]
[171]
[172]
[173]
[174]
[175]
[176]
[177]
[178]
[179]
[180]
[181]
[182]
[183]
[184]
[185]
[186]
[187]
[188]
[189]
[190]
[191]
[192]
[193]
[194]
[195]
[196]
[197]
[198]
[199]
[200]
[201]
[202]
[203]
[204]
[205]
[206]
[207]
[208]
[209]
[210]
[211]
[212]
[213]
[214]
[215]
[216]
[217]
[218]
[219]
[220]
[221]
[222]
[223]
[224]
[225]
[226]
[227]
[228]
[229]
[230]
[231]
[232]
[233]
[234]
[235]
[236]
[237]
[238]
[239]
[240]
[241]
[242]
[243]
[244]
[245]
[246]
[247]
[248]
[249]
[250]
[251]
[252]
[253]
[254]
[255]
[256]
[257]
[258]
[259]
[260]
[261]
[262]
[263]
[264]
[265]
[266]
[267]
[268]
[269]
[270]
[271]
[272]
[273]
[274]
[275]
[276]
[277]
[278]
[279]
[280]
[281]
[282]
[283]
[284]
[285]
[286]
[287]
[288]
[289]
[290]
[291]
[292]
[293]
[294]
[295]
[296]
[297]
[298]
[299]
[300]
[301]
[302]
[303]
[304]
[305]
[306]
[307]
[308]
[309]
[310]
[311]
[312]
[313]
[314]
[315]
[316]
[317]
[318]
[319]
[320]
[321]
[322]
[323]
[324]
[325]
[326]
[327]
[328]
[329]
[330]
[331]
[332]
[333]
[334]
[335]
[336]
[337]
[338]
[339]
[340]
[341]
[342]
[343]
[344]
[345]
[346]
[347]
[348]
[349]
[350]
[351]
[352]
[353]
[354]
[355]
[356]
[357]
[358]
[359]
[360]
[361]
[362]
[363]
[364]
[365]
[366]
[367]
[368]
[369]
[370]
[371]
[372]
[373]
[374]
[375]
[376]
[377]
[378]
[379]
[380]
[381]
[382]
[383]
[384]
[385]
[386]
[387]
[388]
[389]
[390]
[391]
[392]
[393]
[394]
[395]
[396]
[397]
[398]
[399]
[400]
[401]
[402]
[403]
[404]
[405]
[406]
[407]
[408]
[409]
[410]
[411]
[412]
[413]
[414]
[415]
[416]
[417]
[418]
[419]
[420]
[421]
[422]
[423]
[424]
[425]
[426]
[427]
[428]
[429]
[430]
[431]
[432]
[433]
[434]
[435]
[436]
[437]
[438]
[439]
[440]
[441]
[442]
[443]
[444]
[445]
[446]
[447]
[448]
[449]
[450]
[451]
[452]
[453]
[454]
[455]
[456]
[457]
[458]
[459]
[460]
[461]
[462]
[463]
[464]
[465]
[466]
[467]
[468]
[469]
[470]
[471]
[472]
[473]
[474]
[475]
[476]
[477]
[478]
[479]
[480]
[481]
[482]
[483]
[484]
[485]
[486]
[487]
[488]
[489]
[490]
[491]
[492]
[493]
[494]
[495]
[496]
[497]
[498]
[499]
[500]
[501]
[502]
[503]
[504]
[505]
[506]
[507]
[508]
[509]
[510]
[511]
[512]
[513]
[514]
[515]
[516]
[517]
[518]
[519]
[520]
[521]
[522]
[523]
[524]
[525]
[526]
[527]
[528]
[529]
[530]
[531]
[532]
[533]
[534]
[535]
[536]
[537]
[538]
[539]
[540]
[541]
[542]
[543]
[544]
[545]
[546]
[547]
[548]
[549]
[550]
[551]
[552]
[553]
[554]
[555]
[556]
[557]
[558]
[559]
[560]
[561]
[562]
[563]
[564]
[565]
[566]
[567]
[568]
[569]
[570]
[571]
[572]
[573]
[574]
[575]
[576]
[577]
[578]
[579]
[580]
[581]
[582]
[583]
[584]
[585]
[586]
[587]
[588]
[589]
[590]
[591]
[592]
[593]
[594]
[595]
[596]
[597]
[598]
[599]
[600]
[601]
[602]
[603]
[604]
[605]
[606]
[607]
[608]
[609]
[610]
[611]
[612]
[613]
[614]
[615]
[616]
[617]
[618]
[619]
[620]
[621]
[622]
[623]
[624]
[625]
[626]
[627]
[628]
[629]
[630]
[631]
[632]
[633]
[634]
[635]
[636]
[637]
[638]
[639]
[640]
[641]
[642]
[643]
[644]
[645]
[646]
[647]
[648]
[649]
[650]
[651]
[652]
[653]
[654]
[655]
[656]
[657]
[658]
[659]
[660]
[661]
[662]
[663]
[664]
[665]
[666]
[667]
[668]
[669]
[670]
[671]
[672]
[673]
[674]
[675]
[676]
[677]
[678]
[679]
[680]
[681]
[682]
[683]
[684]
[685]
[686]
[687]
[688]
[689]
[690]
[691]
[692]
[693]
[694]
[695]
[696]
[697]
[698]
[699]
[700]
[701]
[702]
[703]
[704]
[705]
[706]
[707]
[708]
[709]
[710]
[711]
[712]
[713]
[714]
[715]
[716]
[717]
[718]
[719]
[720]
[721]
[722]
[723]
[724]
[725]
[726]
[727]
[728]
[729]
[730]
[731]
[732]
[733]
[734]
[735]
[736]
[737]
[738]
[739]
[740]
[741]
[742]
[743]
[744]
[745]
[746]
[747]
[748]
[749]
[750]
[751]
[752]
[753]
[754]
[755]
[756]
[757]
[758]
[759]
[760]
[761]
[762]
[763]
[764]
[765]
[766]
[767]
[768]
[769]
[770]
[771]
[772]
[773]
[774]
[775]
[776]
[777]
[778]
[779]
[780]
[781]
[782]
[783]
[784]
[785]
[786]
[787]
[788]
[789]
[790]
[791]
[792]
[793]
[794]
[795]
[796]
[797]
[798]
[799]
[800]
[801]
[802]
[803]
[804]
[805]
[806]
[807]
[808]
[809]
[810]
[811]
[812]
[813]
[814]
[815]
[816]
[817]
[818]
[819]
[820]
[821]
[822]
[823]
[824]
[825]
[826]
[827]
[828]
[829]
[830]
[831]
[832]
[833]
[834]
[835]
[836]
[837]
[838]
[839]
[840]
[841]
[842]
[843]
[844]
[845]
[846]
[847]
[848]
[849]
[850]
[851]
[852]
[853]
[854]
[855]
[856]
[857]
[858]
[859]
[860]
[861]
[862]
[863]
[864]
[865]
[866]
[867]
[868]
[869]
[870]
[871]
[872]
[873]
[874]
[875]
[876]
[877]
[878]
[879]
[880]
[881]
[882]
[883]
[884]
[885]
[886]
[887]
[888]
[889]
[890]
[891]
[892]
[893]
[894]
[895]
[896]
[897]
[898]
[899]
[900]
[901]
[902]
[903]
[904]
[905]
[906]
[907]
[908]
[909]
[910]
[911]
[912]
[913]
[914]
[915]
[916]
[917]
[918]
[919]
[920]
[921]
[922]
[923]
[924]
[925]
[926]
[927]
[928]
[929]
[930]
[931]
[932]
[933]
[934]
[935]
[936]
[937]
[938]
[939]
[940]
[941]
[942]
[943]
[944]
[945]
[946]
[947]
[948]
[949]
[950]
[951]
[952]
[953]
[954]
[955]
[956]
[957]
[958]
[959]
[960]
[961]
[962]
[963]
[964]
[965]
[966]
[967]
[968]
[969]
[970]
[971]
[972]
[973]
[974]
[975]
[976]
[977]
[978]
[979]
[980]
[981]
[982]
[983]
[984]
[985]
[986]
[987]
[988]
[989]
[990]
[991]
[992]
[993]
[994]
[995]
[996]
[997]
[998]
[999]

{"sheet":"Ark1","index":8,"n_rows":0,"n_cols":0,"rows_kept":0,"cut":false,"hidden":false,"merged":[]}

{"sheet":"datakilder","index":9,"n_rows":17,"n_cols":5,"rows_kept":17,"cut":false,"hidden":true,"merged":[]}
["IKKE SLETT!"]
[null,null,"Skala numerisk",null,"Skala_tekst"]
[null,null,1,"=","Ubetydelig"]
[null,null,2,"=","Lav"]
[null,null,3,"=","Moderat"]
[null,null,4,"=","Alvorlig"]
[null,null,5,"=","Svært alvorlig"]
[]
[]
[]
[]
[null,null,"Skala sannsynlighet"]
[null,null,1,"=","Meget liten"]
[null,null,2,"=","Liten"]
[null,null,3,"=","Moderat"]
[null,null,4,"=","Stor"]
[null,null,5,"=","Svært stor"]

{"sheet":"datakilder2","index":10,"n_rows":24,"n_cols":14,"rows_kept":24,"cut":false,"hidden":true,"merged":[[6,2,6,3],[6,4,6,5]]}
["IKKE SLETT!"]
[null,null,"Skala numerisk",null,"Skala_tekst",null,"Skala_sårbarheter"]
[null,null,1,"=","Lav",null,"Lav"]
[null,null,2,"=","Medium",null,"Medium"]
[null,null,3,"=","Høy",null,"Høy"]
[null,null,4,"=","Kritisk",null,"Svært høy"]
[null,null,"Aktør",null,"Fenomen"]
["x","5 - Svært høyt",">",261,">",3499]
[null,"4 - Høyt",">",214,">",2499]
[null,"3 - Middels",">",131,">",499]
[null,"2 - Lavt",">",39,">",49,null,null,null,null,null,null,"Lavt",50]
[null,"1 - Ubetydelig",">",0,">",0,null,null,null,null,null,null,"Ubetydelig",10]
[null,"0 - Uklart","=","0","=",0,null,null,null,null,null,null,"Min",0]
[null,null,null,null,"Ubetydelig",null,"Ubetydelig",1,"Ubetydelig",null,"Kasseres etter 1-5 år"]
[null,null,"Ja/nei",1,"Lav","Lav","Lav ",2,"Lav",null,"Kasseres etter 6-10 år"]
[null,null,"Ja",2,"Moderat","Medium","Moderat",3,"Moderat",null,"Kasseres etter 11-20 år"]
[null,null,"Nei",3,"Alvorlig","Høy","Alvorlig",4,"Alvorlig",null,"Kassasjon 20 år etter MORS"]
[null,null,null,4,"Svært alvorlig","Svært høy","Svært alvorlig",5,"Svært alvorlig",null,"Bevares"]
[]
[]
[]
[null,"Lite"]
[null,"Middels"]
[null,"Stort"]